BEGIN:VCALENDAR
VERSION:2.0
PRODID:-//Sabre//Sabre VObject 4.5.8//EN
CALSCALE:GREGORIAN
NAME:Web Performance Working Group Calendar
X-WR-CALNAME:Web Performance Working Group Calendar
LAST-MODIFIED:20251108T191211Z
BEGIN:VTIMEZONE
TZID:America/Vancouver
BEGIN:STANDARD
DTSTART:20211107T090000
TZOFFSETFROM:-0700
TZOFFSETTO:-0800
TZNAME:PST
END:STANDARD
BEGIN:STANDARD
DTSTART:20221106T090000
TZOFFSETFROM:-0700
TZOFFSETTO:-0800
TZNAME:PST
END:STANDARD
BEGIN:DAYLIGHT
DTSTART:20220313T100000
TZOFFSETFROM:-0800
TZOFFSETTO:-0700
TZNAME:PDT
END:DAYLIGHT
END:VTIMEZONE
BEGIN:VTIMEZONE
TZID:Europe/Madrid
BEGIN:STANDARD
DTSTART:20221030T010000
TZOFFSETFROM:+0200
TZOFFSETTO:+0100
TZNAME:CET
END:STANDARD
BEGIN:STANDARD
DTSTART:20231029T010000
TZOFFSETFROM:+0200
TZOFFSETTO:+0100
TZNAME:CET
END:STANDARD
BEGIN:DAYLIGHT
DTSTART:20230326T010000
TZOFFSETFROM:+0100
TZOFFSETTO:+0200
TZNAME:CEST
END:DAYLIGHT
END:VTIMEZONE
BEGIN:VTIMEZONE
TZID:America/Los_Angeles
X-MICROSOFT-CDO-TZID:13
BEGIN:STANDARD
DTSTART:20231105T090000
TZOFFSETFROM:-0700
TZOFFSETTO:-0800
TZNAME:PST
END:STANDARD
BEGIN:STANDARD
DTSTART:20241103T090000
TZOFFSETFROM:-0700
TZOFFSETTO:-0800
TZNAME:PST
END:STANDARD
BEGIN:DAYLIGHT
DTSTART:20240310T100000
TZOFFSETFROM:-0800
TZOFFSETTO:-0700
TZNAME:PDT
END:DAYLIGHT
END:VTIMEZONE
BEGIN:VTIMEZONE
TZID:Asia/Tokyo
X-MICROSOFT-CDO-TZID:20
BEGIN:STANDARD
DTSTART:20241115T000000
TZOFFSETFROM:+0900
TZOFFSETTO:+0900
TZNAME:JST
END:STANDARD
END:VTIMEZONE
BEGIN:VEVENT
UID:e5508a6c-fbe8-4aee-965e-22432e9d3290
DTSTAMP:20220906T093306Z
SUMMARY:Web Performance Working Group
DTSTART;TZID=America/Vancouver:20220912T090000
DTEND;TZID=America/Vancouver:20220912T120000
DESCRIPTION:https://www.w3.org/events/meetings/e5508a6c-fbe8-4aee-965e-2243
 2e9d3290/\n\n\n\nAgenda: https://docs.google.com/document/d/1RbszCu4NG-fcR
 RoL1TsP6SvjohIuz-uxv5NZm_6iA4U/edit#\n\nAgenda\n\nMorning break: 10:30-10:
 45am
STATUS:CONFIRMED
CREATED:20220608T075955Z
LAST-MODIFIED:20220906T093306Z
SEQUENCE:4
ORGANIZER;CN=W3C Calendar;PARTSTAT=ACCEPTED;ROLE=NON-PARTICIPANT:mailto:nor
 eply@w3.org
ATTENDEE;CUTYPE=GROUP;ROLE=OPT-PARTICIPANT;RSVP=FALSE;CN=Web Performance Wo
 rking Group:mailto:public-web-perf@w3.org
LOCATION:Junior A - North Tower 3rd floor
CATEGORIES:TPAC 2022,Group Meetings
RRULE:FREQ=DAILY;UNTIL=20220913T160000Z;INTERVAL=1;WKST=MO
END:VEVENT
BEGIN:VEVENT
UID:e5508a6c-fbe8-4aee-965e-22432e9d3290
DTSTAMP:20220914T175305Z
SUMMARY:Web Performance Working Group including Joint meeting with Accessib
 le Platform Architectures Working Group
DTSTART;TZID=America/Vancouver:20220913T090000
DTEND;TZID=America/Vancouver:20220913T120000
DESCRIPTION:https://www.w3.org/events/meetings/e5508a6c-fbe8-4aee-965e-2243
 2e9d3290/20220913T090000/\n\n\n\nAgenda: https://docs.google.com/document/
 d/1RbszCu4NG-fcRRoL1TsP6SvjohIuz-uxv5NZm_6iA4U/edit#\n\nAgenda\n\nMorning 
 break: 10:30-10:45am
STATUS:CONFIRMED
CREATED:20220905T103824Z
LAST-MODIFIED:20220914T175305Z
SEQUENCE:5
ORGANIZER;CN=W3C Calendar;PARTSTAT=ACCEPTED;ROLE=NON-PARTICIPANT:mailto:nor
 eply@w3.org
ATTENDEE;CUTYPE=GROUP;ROLE=OPT-PARTICIPANT;RSVP=FALSE;CN=Accessible Platfor
 m Architectures Working Group:mailto:public-apa@w3.org
ATTENDEE;CUTYPE=GROUP;ROLE=OPT-PARTICIPANT;RSVP=FALSE;CN=Web Performance Wo
 rking Group:mailto:public-web-perf@w3.org
LOCATION:[Granville - South Tower 4th floor](https://cache.marriott.com/con
 tent/dam/marriott-digital/si/us-canada/hws/y/yvrws/en_us/floor-plan/meetin
 g-space/assets/yvrwsf09.png?output-quality=70&interpolation=progressive-bi
 linear&downsize=686px:*)
CATEGORIES:TPAC 2022,Group Meetings
RECURRENCE-ID;TZID=America/Vancouver:20220913T090000
END:VEVENT
BEGIN:VEVENT
UID:e5508a6c-fbe8-4aee-965e-22432e9d3290
DTSTAMP:20220912T144453Z
SUMMARY:Web Performance Working Group
DTSTART;TZID=America/Vancouver:20220912T090000
DTEND;TZID=America/Vancouver:20220912T120000
DESCRIPTION:https://www.w3.org/events/meetings/e5508a6c-fbe8-4aee-965e-2243
 2e9d3290/20220912T090000/\n\n\n\nAgenda: https://docs.google.com/document/
 d/1RbszCu4NG-fcRRoL1TsP6SvjohIuz-uxv5NZm_6iA4U/edit#\n\nAgenda\n\nMorning 
 break: 10:30-10:45am
STATUS:CONFIRMED
CREATED:20220906T092430Z
LAST-MODIFIED:20220912T144453Z
SEQUENCE:6
ORGANIZER;CN=W3C Calendar;PARTSTAT=ACCEPTED;ROLE=NON-PARTICIPANT:mailto:nor
 eply@w3.org
ATTENDEE;CUTYPE=GROUP;ROLE=OPT-PARTICIPANT;RSVP=FALSE;CN=Web Performance Wo
 rking Group:mailto:public-web-perf@w3.org
LOCATION:[Junior A - North Tower 3rd floor](https://cache.marriott.com/cont
 ent/dam/marriott-digital/si/us-canada/hws/y/yvrws/en_us/floor-plan/meeting
 -space/assets/yvrwsf02.png?output-quality=70&interpolation=progressive-bil
 inear&downsize=686px:*)
CATEGORIES:TPAC 2022,Group Meetings
RECURRENCE-ID;TZID=America/Vancouver:20220912T090000
END:VEVENT
BEGIN:VEVENT
UID:1250844f-b689-4a9c-84d6-8833068ef48f
DTSTAMP:20220906T093326Z
SUMMARY:Web Performance Working Group
DTSTART;TZID=America/Vancouver:20220915T090000
DTEND;TZID=America/Vancouver:20220915T120000
DESCRIPTION:https://www.w3.org/events/meetings/1250844f-b689-4a9c-84d6-8833
 068ef48f/\n\n\n\nAgenda: https://docs.google.com/document/d/1RbszCu4NG-fcR
 RoL1TsP6SvjohIuz-uxv5NZm_6iA4U/edit#\n\nAgenda\n\nMorning break: 10:30-10:
 45am
STATUS:CONFIRMED
CREATED:20220905T154907Z
LAST-MODIFIED:20220906T093326Z
SEQUENCE:3
ORGANIZER;CN=W3C Calendar;PARTSTAT=ACCEPTED;ROLE=NON-PARTICIPANT:mailto:nor
 eply@w3.org
ATTENDEE;CUTYPE=GROUP;ROLE=OPT-PARTICIPANT;RSVP=FALSE;CN=Web Performance Wo
 rking Group:mailto:public-web-perf@w3.org
LOCATION:Finback - 3rd floor Concourse
CATEGORIES:TPAC 2022,Group Meetings
RRULE:FREQ=DAILY;UNTIL=20220916T160000Z;INTERVAL=1;WKST=MO
END:VEVENT
BEGIN:VEVENT
UID:1250844f-b689-4a9c-84d6-8833068ef48f
DTSTAMP:20220914T171916Z
SUMMARY:Web Performance Working Group
DTSTART;TZID=America/Vancouver:20220916T090000
DTEND;TZID=America/Vancouver:20220916T120000
DESCRIPTION:https://www.w3.org/events/meetings/1250844f-b689-4a9c-84d6-8833
 068ef48f/20220916T090000/\n\n\n\nAgenda: https://docs.google.com/document/
 d/1RbszCu4NG-fcRRoL1TsP6SvjohIuz-uxv5NZm_6iA4U/edit#\n\nAgenda\n\nMorning 
 break: 10:30-10:45am
STATUS:CONFIRMED
CREATED:20220905T174242Z
LAST-MODIFIED:20220914T171916Z
SEQUENCE:8
ORGANIZER;CN=W3C Calendar;PARTSTAT=ACCEPTED;ROLE=NON-PARTICIPANT:mailto:nor
 eply@w3.org
ATTENDEE;CUTYPE=GROUP;ROLE=OPT-PARTICIPANT;RSVP=FALSE;CN=Web Performance Wo
 rking Group:mailto:public-web-perf@w3.org
LOCATION:Port McNeill - North Tower 4th floor
CATEGORIES:TPAC 2022,Group Meetings
RECURRENCE-ID;TZID=America/Vancouver:20220916T090000
END:VEVENT
BEGIN:VEVENT
UID:1250844f-b689-4a9c-84d6-8833068ef48f
DTSTAMP:20220915T055420Z
SUMMARY:Web Performance Working Group (Including meeting with PING)
DTSTART;TZID=America/Vancouver:20220915T090000
DTEND;TZID=America/Vancouver:20220915T120000
DESCRIPTION:https://www.w3.org/events/meetings/1250844f-b689-4a9c-84d6-8833
 068ef48f/20220915T090000/\n\n\n\nAgenda: https://docs.google.com/document/
 d/1RbszCu4NG-fcRRoL1TsP6SvjohIuz-uxv5NZm_6iA4U/edit#\n\nAgenda\n\nMorning 
 break: 10:30-10:45am
STATUS:CONFIRMED
CREATED:20220906T093053Z
LAST-MODIFIED:20220915T055420Z
SEQUENCE:5
ORGANIZER;CN=W3C Calendar;PARTSTAT=ACCEPTED;ROLE=NON-PARTICIPANT:mailto:nor
 eply@w3.org
ATTENDEE;CUTYPE=GROUP;ROLE=OPT-PARTICIPANT;RSVP=FALSE;CN=Web Performance Wo
 rking Group:mailto:public-web-perf@w3.org
LOCATION:[Finback - 3rd floor Concourse](https://cache.marriott.com/content
 /dam/marriott-digital/si/us-canada/hws/y/yvrws/en_us/floor-plan/meeting-sp
 ace/assets/yvrwsf07.png?output-quality=70&interpolation=progressive-biline
 ar&downsize=686px:*)
CATEGORIES:TPAC 2022,Group Meetings
RECURRENCE-ID;TZID=America/Vancouver:20220915T090000
END:VEVENT
BEGIN:VEVENT
UID:92d6fc46-4c9a-4c41-95ed-69ff98bcd0f6
DTSTAMP:20230911T124533Z
SUMMARY:Web Performance WG
DTSTART;TZID=Europe/Madrid:20230911T113000
DTEND;TZID=Europe/Madrid:20230911T163000
DESCRIPTION:https://www.w3.org/events/meetings/92d6fc46-4c9a-4c41-95ed-69ff
 98bcd0f6/\n\nAgenda: https://bit.ly/webperf-tpac23
STATUS:CONFIRMED
CREATED:20230612T175925Z
LAST-MODIFIED:20230911T124533Z
SEQUENCE:2
ORGANIZER;CN=W3C Calendar;PARTSTAT=ACCEPTED;ROLE=NON-PARTICIPANT:mailto:nor
 eply@w3.org
ATTENDEE;CUTYPE=GROUP;ROLE=OPT-PARTICIPANT;RSVP=FALSE;CN=Web Performance Wo
 rking Group:mailto:public-web-perf@w3.org
LOCATION:Ecija\, 1st floor
CATEGORIES:TPAC 2023,Group Meetings
END:VEVENT
BEGIN:VEVENT
UID:03377e60-cdfc-481b-8d0e-b7d9633676b3
DTSTAMP:20230912T080756Z
SUMMARY:Web Performance WG
DTSTART;TZID=Europe/Madrid:20230912T143000
DTEND;TZID=Europe/Madrid:20230912T183000
DESCRIPTION:https://www.w3.org/events/meetings/03377e60-cdfc-481b-8d0e-b7d9
 633676b3/\n\nAgenda: https://bit.ly/webperf-tpac23
STATUS:CONFIRMED
CREATED:20230612T180033Z
LAST-MODIFIED:20230912T080756Z
SEQUENCE:1
ORGANIZER;CN=W3C Calendar;PARTSTAT=ACCEPTED;ROLE=NON-PARTICIPANT:mailto:nor
 eply@w3.org
ATTENDEE;CUTYPE=GROUP;ROLE=OPT-PARTICIPANT;RSVP=FALSE;CN=Web Performance Wo
 rking Group:mailto:public-web-perf@w3.org
LOCATION:Ecija\, 1st floor
CATEGORIES:TPAC 2023,Group Meetings
END:VEVENT
BEGIN:VEVENT
UID:ae5d5087-b0a3-4bb9-9998-db725efa18eb
DTSTAMP:20230914T110515Z
SUMMARY:Web Performance WG
DTSTART;TZID=Europe/Madrid:20230914T143000
DTEND;TZID=Europe/Madrid:20230914T183000
DESCRIPTION:https://www.w3.org/events/meetings/ae5d5087-b0a3-4bb9-9998-db72
 5efa18eb/\n\nAgenda: https://bit.ly/webperf-tpac23
STATUS:CONFIRMED
CREATED:20230612T180210Z
LAST-MODIFIED:20230914T110515Z
SEQUENCE:1
ORGANIZER;CN=W3C Calendar;PARTSTAT=ACCEPTED;ROLE=NON-PARTICIPANT:mailto:nor
 eply@w3.org
ATTENDEE;CUTYPE=GROUP;ROLE=OPT-PARTICIPANT;RSVP=FALSE;CN=Web Performance Wo
 rking Group:mailto:public-web-perf@w3.org
LOCATION:Ecija\, 1st floor
CATEGORIES:TPAC 2023,Group Meetings
END:VEVENT
BEGIN:VEVENT
UID:03f370fe-cf61-45b0-8beb-fe74e97d8995
DTSTAMP:20230915T071209Z
SUMMARY:Web Performance WG
DTSTART;TZID=Europe/Madrid:20230915T113000
DTEND;TZID=Europe/Madrid:20230915T163000
DESCRIPTION:https://www.w3.org/events/meetings/03f370fe-cf61-45b0-8beb-fe74
 e97d8995/\n\nAgenda: https://bit.ly/webperf-tpac23
STATUS:CONFIRMED
CREATED:20230612T180345Z
LAST-MODIFIED:20230915T071209Z
SEQUENCE:2
ORGANIZER;CN=W3C Calendar;PARTSTAT=ACCEPTED;ROLE=NON-PARTICIPANT:mailto:nor
 eply@w3.org
ATTENDEE;CUTYPE=GROUP;ROLE=OPT-PARTICIPANT;RSVP=FALSE;CN=Web Performance Wo
 rking Group:mailto:public-web-perf@w3.org
LOCATION:Ecija\, 1st floor
CATEGORIES:TPAC 2023,Group Meetings
END:VEVENT
BEGIN:VEVENT
UID:fe612eac-c026-4ff7-9ecc-96a7e60a8e38
DTSTAMP:20240927T211131Z
SUMMARY:WHATWG\, Web Performance Working Group Joint Meeting
DTSTART;TZID=America/Los_Angeles:20240927T140000
DTEND;TZID=America/Los_Angeles:20240927T160000
DESCRIPTION:https://www.w3.org/events/meetings/fe612eac-c026-4ff7-9ecc-96a7
 e60a8e38/\n\n\n\nAgenda: https://github.com/whatwg/meta/issues/326
STATUS:CONFIRMED
CREATED:20240614T161729Z
LAST-MODIFIED:20240927T211131Z
SEQUENCE:8
ORGANIZER;CN=W3C Calendar;PARTSTAT=ACCEPTED;ROLE=NON-PARTICIPANT:mailto:nor
 eply@w3.org
ATTENDEE;CUTYPE=GROUP;ROLE=OPT-PARTICIPANT;RSVP=FALSE;CN=Web Performance Wo
 rking Group:mailto:public-web-perf@w3.org
LOCATION:4 Concourse Level - Capistrano
CATEGORIES:TPAC 2024,Group Meetings
END:VEVENT
BEGIN:VEVENT
UID:99ceb3a1-3240-42b0-90c8-2771033325a5
DTSTAMP:20240923T204804Z
SUMMARY:Web Performance Working Group
DTSTART;TZID=America/Los_Angeles:20240923T090000
DTEND;TZID=America/Los_Angeles:20240923T160000
DESCRIPTION:https://www.w3.org/events/meetings/99ceb3a1-3240-42b0-90c8-2771
 033325a5/\n\n\n\nAgenda: https://bit.ly/webperf-tpac24\n\nAgenda\n\n* Intr
 os\, CEPC\, agenda review\, meeting goals\, introspection\n* Container Tim
 ing Status Update\n`<br/>`\n* Network Error Logging: Happy Eyeballs and Pa
 rtial Failures \n* TTFB—what does it mean and why’s it so messy?\n\nLu
 nch\n\n* Cross-origin caching of pervasive assets\n* Long Animation Frames
 : Status & what’s next
STATUS:CONFIRMED
CREATED:20240614T163420Z
LAST-MODIFIED:20240923T204804Z
SEQUENCE:6
ORGANIZER;CN=W3C Calendar;PARTSTAT=ACCEPTED;ROLE=NON-PARTICIPANT:mailto:nor
 eply@w3.org
ATTENDEE;CUTYPE=GROUP;ROLE=OPT-PARTICIPANT;RSVP=FALSE;CN=Web Performance Wo
 rking Group:mailto:public-web-perf@w3.org
LOCATION:-1 Lower Level - Catalina 5
CATEGORIES:TPAC 2024,Group Meetings
END:VEVENT
BEGIN:VEVENT
UID:90ce430f-02e6-4076-b468-0f0f3ae62af0
DTSTAMP:20240924T164200Z
SUMMARY:Web Performance Working Group
DTSTART;TZID=America/Los_Angeles:20240924T090000
DTEND;TZID=America/Los_Angeles:20240924T160000
DESCRIPTION:https://www.w3.org/events/meetings/90ce430f-02e6-4076-b468-0f0f
 3ae62af0/\n\n\n\nAgenda: https://bit.ly/webperf-tpac24\n\nAgenda\n\n* Web 
 Performance APIs in Excel\n* Conditional tracing\n\n`<br/>`\n\n* Exposing 
 style/layout brainstorm\n* Protobuf encode/decode\n\nLunch\n\n* Scheduling
  APIs\n* RUM Pain Points 2024\n\nAfter hours - RUM Archive Hacking
STATUS:CONFIRMED
CREATED:20240614T163421Z
LAST-MODIFIED:20240924T164200Z
SEQUENCE:5
ORGANIZER;CN=W3C Calendar;PARTSTAT=ACCEPTED;ROLE=NON-PARTICIPANT:mailto:nor
 eply@w3.org
ATTENDEE;CUTYPE=GROUP;ROLE=OPT-PARTICIPANT;RSVP=FALSE;CN=Web Performance Wo
 rking Group:mailto:public-web-perf@w3.org
LOCATION:-1 Lower Level - Catalina 5
CATEGORIES:TPAC 2024,Group Meetings
END:VEVENT
BEGIN:VEVENT
UID:bfb7d496-d173-4aec-b566-e5ad4c1cc8f5
DTSTAMP:20240926T211653Z
SUMMARY:Web Performance Working Group
DTSTART;TZID=America/Los_Angeles:20240926T090000
DTEND;TZID=America/Los_Angeles:20240926T160000
DESCRIPTION:https://www.w3.org/events/meetings/bfb7d496-d173-4aec-b566-e5ad
 4c1cc8f5/\n\n\n\nAgenda: https://bit.ly/webperf-tpac24\n\nAgenda\n\n* Serv
 ice Worker TimingInfo\n* JavaScript loading\n\n`<br/>`\n\n* Soft Navigatio
 ns\n\nLunch\n\n* Task Attribution: what is it\, and how it might help beyo
 nd soft-navs (...RUM tooling\, LCP hover\, async event timing\, resource i
 nitiators…)\n* Crash Reporting\n* Monitoring and Deployment Principles d
 oc
STATUS:CONFIRMED
CREATED:20240614T163422Z
LAST-MODIFIED:20240926T211653Z
SEQUENCE:7
ORGANIZER;CN=W3C Calendar;PARTSTAT=ACCEPTED;ROLE=NON-PARTICIPANT:mailto:nor
 eply@w3.org
ATTENDEE;CUTYPE=GROUP;ROLE=OPT-PARTICIPANT;RSVP=FALSE;CN=Web Performance Wo
 rking Group:mailto:public-web-perf@w3.org
LOCATION:4 Concourse Level - Huntington
CATEGORIES:TPAC 2024,Group Meetings
END:VEVENT
BEGIN:VEVENT
UID:cd42cdf2-39f0-4d02-a95c-fec219889098
DTSTAMP:20251108T191137Z
SUMMARY:Web Performance Working Group
DTSTART;TZID=Asia/Tokyo:20251110T090000
DTEND;TZID=Asia/Tokyo:20251110T164500
DESCRIPTION:https://www.w3.org/events/meetings/cd42cdf2-39f0-4d02-a95c-fec2
 19889098/\n\nAgenda: https://docs.google.com/document/d/1EbG3VL27YlzQj8bnW
 VRI-OUHm6WcUowYoxjYOu4RlXM/edit?tab=t.0\n\nAgenda: https://docs.google.com
 /document/d/1EbG3VL27YlzQj8bnWVRI-OUHm6WcUowYoxjYOu4RlXM/edit?tab=t.0
STATUS:CONFIRMED
CREATED:20250716T142649Z
LAST-MODIFIED:20251108T191137Z
SEQUENCE:8
ORGANIZER;CN=W3C Calendar;PARTSTAT=ACCEPTED;ROLE=NON-PARTICIPANT:mailto:nor
 eply@w3.org
ATTENDEE;CUTYPE=GROUP;ROLE=OPT-PARTICIPANT;RSVP=FALSE;CN=Web Performance Wo
 rking Group:mailto:public-web-perf@w3.org
LOCATION:Floor 5 - 505
CATEGORIES:TPAC 2025,Group Meetings
END:VEVENT
BEGIN:VEVENT
UID:08e11ef8-c4b4-42d0-9c49-219fc5dbdded
DTSTAMP:20251108T191039Z
SUMMARY:Web Performance Working Group
DTSTART;TZID=Asia/Tokyo:20251111T094500
DTEND;TZID=Asia/Tokyo:20251111T180000
DESCRIPTION:https://www.w3.org/events/meetings/08e11ef8-c4b4-42d0-9c49-219f
 c5dbdded/\n\nAgenda: https://docs.google.com/document/d/1EbG3VL27YlzQj8bnW
 VRI-OUHm6WcUowYoxjYOu4RlXM/edit?tab=t.0\n\nAgenda: https://docs.google.com
 /document/d/1EbG3VL27YlzQj8bnWVRI-OUHm6WcUowYoxjYOu4RlXM/edit?tab=t.0
STATUS:CONFIRMED
CREATED:20250716T142650Z
LAST-MODIFIED:20251108T191039Z
SEQUENCE:8
ORGANIZER;CN=W3C Calendar;PARTSTAT=ACCEPTED;ROLE=NON-PARTICIPANT:mailto:nor
 eply@w3.org
ATTENDEE;CUTYPE=GROUP;ROLE=OPT-PARTICIPANT;RSVP=FALSE;CN=Web Performance Wo
 rking Group:mailto:public-web-perf@w3.org
LOCATION:Floor 5 - 505
CATEGORIES:TPAC 2025,Group Meetings
END:VEVENT
BEGIN:VEVENT
UID:c69e723f-0b1c-4620-85e4-316ca99121fe
DTSTAMP:20251108T191211Z
SUMMARY:Web Performance Working Group
DTSTART;TZID=Asia/Tokyo:20251113T090000
DTEND;TZID=Asia/Tokyo:20251113T123000
DESCRIPTION:https://www.w3.org/events/meetings/c69e723f-0b1c-4620-85e4-316c
 a99121fe/\n\n\n\nAgenda: https://docs.google.com/document/d/1EbG3VL27YlzQj
 8bnWVRI-OUHm6WcUowYoxjYOu4RlXM/edit?tab=t.0
STATUS:CONFIRMED
CREATED:20250716T142652Z
LAST-MODIFIED:20251108T191211Z
SEQUENCE:8
ORGANIZER;CN=W3C Calendar;PARTSTAT=ACCEPTED;ROLE=NON-PARTICIPANT:mailto:nor
 eply@w3.org
ATTENDEE;CUTYPE=GROUP;ROLE=OPT-PARTICIPANT;RSVP=FALSE;CN=Web Performance Wo
 rking Group:mailto:public-web-perf@w3.org
LOCATION:Floor 5 - 505
CATEGORIES:TPAC 2025,Group Meetings
END:VEVENT
BEGIN:VEVENT
UID:b7f653c4-107c-4190-97ac-e03d4adafa5f
DTSTAMP:20251103T174905Z
SUMMARY:Sustainable Web IG\, Web Performance Working Group joint meeting
DTSTART;TZID=Asia/Tokyo:20251113T134500
DTEND;TZID=Asia/Tokyo:20251113T150000
DESCRIPTION:https://www.w3.org/events/meetings/b7f653c4-107c-4190-97ac-e03d
 4adafa5f/\n\n
STATUS:CONFIRMED
CREATED:20250716T142759Z
LAST-MODIFIED:20251103T174905Z
SEQUENCE:8
ORGANIZER;CN=W3C Calendar;PARTSTAT=ACCEPTED;ROLE=NON-PARTICIPANT:mailto:nor
 eply@w3.org
ATTENDEE;CUTYPE=GROUP;ROLE=OPT-PARTICIPANT;RSVP=FALSE;CN=Sustainable Web In
 terest Group:mailto:public-sustainableweb@w3.org
ATTENDEE;CUTYPE=GROUP;ROLE=OPT-PARTICIPANT;RSVP=FALSE;CN=Web Performance Wo
 rking Group:mailto:public-web-perf@w3.org
LOCATION:Floor 4 - 404
CATEGORIES:TPAC 2025,Group Meetings
END:VEVENT
END:VCALENDAR
