BEGIN:VCALENDAR
VERSION:2.0
PRODID:-//Sabre//Sabre VObject 4.5.8//EN
CALSCALE:GREGORIAN
NAME:Second Screen Working Group Calendar
X-WR-CALNAME:Second Screen Working Group Calendar
LAST-MODIFIED:20251016T203722Z
BEGIN:VTIMEZONE
TZID:Etc/UTC
BEGIN:STANDARD
DTSTART:20201030T140000
TZOFFSETFROM:+0000
TZOFFSETTO:+0000
TZNAME:UTC
END:STANDARD
END:VTIMEZONE
BEGIN:VTIMEZONE
TZID:America/Vancouver
BEGIN:STANDARD
DTSTART:20211107T090000
TZOFFSETFROM:-0700
TZOFFSETTO:-0800
TZNAME:PST
END:STANDARD
BEGIN:STANDARD
DTSTART:20221106T090000
TZOFFSETFROM:-0700
TZOFFSETTO:-0800
TZNAME:PST
END:STANDARD
BEGIN:DAYLIGHT
DTSTART:20220313T100000
TZOFFSETFROM:-0800
TZOFFSETTO:-0700
TZNAME:PDT
END:DAYLIGHT
END:VTIMEZONE
BEGIN:VTIMEZONE
TZID:Europe/Madrid
BEGIN:STANDARD
DTSTART:20221030T010000
TZOFFSETFROM:+0200
TZOFFSETTO:+0100
TZNAME:CET
END:STANDARD
BEGIN:STANDARD
DTSTART:20231029T010000
TZOFFSETFROM:+0200
TZOFFSETTO:+0100
TZNAME:CET
END:STANDARD
BEGIN:DAYLIGHT
DTSTART:20230326T010000
TZOFFSETFROM:+0100
TZOFFSETTO:+0200
TZNAME:CEST
END:DAYLIGHT
END:VTIMEZONE
BEGIN:VTIMEZONE
TZID:America/Los_Angeles
X-MICROSOFT-CDO-TZID:13
BEGIN:STANDARD
DTSTART:20231105T090000
TZOFFSETFROM:-0700
TZOFFSETTO:-0800
TZNAME:PST
END:STANDARD
BEGIN:STANDARD
DTSTART:20241103T090000
TZOFFSETFROM:-0700
TZOFFSETTO:-0800
TZNAME:PST
END:STANDARD
BEGIN:DAYLIGHT
DTSTART:20240310T100000
TZOFFSETFROM:-0800
TZOFFSETTO:-0700
TZNAME:PDT
END:DAYLIGHT
END:VTIMEZONE
BEGIN:VTIMEZONE
TZID:Asia/Tokyo
X-MICROSOFT-CDO-TZID:20
BEGIN:STANDARD
DTSTART:20241116T004500
TZOFFSETFROM:+0900
TZOFFSETTO:+0900
TZNAME:JST
END:STANDARD
END:VTIMEZONE
BEGIN:VEVENT
UID:cbb60781-e18b-4fd9-b6bf-464df6b6ad03
DTSTAMP:20211006T091659Z
SUMMARY:Second Screen WG - TPAC 2021 vF2F
DTSTART;TZID=Etc/UTC:20211025T140000
DTEND;TZID=Etc/UTC:20211025T160000
DESCRIPTION:https://www.w3.org/events/meetings/cbb60781-e18b-4fd9-b6bf-464d
 f6b6ad03/\n\n\n\nAgenda: https://github.com/w3c/secondscreen-wg/issues/3
STATUS:CONFIRMED
CREATED:20211005T085956Z
LAST-MODIFIED:20211006T091659Z
SEQUENCE:2
ORGANIZER;CN=W3C Calendar;PARTSTAT=ACCEPTED;ROLE=NON-PARTICIPANT:mailto:nor
 eply@w3.org
ATTENDEE;CUTYPE=GROUP;ROLE=OPT-PARTICIPANT;RSVP=FALSE;CN=Second Screen Comm
 unity Group:mailto:public-webscreens@w3.org
ATTENDEE;CUTYPE=GROUP;ROLE=OPT-PARTICIPANT;RSVP=FALSE;CN=Second Screen Work
 ing Group:mailto:public-secondscreen@w3.org
END:VEVENT
BEGIN:VEVENT
UID:b2d24686-103a-4eb9-8499-b3a35a4771a7
DTSTAMP:20211026T045940Z
SUMMARY:Second Screen CG - TPAC 2021 vF2F
DTSTART;TZID=Etc/UTC:20211026T050000
DTEND;TZID=Etc/UTC:20211026T060000
DESCRIPTION:https://www.w3.org/events/meetings/b2d24686-103a-4eb9-8499-b3a3
 5a4771a7/\n\n\n\nAgenda: https://github.com/w3c/secondscreen-wg/issues/3
STATUS:CONFIRMED
CREATED:20211005T091146Z
LAST-MODIFIED:20211026T045940Z
SEQUENCE:3
ORGANIZER;CN=W3C Calendar;PARTSTAT=ACCEPTED;ROLE=NON-PARTICIPANT:mailto:nor
 eply@w3.org
ATTENDEE;CUTYPE=GROUP;ROLE=OPT-PARTICIPANT;RSVP=FALSE;CN=Second Screen Comm
 unity Group:mailto:public-webscreens@w3.org
ATTENDEE;CUTYPE=GROUP;ROLE=OPT-PARTICIPANT;RSVP=FALSE;CN=Second Screen Work
 ing Group:mailto:public-secondscreen@w3.org
END:VEVENT
BEGIN:VEVENT
UID:ab178610-074a-4aa2-881e-1af902d3c409
DTSTAMP:20211215T151717Z
SUMMARY:Media Working Group Teleconference
DTSTART;TZID=Etc/UTC:20220111T220000
DTEND;TZID=Etc/UTC:20220111T230000
DESCRIPTION:https://www.w3.org/events/meetings/ab178610-074a-4aa2-881e-1af9
 02d3c409/\n\n### Agenda\n\nThis agenda can be viewed and updated on [GitHu
 b](https://github.com/w3c/media-wg/blob/main/meetings/2022-01-11-Media_Wor
 king_Group_Teleconference-agenda.md).\n\nPart of this meeting will be a jo
 int meeting with the Second Screen Working Group\, which seeks input from 
 experts on Media Capabilities. There are two issues to discuss\, related t
 o the [Open Screen Protocol](https://www.w3.org/TR/openscreenprotocol/)\, 
 which supports the [Presentation API](https://www.w3.org/TR/presentation-a
 pi/) and [Remote Playback API](https://www.w3.org/TR/remote-playback/).\n\
 n* [w3c/openscreenprotocol#194 Remote Playback: Capabilities for HDR rende
 ring and display](https://github.com/w3c/openscreenprotocol/issues/194)\n\
 n* [w3c/openscreenprotocol#233 Use the same codec names as the media APIs]
 (https://github.com/w3c/openscreenprotocol/issues/233)\n\nWe should have t
 ime to cover other Media Working Group topics. If you would like to add an
  item to the agenda\, please open a pull request against this agenda.\n\n\
 n### Media Working Group Teleconference - 2022-01-11\n\n| Location | Date 
 & Time |\n| -------- | ----------- |\n| San Francisco (U.S.A.) | Tuesday\,
  January 11\, 2:00 PM PST |\n| Boston (U.S.A.) | Tuesday\, January 11\, 5:
 00 PM EST |\n| London (United Kingdom) | Tuesday\, January 11\, 10:00 PM G
 MT |\n| Paris (France) | Tuesday\, January 11\, 11:00 PM GMT+1 |\n| Tokyo 
 (Japan) | Wednesday\, January 12\, 7:00 AM GMT+9 |\n| Corresponding UTC (G
 MT) | Tuesday\, January 11\, 10:00 PM UTC |\n\n### Logistics\n\nChairs: Je
 r Noble\, Chris Needham\n\nWebex: https://lists.w3.org/Archives/Member/w3c
 -archive/2020Jan/0323.html\n\nIRC: https://irc.w3.org/?channels=#mediawg\n
 \nIf you are unable to login to view the call details please ask on IRC be
 fore the call.\n\nFor assistance go to https://mit.webex.com/mit/mc  and o
 n the left navigation bar\, click "Support".
STATUS:CONFIRMED
CREATED:20211215T151716Z
LAST-MODIFIED:20211215T151717Z
SEQUENCE:0
ORGANIZER;CN=W3C Calendar;PARTSTAT=ACCEPTED;ROLE=NON-PARTICIPANT:mailto:nor
 eply@w3.org
ATTENDEE;CUTYPE=GROUP;ROLE=OPT-PARTICIPANT;RSVP=FALSE;CN=Media Working Grou
 p:mailto:public-media-wg@w3.org
ATTENDEE;CUTYPE=GROUP;ROLE=OPT-PARTICIPANT;RSVP=FALSE;CN=Second Screen Work
 ing Group:mailto:public-secondscreen@w3.org
END:VEVENT
BEGIN:VEVENT
UID:c5ce6f2f-c6a4-4679-aea5-2eb5fd4b9fa1
DTSTAMP:20220519T082832Z
SUMMARY:Second Screen WG/CG - 2022 Q2 virtual meeting - Day 1
DTSTART;TZID=Etc/UTC:20220607T060000
DTEND;TZID=Etc/UTC:20220607T073000
DESCRIPTION:https://www.w3.org/events/meetings/c5ce6f2f-c6a4-4679-aea5-2eb5
 fd4b9fa1/\n\n\n\nAgenda: https://github.com/w3c/secondscreen-wg/issues/4
STATUS:CONFIRMED
CREATED:20220518T082339Z
LAST-MODIFIED:20220519T082832Z
SEQUENCE:4
ORGANIZER;CN=W3C Calendar;PARTSTAT=ACCEPTED;ROLE=NON-PARTICIPANT:mailto:nor
 eply@w3.org
ATTENDEE;CUTYPE=GROUP;ROLE=OPT-PARTICIPANT;RSVP=FALSE;CN=Second Screen Comm
 unity Group:mailto:public-webscreens@w3.org
ATTENDEE;CUTYPE=GROUP;ROLE=OPT-PARTICIPANT;RSVP=FALSE;CN=Second Screen Work
 ing Group:mailto:public-secondscreen@w3.org
END:VEVENT
BEGIN:VEVENT
UID:810c51c9-1caf-4057-938a-f59b589be71e
DTSTAMP:20220519T082838Z
SUMMARY:Second Screen WG/CG - 2022 Q2 virtual meeting - Day 2
DTSTART;TZID=Etc/UTC:20220608T060000
DTEND;TZID=Etc/UTC:20220608T073000
DESCRIPTION:https://www.w3.org/events/meetings/810c51c9-1caf-4057-938a-f59b
 589be71e/\n\n\n\nAgenda: https://github.com/w3c/secondscreen-wg/issues/4
STATUS:CONFIRMED
CREATED:20220518T082537Z
LAST-MODIFIED:20220519T082838Z
SEQUENCE:3
ORGANIZER;CN=W3C Calendar;PARTSTAT=ACCEPTED;ROLE=NON-PARTICIPANT:mailto:nor
 eply@w3.org
ATTENDEE;CUTYPE=GROUP;ROLE=OPT-PARTICIPANT;RSVP=FALSE;CN=Second Screen Comm
 unity Group:mailto:public-webscreens@w3.org
ATTENDEE;CUTYPE=GROUP;ROLE=OPT-PARTICIPANT;RSVP=FALSE;CN=Second Screen Work
 ing Group:mailto:public-secondscreen@w3.org
END:VEVENT
BEGIN:VEVENT
UID:fdecce41-5aa8-4842-b3f6-c4f32c904922
DTSTAMP:20220916T162336Z
SUMMARY:Second Screen Working Group
DTSTART;TZID=America/Vancouver:20220916T080000
DTEND;TZID=America/Vancouver:20220916T140000
DESCRIPTION:https://www.w3.org/events/meetings/fdecce41-5aa8-4842-b3f6-c4f3
 2c904922/\n\n\n\nAgenda: https://github.com/w3c/secondscreen-wg/issues/6
STATUS:CONFIRMED
CREATED:20220614T022219Z
LAST-MODIFIED:20220916T162336Z
SEQUENCE:4
ORGANIZER;CN=W3C Calendar;PARTSTAT=ACCEPTED;ROLE=NON-PARTICIPANT:mailto:nor
 eply@w3.org
ATTENDEE;CUTYPE=GROUP;ROLE=OPT-PARTICIPANT;RSVP=FALSE;CN=Second Screen Work
 ing Group:mailto:public-secondscreen@w3.org
LOCATION:Port Hardy - North Tower 4th floor
END:VEVENT
BEGIN:VEVENT
UID:9e42b7d6-675f-4ab3-88f1-0b62a709eac7
DTSTAMP:20230302T225324Z
SUMMARY:Second Screen WG/CG - 2023 Q1 virtual meeting - Day 1/2
DTSTART;TZID=Etc/UTC:20230308T160000
DTEND;TZID=Etc/UTC:20230308T173000
DESCRIPTION:https://www.w3.org/events/meetings/9e42b7d6-675f-4ab3-88f1-0b62
 a709eac7/\n\n\n\nAgenda: https://github.com/w3c/secondscreen-wg/issues/7
STATUS:CONFIRMED
CREATED:20230215T094046Z
LAST-MODIFIED:20230302T225324Z
SEQUENCE:0
ORGANIZER;CN=W3C Calendar;PARTSTAT=ACCEPTED;ROLE=NON-PARTICIPANT:mailto:nor
 eply@w3.org
ATTENDEE;CUTYPE=GROUP;ROLE=OPT-PARTICIPANT;RSVP=FALSE;CN=Second Screen Comm
 unity Group:mailto:public-webscreens@w3.org
ATTENDEE;CUTYPE=GROUP;ROLE=OPT-PARTICIPANT;RSVP=FALSE;CN=Second Screen Work
 ing Group:mailto:public-secondscreen@w3.org
END:VEVENT
BEGIN:VEVENT
UID:fd7466d8-41a1-45a2-bdc3-8122a6273b91
DTSTAMP:20230308T182401Z
SUMMARY:Second Screen WG/CG - 2023 Q1 virtual meeting - Day 2/2
DTSTART;TZID=Etc/UTC:20230309T060000
DTEND;TZID=Etc/UTC:20230309T073000
DESCRIPTION:https://www.w3.org/events/meetings/fd7466d8-41a1-45a2-bdc3-8122
 a6273b91/\n\n\n\nAgenda: https://github.com/w3c/secondscreen-wg/issues/7
STATUS:CANCELLED
CREATED:20230215T094110Z
LAST-MODIFIED:20230308T182401Z
SEQUENCE:1
ORGANIZER;CN=W3C Calendar;PARTSTAT=ACCEPTED;ROLE=NON-PARTICIPANT:mailto:nor
 eply@w3.org
ATTENDEE;CUTYPE=GROUP;ROLE=OPT-PARTICIPANT;RSVP=FALSE;CN=Second Screen Comm
 unity Group:mailto:public-webscreens@w3.org
ATTENDEE;CUTYPE=GROUP;ROLE=OPT-PARTICIPANT;RSVP=FALSE;CN=Second Screen Work
 ing Group:mailto:public-secondscreen@w3.org
END:VEVENT
BEGIN:VEVENT
UID:9502c40b-be73-4d9d-a283-4329df3f8a4a
DTSTAMP:20230915T003905Z
SUMMARY:Second Screen WG
DTSTART;TZID=Europe/Madrid:20230915T160000
DTEND;TZID=Europe/Madrid:20230915T183000
DESCRIPTION:https://www.w3.org/events/meetings/9502c40b-be73-4d9d-a283-4329
 df3f8a4a/\n\n\n\nAgenda: https://github.com/w3c/secondscreen-wg/issues/10
STATUS:CONFIRMED
CREATED:20230612T162340Z
LAST-MODIFIED:20230915T003905Z
SEQUENCE:5
ORGANIZER;CN=W3C Calendar;PARTSTAT=ACCEPTED;ROLE=NON-PARTICIPANT:mailto:nor
 eply@w3.org
ATTENDEE;CUTYPE=GROUP;ROLE=OPT-PARTICIPANT;RSVP=FALSE;CN=Second Screen Work
 ing Group:mailto:public-secondscreen@w3.org
LOCATION:Utrera\, 1st floor
CATEGORIES:TPAC 2023,Group Meetings
END:VEVENT
BEGIN:VEVENT
UID:e8613f4e-ce3a-4c95-8a01-0fb875473a99
DTSTAMP:20240927T000238Z
SUMMARY:Second Screen Working Group
DTSTART;TZID=America/Los_Angeles:20240927T110000
DTEND;TZID=America/Los_Angeles:20240927T180000
DESCRIPTION:https://www.w3.org/events/meetings/e8613f4e-ce3a-4c95-8a01-0fb8
 75473a99/\n\n\n\nAgenda: https://github.com/w3c/secondscreen-wg/issues/11
STATUS:CONFIRMED
CREATED:20240614T163335Z
LAST-MODIFIED:20240927T000238Z
SEQUENCE:11
ORGANIZER;CN=W3C Calendar;PARTSTAT=ACCEPTED;ROLE=NON-PARTICIPANT:mailto:nor
 eply@w3.org
ATTENDEE;CUTYPE=GROUP;ROLE=OPT-PARTICIPANT;RSVP=FALSE;CN=Second Screen Work
 ing Group:mailto:public-secondscreen@w3.org
LOCATION:-1 Lower Level - Catalina 5
CATEGORIES:TPAC 2024,Group Meetings
END:VEVENT
BEGIN:VEVENT
UID:b9ad5428-5aac-4c10-bfc1-6b08c0531fab
DTSTAMP:20251016T203652Z
SUMMARY:Second Screen Working Group
DTSTART;TZID=Asia/Tokyo:20251114T090000
DTEND;TZID=Asia/Tokyo:20251114T103000
DESCRIPTION:https://www.w3.org/events/meetings/b9ad5428-5aac-4c10-bfc1-6b08
 c0531fab/\n\n
STATUS:CANCELLED
CREATED:20250716T142451Z
LAST-MODIFIED:20251016T203652Z
SEQUENCE:5
ORGANIZER;CN=W3C Calendar;PARTSTAT=ACCEPTED;ROLE=NON-PARTICIPANT:mailto:nor
 eply@w3.org
ATTENDEE;CUTYPE=GROUP;ROLE=OPT-PARTICIPANT;RSVP=FALSE;CN=Second Screen Work
 ing Group:mailto:public-secondscreen@w3.org
LOCATION:R12
CATEGORIES:TPAC 2025,Group Meetings
END:VEVENT
BEGIN:VEVENT
UID:f2344829-8d2f-4152-9498-c31d21d66fee
DTSTAMP:20251016T203722Z
SUMMARY:Second Screen Working Group
DTSTART;TZID=Asia/Tokyo:20251111T094500
DTEND;TZID=Asia/Tokyo:20251111T110000
DESCRIPTION:https://www.w3.org/events/meetings/f2344829-8d2f-4152-9498-c31d
 21d66fee/\n\n
STATUS:CANCELLED
CREATED:20250716T142452Z
LAST-MODIFIED:20251016T203722Z
SEQUENCE:4
ORGANIZER;CN=W3C Calendar;PARTSTAT=ACCEPTED;ROLE=NON-PARTICIPANT:mailto:nor
 eply@w3.org
ATTENDEE;CUTYPE=GROUP;ROLE=OPT-PARTICIPANT;RSVP=FALSE;CN=Second Screen Work
 ing Group:mailto:public-secondscreen@w3.org
LOCATION:R12
CATEGORIES:TPAC 2025,Group Meetings
END:VEVENT
END:VCALENDAR
