BEGIN:VCALENDAR
VERSION:2.0
PRODID:-//Sabre//Sabre VObject 4.5.8//EN
CALSCALE:GREGORIAN
NAME:VC Barcodes and Data Integrity Calendar
X-WR-CALNAME:VC Barcodes and Data Integrity Calendar
LAST-MODIFIED:20260421T140548Z
BEGIN:VTIMEZONE
TZID:America/New_York
X-MICROSOFT-CDO-TZID:10
BEGIN:STANDARD
DTSTART:20251102T060000
TZOFFSETFROM:-0400
TZOFFSETTO:-0500
TZNAME:EST
END:STANDARD
BEGIN:STANDARD
DTSTART:20261101T060000
TZOFFSETFROM:-0400
TZOFFSETTO:-0500
TZNAME:EST
END:STANDARD
BEGIN:DAYLIGHT
DTSTART:20260308T070000
TZOFFSETFROM:-0500
TZOFFSETTO:-0400
TZNAME:EDT
END:DAYLIGHT
END:VTIMEZONE
BEGIN:VEVENT
UID:cee4a6e0-93a1-4e37-b97e-e8d1c4c35ba9
DTSTAMP:20260419T171139Z
SUMMARY:VC Barcode and Data Integrity
DTSTART;TZID=America/New_York:20260414T100000
DTEND;TZID=America/New_York:20260414T105500
DESCRIPTION:https://www.w3.org/events/meetings/cee4a6e0-93a1-4e37-b97e-e8d1
 c4c35ba9/\n\nCombined meeting for VC Barcodes and Data Integrity\n\nAgenda
 \n\nStanding agenda: \n\n1. Announcements/introductions (5min)\n2. VC Barc
 odes PR review/issue processing (25min)\n3. Data Integrity PR review/issue
  processing (25min)
STATUS:CONFIRMED
CREATED:20260413T235254Z
LAST-MODIFIED:20260419T171139Z
SEQUENCE:3
ORGANIZER;CN=W3C Calendar;PARTSTAT=ACCEPTED;ROLE=NON-PARTICIPANT:mailto:nor
 eply@w3.org
ATTENDEE;CUTYPE=GROUP;ROLE=OPT-PARTICIPANT;RSVP=FALSE;CN=VC Barcodes and Da
 ta Integrity:mailto:VC WG TF on Barcode and DI@w3.org
RRULE:FREQ=WEEKLY;UNTIL=20260414T140000Z;INTERVAL=1;BYDAY=TU;WKST=MO
RELATED-TO:5fbec32e-e232-42e2-a33b-d8475d928452
END:VEVENT
BEGIN:VEVENT
UID:5fbec32e-e232-42e2-a33b-d8475d928452
DTSTAMP:20260419T171139Z
SUMMARY:VC Barcode and Data Integrity
DTSTART;TZID=America/New_York:20260421T100000
DTEND;TZID=America/New_York:20260421T105500
DESCRIPTION:https://www.w3.org/events/meetings/5fbec32e-e232-42e2-a33b-d847
 5d928452/\n\nCombined meeting for VC Barcodes and Data Integrity\n\nAgenda
 \n\nStanding agenda: \n\n1. Announcements/introductions (5min)\n2. VC Barc
 odes PR review/issue processing (25min)\n3. Data Integrity PR review/issue
  processing (25min)
STATUS:CONFIRMED
CREATED:20260419T171139Z
LAST-MODIFIED:20260419T171139Z
SEQUENCE:2
ORGANIZER;CN=W3C Calendar;PARTSTAT=ACCEPTED;ROLE=NON-PARTICIPANT:mailto:nor
 eply@w3.org
ATTENDEE;CUTYPE=GROUP;ROLE=OPT-PARTICIPANT;RSVP=FALSE;CN=VC Barcodes and Da
 ta Integrity:mailto:VC WG TF on Barcode and DI@w3.org
RELATED-TO:cee4a6e0-93a1-4e37-b97e-e8d1c4c35ba9
RRULE:FREQ=WEEKLY;UNTIL=20261229T150000Z;INTERVAL=1;BYDAY=TU;WKST=MO
END:VEVENT
BEGIN:VEVENT
UID:5fbec32e-e232-42e2-a33b-d8475d928452
DTSTAMP:20260421T140548Z
SUMMARY:VC Barcode and Data Integrity
DTSTART;TZID=America/New_York:20260421T100000
DTEND;TZID=America/New_York:20260421T105500
DESCRIPTION:https://www.w3.org/events/meetings/5fbec32e-e232-42e2-a33b-d847
 5d928452/20260421T100000/\n\nCombined meeting for VC Barcodes and Data Int
 egrity\n\nAgenda\n\nStanding agenda: \n\n1. Announcements/introductions (5
 min)\n2. VC Barcodes PR review/issue processing (25min)\n3. Data Integrity
  PR review/issue processing (25min)\n\nhttps://www.w3.org/groups/tf/vc-bcd
 i/tools/
STATUS:CONFIRMED
CREATED:20260421T140548Z
LAST-MODIFIED:20260421T140548Z
SEQUENCE:2
ORGANIZER;CN=W3C Calendar;PARTSTAT=ACCEPTED;ROLE=NON-PARTICIPANT:mailto:nor
 eply@w3.org
ATTENDEE;CUTYPE=GROUP;ROLE=OPT-PARTICIPANT;RSVP=FALSE;CN=VC Barcodes and Da
 ta Integrity:mailto:VC WG TF on Barcode and DI@w3.org
RECURRENCE-ID;TZID=America/New_York:20260421T100000
END:VEVENT
END:VCALENDAR
