BEGIN:VCALENDAR
VERSION:2.0
PRODID:-//Sabre//Sabre VObject 4.5.8//EN
CALSCALE:GREGORIAN
NAME:RDF-DEV Community Group Calendar
X-WR-CALNAME:RDF-DEV Community Group Calendar
LAST-MODIFIED:20220610T073736Z
BEGIN:VTIMEZONE
TZID:America/New_York
X-MICROSOFT-CDO-TZID:10
BEGIN:STANDARD
DTSTART:20211107T060000
TZOFFSETFROM:-0400
TZOFFSETTO:-0500
TZNAME:EST
END:STANDARD
BEGIN:STANDARD
DTSTART:20221106T060000
TZOFFSETFROM:-0400
TZOFFSETTO:-0500
TZNAME:EST
END:STANDARD
BEGIN:DAYLIGHT
DTSTART:20220313T070000
TZOFFSETFROM:-0500
TZOFFSETTO:-0400
TZNAME:EDT
END:DAYLIGHT
END:VTIMEZONE
BEGIN:VEVENT
UID:677cd671-7ce4-41eb-b839-ce605793e943
DTSTAMP:20220408T163225Z
SUMMARY:RDF-star call
DTSTART;TZID=America/New_York:20220408T110000
DTEND;TZID=America/New_York:20220408T120000
DESCRIPTION:https://www.w3.org/events/meetings/677cd671-7ce4-41eb-b839-ce60
 5793e943/\n\nMeeting of the [RDF-star "task force"](https://w3c.github.io/
 rdf-star/).\n\nAgenda: https://lists.w3.org/Archives/Public/public-rdf-sta
 r/2022Apr/0000.html
STATUS:CONFIRMED
CREATED:20220406T115511Z
LAST-MODIFIED:20220408T163225Z
SEQUENCE:0
ORGANIZER;CN=W3C Calendar;PARTSTAT=ACCEPTED;ROLE=NON-PARTICIPANT:mailto:nor
 eply@w3.org
ATTENDEE;CUTYPE=GROUP;ROLE=OPT-PARTICIPANT;RSVP=FALSE;CN=RDF-DEV Community 
 Group:mailto:public-rdf-dev@w3.org
LOCATION:https://mit.zoom.us/j/96863217029?pwd=eHNlS3VBSjVvL0pnV1ptekp6YVZs
 dz09
END:VEVENT
BEGIN:VEVENT
UID:153ced77-56fa-46a8-a077-263f01abf246
DTSTAMP:20220506T164054Z
SUMMARY:RDF-star call
DTSTART;TZID=America/New_York:20220506T110000
DTEND;TZID=America/New_York:20220506T120000
DESCRIPTION:https://www.w3.org/events/meetings/153ced77-56fa-46a8-a077-263f
 01abf246/\n\nMeeting of the [RDF-star "task force"](https://w3c.github.io/
 rdf-star/).\n\nIRC:     #rdf-star on public-irc.w3.org port 6697 (irc://pu
 blic-irc.w3.org:6697/%23rdf-star or https://irc.w3.org/)\n\nAgenda: https:
 //www.w3.org/mid/1bcde351-b7c6-b2f1-0b04-c80ecef477e0@w3.org
STATUS:CONFIRMED
CREATED:20220414T162947Z
LAST-MODIFIED:20220506T164054Z
SEQUENCE:2
ORGANIZER;CN=W3C Calendar;PARTSTAT=ACCEPTED;ROLE=NON-PARTICIPANT:mailto:nor
 eply@w3.org
ATTENDEE;CUTYPE=GROUP;ROLE=OPT-PARTICIPANT;RSVP=FALSE;CN=RDF-DEV Community 
 Group:mailto:public-rdf-dev@w3.org
END:VEVENT
BEGIN:VEVENT
UID:3db59034-b803-4a55-846a-3c990bc84173
DTSTAMP:20220520T161437Z
SUMMARY:RDF-star call
DTSTART;TZID=America/New_York:20220520T110000
DTEND;TZID=America/New_York:20220520T120000
DESCRIPTION:https://www.w3.org/events/meetings/3db59034-b803-4a55-846a-3c99
 0bc84173/\n\nMeeting of the [RDF-star "task force"](https://w3c.github.io/
 rdf-star/).\n\nIRC:     #rdf-star on public-irc.w3.org port 6697 (irc://pu
 blic-irc.w3.org:6697/%23rdf-star or https://irc.w3.org/)\n\nAgenda: https:
 //lists.w3.org/Archives/Public/public-rdf-star/2022May/0001.html
STATUS:CONFIRMED
CREATED:20220506T163739Z
LAST-MODIFIED:20220520T161437Z
SEQUENCE:2
ORGANIZER;CN=W3C Calendar;PARTSTAT=ACCEPTED;ROLE=NON-PARTICIPANT:mailto:nor
 eply@w3.org
ATTENDEE;CUTYPE=GROUP;ROLE=OPT-PARTICIPANT;RSVP=FALSE;CN=RDF-DEV Community 
 Group:mailto:public-rdf-dev@w3.org
END:VEVENT
BEGIN:VEVENT
UID:f3d2e9c6-178e-4b22-8bdc-e8068715c6d5
DTSTAMP:20220610T073736Z
SUMMARY:RDF-star call
DTSTART;TZID=America/New_York:20220610T110000
DTEND;TZID=America/New_York:20220610T120000
DESCRIPTION:https://www.w3.org/events/meetings/f3d2e9c6-178e-4b22-8bdc-e806
 8715c6d5/\n\nMeeting of the [RDF-star "task force"](https://w3c.github.io/
 rdf-star/).\n\nIRC:     #rdf-star on public-irc.w3.org port 6697 (irc://pu
 blic-irc.w3.org:6697/%23rdf-star or https://irc.w3.org/)\n\nAgenda: https:
 //www.w3.org/mid/fa964c11-39ed-a9a9-749f-d0061781aa0f@w3.org\n\nAgenda\n\n
 To be announced on [the public-rdf-star mailing list](https://lists.w3.org
 /Archives/Public/public-rdf-star/)
STATUS:CONFIRMED
CREATED:20220520T161248Z
LAST-MODIFIED:20220610T073736Z
SEQUENCE:1
ORGANIZER;CN=W3C Calendar;PARTSTAT=ACCEPTED;ROLE=NON-PARTICIPANT:mailto:nor
 eply@w3.org
ATTENDEE;CUTYPE=GROUP;ROLE=OPT-PARTICIPANT;RSVP=FALSE;CN=RDF-DEV Community 
 Group:mailto:public-rdf-dev@w3.org
END:VEVENT
END:VCALENDAR
