BEGIN:VCALENDAR
VERSION:2.0
PRODID:-//Sabre//Sabre VObject 4.5.8//EN
CALSCALE:GREGORIAN
NAME:Open Cloud Mesh Community Group Calendar
X-WR-CALNAME:Open Cloud Mesh Community Group Calendar
LAST-MODIFIED:20240418T095930Z
BEGIN:VTIMEZONE
TZID:Etc/UTC
BEGIN:STANDARD
DTSTART:20230424T153000
TZOFFSETFROM:+0000
TZOFFSETTO:+0000
TZNAME:UTC
END:STANDARD
END:VTIMEZONE
BEGIN:VEVENT
UID:a2c9835e-f6f7-4e73-b18e-c8fa2957af7e
DTSTAMP:20240418T095930Z
SUMMARY:Regular Development Meeting
DTSTART;TZID=Etc/UTC:20240418T153000
DTEND;TZID=Etc/UTC:20240418T160000
DESCRIPTION:https://www.w3.org/events/meetings/a2c9835e-f6f7-4e73-b18e-c8fa
 2957af7e/\n\nWe have a regular weekly checkpoint meeting over Zoom to disc
 uss current developments and tests.
STATUS:CONFIRMED
CREATED:20240418T095844Z
LAST-MODIFIED:20240418T095930Z
SEQUENCE:1
ORGANIZER;CN=W3C Calendar;PARTSTAT=ACCEPTED;ROLE=NON-PARTICIPANT:mailto:nor
 eply@w3.org
ATTENDEE;CUTYPE=GROUP;ROLE=OPT-PARTICIPANT;RSVP=FALSE;CN=Open Cloud Mesh Co
 mmunity Group:mailto:public-ocm@w3.org
LOCATION:Zoom Link available in the gitter chat at https://app.gitter.im/#/
 room/#cs3org_OCM:gitter.im
RRULE:FREQ=DAILY;UNTIL=20241220T153000Z;INTERVAL=7;WKST=MO
END:VEVENT
END:VCALENDAR
