BEGIN:VCALENDAR
VERSION:2.0
PRODID:-//Sabre//Sabre VObject 4.5.8//EN
CALSCALE:GREGORIAN
NAME:Music Notation Community Group Calendar
X-WR-CALNAME:Music Notation Community Group Calendar
LAST-MODIFIED:20220913T093147Z
BEGIN:VTIMEZONE
TZID:America/Vancouver
BEGIN:STANDARD
DTSTART:20211107T090000
TZOFFSETFROM:-0700
TZOFFSETTO:-0800
TZNAME:PST
END:STANDARD
BEGIN:STANDARD
DTSTART:20221106T090000
TZOFFSETFROM:-0700
TZOFFSETTO:-0800
TZNAME:PST
END:STANDARD
BEGIN:DAYLIGHT
DTSTART:20220313T100000
TZOFFSETFROM:-0800
TZOFFSETTO:-0700
TZNAME:PDT
END:DAYLIGHT
END:VTIMEZONE
BEGIN:VEVENT
UID:aa0a4ec7-dfef-4f63-be81-251f3870b30a
DTSTAMP:20220913T093147Z
SUMMARY:Music Notation Community Group - Online meeting only
DTSTART;TZID=America/Vancouver:20220915T080000
DTEND;TZID=America/Vancouver:20220915T100000
DESCRIPTION:https://www.w3.org/events/meetings/aa0a4ec7-dfef-4f63-be81-251f
 3870b30a/\n\nThis the 2022 annual meeting of the Music Notation Community 
 Group.\n\nAgenda\n\n- Introduction to the Music Notation Community Group\n
 - Project updates\n  - MNX\n  - SMuFL\n  - Instrument data\n  - MusicXML\n
 - Organizational changes\n- Q&A
STATUS:CONFIRMED
CREATED:20220610T060203Z
LAST-MODIFIED:20220913T093147Z
SEQUENCE:4
ORGANIZER;CN=W3C Calendar;PARTSTAT=ACCEPTED;ROLE=NON-PARTICIPANT:mailto:nor
 eply@w3.org
ATTENDEE;CUTYPE=GROUP;ROLE=OPT-PARTICIPANT;RSVP=FALSE;CN=Music Notation Com
 munity Group:mailto:public-music-notation@w3.org
LOCATION:Online
CATEGORIES:TPAC 2022,Group Meetings
END:VEVENT
END:VCALENDAR
