BEGIN:VCALENDAR
VERSION:2.0
PRODID:-//Sabre//Sabre VObject 4.5.8//EN
CALSCALE:GREGORIAN
NAME:TPAC 2027
X-WR-CALNAME:TPAC 2027
BEGIN:VTIMEZONE
TZID:America/Panama
BEGIN:STANDARD
DTSTART:20261211T130000
TZOFFSETFROM:-0500
TZOFFSETTO:-0500
TZNAME:EST
END:STANDARD
END:VTIMEZONE
BEGIN:VEVENT
UID:93ebfea5-8c44-459d-b832-1b1a70d7436e
DTSTAMP:20260421T020658Z
SUMMARY:TPAC 2027
DTSTART;TZID=America/Panama:20271206T080000
DTEND;TZID=America/Panama:20271210T180000
DESCRIPTION:https://www.w3.org/events/tpac/2027/tpac-2027/\n\nOur major eve
 nt of the year gathers our community for thought-provoking discussions and
  coordinated work.
STATUS:CONFIRMED
CREATED:20260420T084300Z
LAST-MODIFIED:20260421T020658Z
END:VEVENT
END:VCALENDAR
