BEGIN:VCALENDAR
VERSION:2.0
PRODID:-//Sabre//Sabre VObject 4.5.8//EN
CALSCALE:GREGORIAN
LAST-MODIFIED:20220502T132221Z
BEGIN:VTIMEZONE
TZID:Etc/UTC
BEGIN:STANDARD
DTSTART:20210501T150000
TZOFFSETFROM:+0000
TZOFFSETTO:+0000
TZNAME:UTC
END:STANDARD
END:VTIMEZONE
BEGIN:VEVENT
UID:ff95fa98-2f6f-4ea1-8f67-d8a7b04d586c
DTSTAMP:20220502T132221Z
SUMMARY:WebRTC WG April 2022 call
DTSTART;TZID=Etc/UTC:20220426T150000
DTEND;TZID=Etc/UTC:20220426T170000
DESCRIPTION:https://www.w3.org/events/meetings/ff95fa98-2f6f-4ea1-8f67-d8a7
 b04d586c/\n\n\n\nAgenda: https://www.w3.org/2011/04/webrtc/wiki/April_19_2
 022
STATUS:CONFIRMED
CREATED:20220221T075616Z
LAST-MODIFIED:20220502T132221Z
SEQUENCE:2
ORGANIZER;CN=W3C Calendar;PARTSTAT=ACCEPTED;ROLE=NON-PARTICIPANT:mailto:nor
 eply@w3.org
ATTENDEE;CUTYPE=GROUP;ROLE=OPT-PARTICIPANT;RSVP=FALSE;CN=Web Real-Time Comm
 unications Working Group:mailto:public-webrtc@w3.org
END:VEVENT
END:VCALENDAR
