BEGIN:VCALENDAR
VERSION:2.0
PRODID:-//Sabre//Sabre VObject 4.5.8//EN
CALSCALE:GREGORIAN
LAST-MODIFIED:20241125T154601Z
BEGIN:VTIMEZONE
TZID:America/Los_Angeles
X-MICROSOFT-CDO-TZID:13
BEGIN:DAYLIGHT
DTSTART:20240310T100000
TZOFFSETFROM:-0800
TZOFFSETTO:-0700
TZNAME:PDT
END:DAYLIGHT
BEGIN:DAYLIGHT
DTSTART:20250309T100000
TZOFFSETFROM:-0800
TZOFFSETTO:-0700
TZNAME:PDT
END:DAYLIGHT
BEGIN:STANDARD
DTSTART:20241103T090000
TZOFFSETFROM:-0700
TZOFFSETTO:-0800
TZNAME:PST
END:STANDARD
END:VTIMEZONE
BEGIN:VEVENT
UID:ff35c0c2-a804-476f-a752-ffa112ee06eb
DTSTAMP:20241125T154601Z
SUMMARY:ARIA Editors (4th week)
DTSTART;TZID=America/Los_Angeles:20241127T090000
DTEND;TZID=America/Los_Angeles:20241127T100000
DESCRIPTION:https://www.w3.org/events/meetings/ff35c0c2-a804-476f-a752-ffa1
 12ee06eb/20241127T090000/\n\nARIA Editors meeting\n\nAgenda\n\n- [question
 : re-open?] [aria#2048](https://github.com/w3c/aria/issues/2048) deprecati
 ng aria-errormessage \n- [peter] [aria#2338](https://github.com/w3c/aria/p
 ull/2338) - PR on wiki archiving \n- [daniel] [PR #2288](https://github.co
 m/w3c/aria/pull/2288): Fix commit log for specs with monorepo \n- [rahim] 
 [aria #2287](https://github.com/w3c/aria/issues/2287): Add ReSpec aliasing
  clarity in README.me's "Editorial Documentation" section \n- [peter] [ari
 a #2231](https://github.com/w3c/aria/issues/2231): turn on automatic prett
 ier formatting for ARIA spec \n- [daniel] [aria #2242](https://github.com/
 w3c/aria/issues/2242): Netlify to replace pr-review \n- [scott] [aria #222
 8](https://github.com/w3c/aria/issues/2228): re-direct "moved" PRs after m
 erge  (html-aam left with 1 PRs) \n- [james] [aria PR #2136](https://githu
 b.com/w3c/aria/pull/2136) Remove abbr elements \n- [peter] aria-common #10
 4 & PR #106: modernizing aria.js\n  - [dependent] automation and synonyms 
 (via aria #2073)\n-  [james] spec markup for advice for AT
STATUS:CONFIRMED
CREATED:20241125T154601Z
LAST-MODIFIED:20241125T154601Z
SEQUENCE:2
ORGANIZER;CN=W3C Calendar;PARTSTAT=ACCEPTED;ROLE=NON-PARTICIPANT:mailto:nor
 eply@w3.org
ATTENDEE;CUTYPE=GROUP;ROLE=OPT-PARTICIPANT;RSVP=FALSE;CN=ARIA Editors:mailt
 o:public-aria-editors@w3.org
RECURRENCE-ID;TZID=America/Los_Angeles:20241127T090000
END:VEVENT
END:VCALENDAR
