BEGIN:VCALENDAR
VERSION:2.0
PRODID:-//Sabre//Sabre VObject 4.5.8//EN
CALSCALE:GREGORIAN
LAST-MODIFIED:20240926T150726Z
BEGIN:VTIMEZONE
TZID:America/Los_Angeles
X-MICROSOFT-CDO-TZID:13
BEGIN:STANDARD
DTSTART:20231105T090000
TZOFFSETFROM:-0700
TZOFFSETTO:-0800
TZNAME:PST
END:STANDARD
BEGIN:STANDARD
DTSTART:20241103T090000
TZOFFSETFROM:-0700
TZOFFSETTO:-0800
TZNAME:PST
END:STANDARD
BEGIN:DAYLIGHT
DTSTART:20240310T100000
TZOFFSETFROM:-0800
TZOFFSETTO:-0700
TZNAME:PDT
END:DAYLIGHT
END:VTIMEZONE
BEGIN:VEVENT
UID:fee8eb8e-9861-4967-b011-3f54ababe841
DTSTAMP:20240926T150726Z
SUMMARY:JSON-LD Working Group\, JSON for Linked Data Community Group Joint 
 Meeting
DTSTART;TZID=America/Los_Angeles:20240926T140000
DTEND;TZID=America/Los_Angeles:20240926T160000
DESCRIPTION:https://www.w3.org/events/meetings/fee8eb8e-9861-4967-b011-3f54
 ababe841/\n\n
STATUS:CONFIRMED
CREATED:20240909T172101Z
LAST-MODIFIED:20240926T150726Z
SEQUENCE:3
ORGANIZER;CN=W3C Calendar;PARTSTAT=ACCEPTED;ROLE=NON-PARTICIPANT:mailto:nor
 eply@w3.org
ATTENDEE;CUTYPE=GROUP;ROLE=OPT-PARTICIPANT;RSVP=FALSE;CN=JSON for Linked Da
 ta Community Group:mailto:public-json-ld@w3.org
ATTENDEE;CUTYPE=GROUP;ROLE=OPT-PARTICIPANT;RSVP=FALSE;CN=JSON-LD Working Gr
 oup:mailto:public-json-ld-wg@w3.org
LOCATION:4 Concourse Level - Redondo
CATEGORIES:TPAC 2024,Group Meetings
END:VEVENT
END:VCALENDAR
