BEGIN:VCALENDAR
VERSION:2.0
PRODID:-//Sabre//Sabre VObject 4.5.8//EN
CALSCALE:GREGORIAN
LAST-MODIFIED:20251113T002602Z
BEGIN:VTIMEZONE
TZID:Asia/Tokyo
X-MICROSOFT-CDO-TZID:20
BEGIN:STANDARD
DTSTART:20241118T010000
TZOFFSETFROM:+0900
TZOFFSETTO:+0900
TZNAME:JST
END:STANDARD
END:VTIMEZONE
BEGIN:VEVENT
UID:fe04bc56-eb50-4ac8-90b9-1e5fb5ee59d5
DTSTAMP:20251113T002602Z
SUMMARY:Web Platform Incubator Community Group
DTSTART;TZID=Asia/Tokyo:20251113T100000
DTEND;TZID=Asia/Tokyo:20251113T150000
DESCRIPTION:https://www.w3.org/events/meetings/fe04bc56-eb50-4ac8-90b9-1e5f
 b5ee59d5/\n\n\n\nAgenda: https://github.com/WICG/admin/issues/204#issuecom
 ment-3492946781\n\nAgenda\n\n| Slot (in JST) | Topic | Champions |\n|-----
 --|-------------------|--------------------|\n| 10:00 - 10:30 | [Document 
 policy to enable self-js-profiling API in Worker](https://github.com/Micro
 softEdge/MSEdgeExplainers/pull/1182) | @monica-ch  |\n| 10:30 - 11:00 | Br
 eak  |\n| 11:00 - 12:15 | [Scrollbar Avoidance Area (CSS property)](https:
 //github.com/ArkWebCore/ArkWeb-explainers/blob/main/ScrollbarAvoidanceArea
 /explainer.md) & [Speculation Rules with Additional Headers](https://githu
 b.com/ArkWebCore/ArkWeb-explainers/blob/main/SpeculationRulesAdditionalHea
 ders/explainer.md) & [Maximum Fling Speed](https://github.com/ArkWebCore/A
 rkWeb-explainers/blob/main/MaximumFlingSpeed/explainer.md) | @espinr  |\n|
  12:15 - 1:45 | Lunch | \n| 1:45 - 2:30 | [Text Detection API](https://git
 hub.com/WICG/shape-detection-api/issues/109) | @alvinjiooo |
STATUS:CONFIRMED
CREATED:20250716T142424Z
LAST-MODIFIED:20251113T002602Z
SEQUENCE:8
ORGANIZER;CN=W3C Calendar;PARTSTAT=ACCEPTED;ROLE=NON-PARTICIPANT:mailto:nor
 eply@w3.org
ATTENDEE;CUTYPE=GROUP;ROLE=OPT-PARTICIPANT;RSVP=FALSE;CN=Web Platform Incub
 ator Community Group:mailto:public-wicg@w3.org
LOCATION:Floor 4 - 402
CATEGORIES:TPAC 2025,Group Meetings
END:VEVENT
END:VCALENDAR
