BEGIN:VCALENDAR
VERSION:2.0
PRODID:-//Sabre//Sabre VObject 4.5.8//EN
CALSCALE:GREGORIAN
LAST-MODIFIED:20260406T152327Z
BEGIN:VTIMEZONE
TZID:Etc/UTC
BEGIN:STANDARD
DTSTART:20250330T130000
TZOFFSETFROM:+0000
TZOFFSETTO:+0000
TZNAME:UTC
END:STANDARD
END:VTIMEZONE
BEGIN:VEVENT
UID:fd048dc6-4486-4e21-a639-545523e4ca60
DTSTAMP:20260406T152327Z
SUMMARY:Reviving the ActivityPub Social API
DTSTART;TZID=Etc/UTC:20260325T130000
DTEND;TZID=Etc/UTC:20260325T140000
DESCRIPTION:https://www.w3.org/events/meetings/fd048dc6-4486-4e21-a639-5455
 23e4ca60/\n\nThe ActivityPub specification defines a social API and a fede
 ration protocol. Mastodon and compatible platforms implement the latter bu
 t not the former.\n\nThis session will discuss the social API\, its value 
 in the distributed social ecosystem\, and the efforts to revive its use.\n
 \n**Goal(s):**\nReview the ActivityPub social API and efforts to revive it
 \n\nAgenda\n\n- presentation about the API \n- collecting use cases\n- dis
 cussion of the task force\n- open conversation about next steps\n\n**Mater
 ials:**\n- [Session proposal on GitHub](https://github.com/w3c/breakouts-d
 ay-2026/issues/12)
STATUS:CONFIRMED
CREATED:20260318T113204Z
LAST-MODIFIED:20260406T152327Z
SEQUENCE:4
ORGANIZER;CN=W3C Calendar;PARTSTAT=ACCEPTED;ROLE=NON-PARTICIPANT:mailto:nor
 eply@w3.org
LOCATION:Online
CATEGORIES:W3C Breakouts Day 2026,Breakout Sessions
END:VEVENT
END:VCALENDAR
