BEGIN:VCALENDAR
VERSION:2.0
PRODID:-//Sabre//Sabre VObject 4.5.8//EN
CALSCALE:GREGORIAN
LAST-MODIFIED:20240315T175533Z
BEGIN:VTIMEZONE
TZID:America/New_York
X-MICROSOFT-CDO-TZID:10
BEGIN:STANDARD
DTSTART:20231105T060000
TZOFFSETFROM:-0400
TZOFFSETTO:-0500
TZNAME:EST
END:STANDARD
BEGIN:STANDARD
DTSTART:20241103T060000
TZOFFSETFROM:-0400
TZOFFSETTO:-0500
TZNAME:EST
END:STANDARD
BEGIN:DAYLIGHT
DTSTART:20240310T070000
TZOFFSETFROM:-0500
TZOFFSETTO:-0400
TZNAME:EDT
END:DAYLIGHT
END:VTIMEZONE
BEGIN:VEVENT
UID:fccb0d1a-4c72-4628-8573-e3b86d3c40f0
DTSTAMP:20240315T175533Z
SUMMARY:W3C [PBG] Meeting - Americas/Asia
DTSTART;TZID=America/New_York:20240326T200000
DTEND;TZID=America/New_York:20240326T210000
DESCRIPTION:https://www.w3.org/events/meetings/fccb0d1a-4c72-4628-8573-e3b8
 6d3c40f0/\n\nregular PBG Meeting\nAgenda to be sent via email
STATUS:CONFIRMED
CREATED:20240315T175509Z
LAST-MODIFIED:20240315T175533Z
SEQUENCE:1
ORGANIZER;CN=W3C Calendar;PARTSTAT=ACCEPTED;ROLE=NON-PARTICIPANT:mailto:nor
 eply@w3.org
ATTENDEE;CUTYPE=GROUP;ROLE=OPT-PARTICIPANT;RSVP=FALSE;CN=Publishing Busines
 s Group:mailto:public-publishingbg@w3.org
END:VEVENT
END:VCALENDAR
