BEGIN:VCALENDAR
VERSION:2.0
PRODID:-//Sabre//Sabre VObject 4.5.8//EN
CALSCALE:GREGORIAN
LAST-MODIFIED:20251104T161327Z
BEGIN:VTIMEZONE
TZID:Asia/Tokyo
X-MICROSOFT-CDO-TZID:20
BEGIN:STANDARD
DTSTART:20241115T000000
TZOFFSETFROM:+0900
TZOFFSETTO:+0900
TZNAME:JST
END:STANDARD
END:VTIMEZONE
BEGIN:VEVENT
UID:fcbb3292-4982-4a65-89e0-6eda0c6b217a
DTSTAMP:20251104T161327Z
SUMMARY:Publishing Maintenance WG
DTSTART;TZID=Asia/Tokyo:20251110T090000
DTEND;TZID=Asia/Tokyo:20251110T164500
DESCRIPTION:https://www.w3.org/events/meetings/fcbb3292-4982-4a65-89e0-6eda
 0c6b217a/\n\n\n\nAgenda: https://github.com/w3c/epub-specs/discussions/281
 5#discussioncomment-14751130\n\nAgenda\n\n| Time (JST)      | Topic       
                                  | CET         | ET          |\n| --------
 ------- | -------------------------------------------- | ----------- | ---
 -------- |\n| 9:00-9:45       | Update on Annotations                     
    | 01:00-01:45 | 19:00-19:45 |\n| 9:45-10:30      | Technical Direction 
 for Annotations                    | 01:45-02:30 | 19:45-20:30 |\n| 10:30-
 11:00     | Break                                        | 02:30-03:00 | 2
 0:30-21:00 |\n| 11:00-12:30     | ISO Update + Liaising with ISO/IEC JTC1/
 SC34 | 03:00-04:30 | 21:00-22:30 |\n| 12:30-13:30     | Lunch             
                            | 04:30-05:30 | 22:30-23:30 |\n| 13:30-14:15   
   | Update on Digital Comics          | 05:30-06:15 | 23:30-00:15 |\n| 14:
 15-15:00     | Images in Spine/FXL Changes                  | 06:15-07:00 
 | 00:15-01:00 |\n| 15:00-15:30     | Break                                
         | 07:00-07:30 | 01:00-01:30 |\n| 15:30-16:30     | FXL Changes (co
 ntinued)                      | 07:30-08:30 | 01:30-02:30 |\n| 16:30-16:45
      | Buffer/Wrap up                               | 08:30-08:45 | 02:30-
 02:45 |
STATUS:CONFIRMED
CREATED:20250716T142256Z
LAST-MODIFIED:20251104T161327Z
SEQUENCE:9
ORGANIZER;CN=W3C Calendar;PARTSTAT=ACCEPTED;ROLE=NON-PARTICIPANT:mailto:nor
 eply@w3.org
ATTENDEE;CUTYPE=GROUP;ROLE=OPT-PARTICIPANT;RSVP=FALSE;CN=Publishing Mainten
 ance Working Group:mailto:public-pm-wg@w3.org
LOCATION:Floor 3 - 302
CATEGORIES:TPAC 2025,Group Meetings
END:VEVENT
END:VCALENDAR
