BEGIN:VCALENDAR
VERSION:2.0
PRODID:-//Sabre//Sabre VObject 4.5.8//EN
CALSCALE:GREGORIAN
LAST-MODIFIED:20231107T084243Z
BEGIN:VTIMEZONE
TZID:Asia/Singapore
X-MICROSOFT-CDO-TZID:21
BEGIN:STANDARD
DTSTART:20220528T220000
TZOFFSETFROM:+0800
TZOFFSETTO:+0800
TZNAME:+08
END:STANDARD
END:VTIMEZONE
BEGIN:VEVENT
UID:fbc958eb-26ce-49e7-97cc-dc9575c71bea
DTSTAMP:20230502T014913Z
SUMMARY:PATCG Ad-Hoc Meetings: IPA
DTSTART;TZID=Asia/Singapore:20230524T060000
DTEND;TZID=Asia/Singapore:20230524T070000
DESCRIPTION:https://www.w3.org/events/meetings/fbc958eb-26ce-49e7-97cc-dc95
 75c71bea/\n\nCalls to discuss and make progress on open issues on Interope
 rable Private Attribution (IPA)\, open to anyone participating in the PATC
 G. We will take minutes in the same manner as the PATCG meetings\, and we 
 will report important progress back in the regular PATCG meetings.\n\nPlan
 ned for 2nd and 4th Wednesday (in Singapore) of the month @ 6am Singapore 
 Time (SGT). Note that sometimes meetings do get canceled. Refer to the Git
 Hub repo for information about the meeting.\n\nChat via [slack](https://w3
 ccommunity.slack.com/archives/C04TRHQ6CHM)\n\nAgenda\n\nDeveloped in [IPA 
 GitHub Repo](https://github.com/patcg-individual-drafts/ipa/issues).\n\nJo
 ining Instructions: https://fb.zoom.us/j/91485784740?pwd=TVdRQnYvTUxmb3QrU
 kN1UXB4c21NUT09\n\nJoining Instructions\n\nSee [IPA GitHub Repo](https://g
 ithub.com/patcg-individual-drafts/ipa/issues/47).
STATUS:CONFIRMED
CREATED:20230502T012146Z
LAST-MODIFIED:20230502T014913Z
SEQUENCE:2
ORGANIZER;CN=W3C Calendar;PARTSTAT=ACCEPTED;ROLE=NON-PARTICIPANT:mailto:nor
 eply@w3.org
ATTENDEE;CUTYPE=GROUP;ROLE=OPT-PARTICIPANT;RSVP=FALSE;CN=Private Advertisin
 g Technology Community Group:mailto:public-patcg@w3.org
RRULE:FREQ=MONTHLY;UNTIL=20231231T220000Z;INTERVAL=1;BYDAY=WE;BYSETPOS=4;WK
 ST=MO
END:VEVENT
BEGIN:VEVENT
UID:fbc958eb-26ce-49e7-97cc-dc9575c71bea
DTSTAMP:20231107T084148Z
SUMMARY:PATCG Ad-Hoc Meetings: IPA
DTSTART;TZID=Asia/Singapore:20231122T060000
DTEND;TZID=Asia/Singapore:20231122T070000
DESCRIPTION:https://www.w3.org/events/meetings/fbc958eb-26ce-49e7-97cc-dc95
 75c71bea/20231122T060000/\n\nCalls to discuss and make progress on open is
 sues on Interoperable Private Attribution (IPA)\, open to anyone participa
 ting in the PATCG. We will take minutes in the same manner as the PATCG me
 etings\, and we will report important progress back in the regular PATCG m
 eetings.\n\nPlanned for 2nd and 4th Wednesday (in Singapore) of the month 
 @ 6am Singapore Time (SGT). Note that sometimes meetings do get canceled. 
 Refer to the GitHub repo for information about the meeting.\n\nChat via [s
 lack](https://w3ccommunity.slack.com/archives/C04TRHQ6CHM)\n\nAgenda\n\nDe
 veloped in [IPA GitHub Repo](https://github.com/patcg-individual-drafts/ip
 a/issues).\n\nJoining Instructions: https://fb.zoom.us/j/91485784740?pwd=T
 VdRQnYvTUxmb3QrUkN1UXB4c21NUT09\n\nJoining Instructions\n\nSee [IPA GitHub
  Repo](https://github.com/patcg-individual-drafts/ipa/issues/47).
STATUS:CANCELLED
CREATED:20231107T084137Z
LAST-MODIFIED:20231107T084148Z
SEQUENCE:3
ORGANIZER;CN=W3C Calendar;PARTSTAT=ACCEPTED;ROLE=NON-PARTICIPANT:mailto:nor
 eply@w3.org
ATTENDEE;CUTYPE=GROUP;ROLE=OPT-PARTICIPANT;RSVP=FALSE;CN=Private Advertisin
 g Technology Community Group:mailto:public-patcg@w3.org
RECURRENCE-ID;TZID=Asia/Singapore:20231122T060000
END:VEVENT
BEGIN:VEVENT
UID:fbc958eb-26ce-49e7-97cc-dc9575c71bea
DTSTAMP:20231107T084243Z
SUMMARY:PATCG Ad-Hoc Meetings: IPA
DTSTART;TZID=Asia/Singapore:20231227T060000
DTEND;TZID=Asia/Singapore:20231227T070000
DESCRIPTION:https://www.w3.org/events/meetings/fbc958eb-26ce-49e7-97cc-dc95
 75c71bea/20231227T060000/\n\nCalls to discuss and make progress on open is
 sues on Interoperable Private Attribution (IPA)\, open to anyone participa
 ting in the PATCG. We will take minutes in the same manner as the PATCG me
 etings\, and we will report important progress back in the regular PATCG m
 eetings.\n\nPlanned for 2nd and 4th Wednesday (in Singapore) of the month 
 @ 6am Singapore Time (SGT). Note that sometimes meetings do get canceled. 
 Refer to the GitHub repo for information about the meeting.\n\nChat via [s
 lack](https://w3ccommunity.slack.com/archives/C04TRHQ6CHM)\n\nAgenda\n\nDe
 veloped in [IPA GitHub Repo](https://github.com/patcg-individual-drafts/ip
 a/issues).\n\nJoining Instructions: https://fb.zoom.us/j/91485784740?pwd=T
 VdRQnYvTUxmb3QrUkN1UXB4c21NUT09\n\nJoining Instructions\n\nSee [IPA GitHub
  Repo](https://github.com/patcg-individual-drafts/ipa/issues/47).
STATUS:CANCELLED
CREATED:20231107T084231Z
LAST-MODIFIED:20231107T084243Z
SEQUENCE:3
ORGANIZER;CN=W3C Calendar;PARTSTAT=ACCEPTED;ROLE=NON-PARTICIPANT:mailto:nor
 eply@w3.org
ATTENDEE;CUTYPE=GROUP;ROLE=OPT-PARTICIPANT;RSVP=FALSE;CN=Private Advertisin
 g Technology Community Group:mailto:public-patcg@w3.org
RECURRENCE-ID;TZID=Asia/Singapore:20231227T060000
END:VEVENT
END:VCALENDAR
