BEGIN:VCALENDAR
VERSION:2.0
PRODID:-//Sabre//Sabre VObject 4.5.8//EN
CALSCALE:GREGORIAN
LAST-MODIFIED:20230608T162332Z
BEGIN:VTIMEZONE
TZID:Etc/UTC
BEGIN:STANDARD
DTSTART:20220613T150000
TZOFFSETFROM:+0000
TZOFFSETTO:+0000
TZNAME:UTC
END:STANDARD
END:VTIMEZONE
BEGIN:VEVENT
UID:fb1d4436-271d-4b22-812c-986f9672d8f0
DTSTAMP:20230608T162332Z
SUMMARY:TTWG Teleconference
DTSTART;TZID=Etc/UTC:20230608T150000
DTEND;TZID=Etc/UTC:20230608T160000
DESCRIPTION:https://www.w3.org/events/meetings/fb1d4436-271d-4b22-812c-986f
 9672d8f0/20230608T150000/\n\nRecurring meeting every 2 weeks. Agendas will
  be opened as GitHub issues visible at https://github.com/w3c/ttwg/project
 s/1#column-3809308\n\nAgenda: https://github.com/w3c/ttwg/issues/253\n\nAg
 enda\n\n**1. This meeting\, plus Chair news**\n**2. IMSC-HRM**\n**3. DAPT*
 *\n**3.1 Netflix roundtripping TTAL <--> DAPT**\n**4. Discussion: Any requ
 irement to support `tts:fontVariant` in IMSC\, and allow `all-small-caps`?
 **\n**5. Agenda+ TPAC 2023 planning**\n**AOB – please notify of any othe
 r AOB now!**
STATUS:CONFIRMED
CREATED:20230606T163051Z
LAST-MODIFIED:20230608T162332Z
SEQUENCE:3
ORGANIZER;CN=W3C Calendar;PARTSTAT=ACCEPTED;ROLE=NON-PARTICIPANT:mailto:nor
 eply@w3.org
ATTENDEE;CUTYPE=GROUP;ROLE=OPT-PARTICIPANT;RSVP=FALSE;CN=Timed Text Working
  Group:mailto:public-tt@w3.org
LOCATION:Zoom - see joining instructions
RECURRENCE-ID;TZID=Etc/UTC:20230608T150000
END:VEVENT
END:VCALENDAR
