BEGIN:VCALENDAR
VERSION:2.0
PRODID:-//Sabre//Sabre VObject 4.5.8//EN
CALSCALE:GREGORIAN
LAST-MODIFIED:20260312T144915Z
BEGIN:VTIMEZONE
TZID:Etc/UTC
BEGIN:STANDARD
DTSTART:20230318T130000
TZOFFSETFROM:+0000
TZOFFSETTO:+0000
TZNAME:UTC
END:STANDARD
END:VTIMEZONE
BEGIN:VEVENT
UID:fa279254-9abd-42c3-af11-5bb50851154b
DTSTAMP:20260312T144915Z
SUMMARY:Running Better Meetings - How to Facilitate at W3C
DTSTART;TZID=Etc/UTC:20240312T130000
DTEND;TZID=Etc/UTC:20240312T140000
DESCRIPTION:https://www.w3.org/events/meetings/fa279254-9abd-42c3-af11-5bb5
 0851154b/\n\nFacilitating meetings in technical spaces is an important ski
 ll\, and there are not many resources on how to do it for people new to th
 e practice or new to W3C. Based on the [meeting facilitation training](htt
 ps://www.w3.org/events/happenings/2023/meeting-facilitation-training/) dev
 eloped by the Positive Work Environments CG at W3C\, this session will pro
 vide a condensed version of the training covering how to effectively run m
 eetings in a W3C context\, how to handle code of conduct matters\, and how
  to handle conflict.\n\n**Goal(s):**\nProvide meeting facilitators with in
 formation and guidance on running better meetings.\n\nAgenda\n\n* Effectiv
 e meeting facilitation\n  * Setting the stage \n  * Tooling\n  * Fostering
  discussion \n* Introducing the code of conduct\n  * Role of the facilitat
 or\n* Handling difficult situations\n  * De-escalation\n\n**Materials:**\n
 - [recording](https://www.w3.org/2024/03/breakouts-day-2024/recordings/rec
 ording-13.html)\n- [Session proposal on GitHub](https://github.com/w3c/bre
 akouts-day-2024/issues/13)
STATUS:CONFIRMED
CREATED:20240302T122834Z
LAST-MODIFIED:20260312T144915Z
SEQUENCE:5
ORGANIZER;CN=W3C Calendar;PARTSTAT=ACCEPTED;ROLE=NON-PARTICIPANT:mailto:nor
 eply@w3.org
LOCATION:Gamba
CATEGORIES:W3C Breakouts Day 2024,Breakout Sessions
END:VEVENT
END:VCALENDAR
