BEGIN:VCALENDAR
VERSION:2.0
PRODID:-//Sabre//Sabre VObject 4.5.8//EN
CALSCALE:GREGORIAN
LAST-MODIFIED:20251008T152018Z
BEGIN:VTIMEZONE
TZID:Europe/Brussels
BEGIN:STANDARD
DTSTART:20241027T010000
TZOFFSETFROM:+0200
TZOFFSETTO:+0100
TZNAME:CET
END:STANDARD
BEGIN:STANDARD
DTSTART:20251026T010000
TZOFFSETFROM:+0200
TZOFFSETTO:+0100
TZNAME:CET
END:STANDARD
BEGIN:DAYLIGHT
DTSTART:20250330T010000
TZOFFSETFROM:+0100
TZOFFSETTO:+0200
TZNAME:CEST
END:DAYLIGHT
END:VTIMEZONE
BEGIN:VEVENT
UID:fa24a556-f73b-42ad-9bb0-a3b2cc7678a5
DTSTAMP:20251008T152018Z
SUMMARY:LWS WG Face-to-Face Meeting (Day 1)
DTSTART;TZID=Europe/Brussels:20251008T100000
DTEND;TZID=Europe/Brussels:20251008T170000
DESCRIPTION:https://www.w3.org/events/meetings/fa24a556-f73b-42ad-9bb0-a3b2
 cc7678a5/\n\n**Meeting room:** 21.02 Karel Miry (21st Floor)\n\nAgenda\n\n
 * Welcome & Introductions (10:00)\n* Discussion of agenda and priorities (
 10:30)\n* Lunch break (12:30)\n* Defining core operations of the LWS proto
 col (13:30)\n* Scope of Query in LWS (16:00)\n* End of day 1 (17:00)
STATUS:CONFIRMED
CREATED:20250912T152922Z
LAST-MODIFIED:20251008T152018Z
SEQUENCE:1
ORGANIZER;CN=W3C Calendar;PARTSTAT=ACCEPTED;ROLE=NON-PARTICIPANT:mailto:nor
 eply@w3.org
ATTENDEE;CUTYPE=GROUP;ROLE=OPT-PARTICIPANT;RSVP=FALSE;CN=Linked Web Storage
  Working Group:mailto:public-lws-wg@w3.org
LOCATION:Virginie Lovelinggebouw\, Koningin Maria Hendrikaplein 70\, 9000 G
 hent\, Belgium
END:VEVENT
END:VCALENDAR
