BEGIN:VCALENDAR
VERSION:2.0
PRODID:-//Sabre//Sabre VObject 4.5.8//EN
CALSCALE:GREGORIAN
LAST-MODIFIED:20240927T001918Z
BEGIN:VTIMEZONE
TZID:America/Los_Angeles
X-MICROSOFT-CDO-TZID:13
BEGIN:STANDARD
DTSTART:20231105T090000
TZOFFSETFROM:-0700
TZOFFSETTO:-0800
TZNAME:PST
END:STANDARD
BEGIN:STANDARD
DTSTART:20241103T090000
TZOFFSETFROM:-0700
TZOFFSETTO:-0800
TZNAME:PST
END:STANDARD
BEGIN:DAYLIGHT
DTSTART:20240310T100000
TZOFFSETFROM:-0800
TZOFFSETTO:-0700
TZNAME:PDT
END:DAYLIGHT
END:VTIMEZONE
BEGIN:VEVENT
UID:f9158f73-69ae-4c05-988f-5887bf4bd99b
DTSTAMP:20240927T001918Z
SUMMARY:Web Real-Time Communications Working Group
DTSTART;TZID=America/Los_Angeles:20240924T090000
DTEND;TZID=America/Los_Angeles:20240924T123000
DESCRIPTION:https://www.w3.org/events/meetings/f9158f73-69ae-4c05-988f-5887
 bf4bd99b/\n\n\n\nAgenda: https://www.w3.org/2011/04/webrtc/wiki/September_
 24_2024
STATUS:CONFIRMED
CREATED:20240614T161640Z
LAST-MODIFIED:20240927T001918Z
SEQUENCE:5
ORGANIZER;CN=W3C Calendar;PARTSTAT=ACCEPTED;ROLE=NON-PARTICIPANT:mailto:nor
 eply@w3.org
ATTENDEE;CUTYPE=GROUP;ROLE=OPT-PARTICIPANT;RSVP=FALSE;CN=Web Real-Time Comm
 unications Working Group:mailto:public-webrtc@w3.org
LOCATION:-1 Lower Level - Catalina 3
CATEGORIES:TPAC 2024,Group Meetings
END:VEVENT
END:VCALENDAR
