BEGIN:VCALENDAR
VERSION:2.0
PRODID:-//Sabre//Sabre VObject 4.5.8//EN
CALSCALE:GREGORIAN
LAST-MODIFIED:20251204T151027Z
BEGIN:VTIMEZONE
TZID:America/Los_Angeles
X-MICROSOFT-CDO-TZID:13
BEGIN:DAYLIGHT
DTSTART:20250309T100000
TZOFFSETFROM:-0800
TZOFFSETTO:-0700
TZNAME:PDT
END:DAYLIGHT
BEGIN:DAYLIGHT
DTSTART:20260308T100000
TZOFFSETFROM:-0800
TZOFFSETTO:-0700
TZNAME:PDT
END:DAYLIGHT
BEGIN:STANDARD
DTSTART:20251102T090000
TZOFFSETFROM:-0700
TZOFFSETTO:-0800
TZNAME:PST
END:STANDARD
END:VTIMEZONE
BEGIN:VEVENT
UID:f8003c89-26a9-4d49-a4a3-346a327457eb
DTSTAMP:20251204T151027Z
SUMMARY:CCG — Incubation
DTSTART;TZID=America/Los_Angeles:20251204T070000
DTEND;TZID=America/Los_Angeles:20251204T080000
DESCRIPTION:https://www.w3.org/events/meetings/f8003c89-26a9-4d49-a4a3-346a
 327457eb/20251204T070000/\n\nThis is a weekly meeting to incubate the foll
 owing specifications adopted as W3C CCG Work Items: https://github.com/w3c
 -ccg/community/issues/250\n\nAgenda\n\n1. TPAC updates\; VC WG recharter s
 tatus\n---------\n\n2. Verifiable Issuer/Verifier Terminology Refactoring\
 n---------\nContinuing to discuss the terms in https://docs.google.com/spr
 eadsheets/d/1ukxShEbiePx4-_OkwIsPvvkDWymF0Jh-lSiFtFZ-w6Q/edit?gid=0#gid=0\
 n\nJoining Instructions: https://meet.google.com/osb-nmyo-muh\n\nJoining I
 nstructions\n\nGoogle Meet joining info\nVideo call link: https://meet.goo
 gle.com/osb-nmyo-muh\nOr dial: ‪(US) +1 585-491-8440‬ PIN: ‪930 103 
 046‬#\nMore phone numbers: https://tel.meet/osb-nmyo-muh?pin=11538343008
 37
STATUS:CONFIRMED
CREATED:20251204T151019Z
LAST-MODIFIED:20251204T151027Z
SEQUENCE:5
ORGANIZER;CN=W3C Calendar;PARTSTAT=ACCEPTED;ROLE=NON-PARTICIPANT:mailto:nor
 eply@w3.org
ATTENDEE;CUTYPE=GROUP;ROLE=OPT-PARTICIPANT;RSVP=FALSE;CN=Credentials Commun
 ity Group:mailto:public-credentials@w3.org
RECURRENCE-ID;TZID=America/Los_Angeles:20251204T070000
END:VEVENT
END:VCALENDAR
