BEGIN:VCALENDAR
VERSION:2.0
PRODID:-//Sabre//Sabre VObject 4.5.8//EN
CALSCALE:GREGORIAN
LAST-MODIFIED:20251019T181919Z
BEGIN:VTIMEZONE
TZID:America/Los_Angeles
X-MICROSOFT-CDO-TZID:13
BEGIN:STANDARD
DTSTART:20241103T090000
TZOFFSETFROM:-0700
TZOFFSETTO:-0800
TZNAME:PST
END:STANDARD
BEGIN:STANDARD
DTSTART:20251102T090000
TZOFFSETFROM:-0700
TZOFFSETTO:-0800
TZNAME:PST
END:STANDARD
BEGIN:DAYLIGHT
DTSTART:20250309T100000
TZOFFSETFROM:-0800
TZOFFSETTO:-0700
TZNAME:PDT
END:DAYLIGHT
END:VTIMEZONE
BEGIN:VEVENT
UID:f8003c89-26a9-4d49-a4a3-346a327457eb
DTSTAMP:20251019T181919Z
SUMMARY:CCG — Incubation
DTSTART;TZID=America/Los_Angeles:20251023T070000
DTEND;TZID=America/Los_Angeles:20251023T080000
DESCRIPTION:https://www.w3.org/events/meetings/f8003c89-26a9-4d49-a4a3-346a
 327457eb/20251023T070000/\n\nThis is a weekly meeting to incubate the foll
 owing specifications adopted as W3C CCG Work Items: https://github.com/w3c
 -ccg/community/issues/250\n\nAgenda\n\nCancelled due to IIW. Will convene 
 next week.\n\nJoining Instructions: https://meet.google.com/osb-nmyo-muh\n
 \nJoining Instructions\n\nGoogle Meet joining info\nVideo call link: https
 ://meet.google.com/osb-nmyo-muh\nOr dial: ‪(US) +1 585-491-8440‬ PIN: 
 ‪930 103 046‬#\nMore phone numbers: https://tel.meet/osb-nmyo-muh?pin=
 1153834300837
STATUS:CANCELLED
CREATED:20251019T181901Z
LAST-MODIFIED:20251019T181919Z
SEQUENCE:6
ORGANIZER;CN=W3C Calendar;PARTSTAT=ACCEPTED;ROLE=NON-PARTICIPANT:mailto:nor
 eply@w3.org
ATTENDEE;CUTYPE=GROUP;ROLE=OPT-PARTICIPANT;RSVP=FALSE;CN=Credentials Commun
 ity Group:mailto:public-credentials@w3.org
RECURRENCE-ID;TZID=America/Los_Angeles:20251023T070000
END:VEVENT
END:VCALENDAR
