BEGIN:VCALENDAR
VERSION:2.0
PRODID:-//Sabre//Sabre VObject 4.5.8//EN
CALSCALE:GREGORIAN
LAST-MODIFIED:20220316T074420Z
BEGIN:VTIMEZONE
TZID:Etc/UTC
BEGIN:STANDARD
DTSTART:20210320T150000
TZOFFSETFROM:+0000
TZOFFSETTO:+0000
TZNAME:UTC
END:STANDARD
END:VTIMEZONE
BEGIN:VEVENT
UID:f7e8e5cf-b102-4a5c-8b6a-7c3233ad25b4
DTSTAMP:20220316T074420Z
SUMMARY:WebRTC WG March 2022 call
DTSTART;TZID=Etc/UTC:20220315T150000
DTEND;TZID=Etc/UTC:20220315T170000
DESCRIPTION:https://www.w3.org/events/meetings/f7e8e5cf-b102-4a5c-8b6a-7c32
 33ad25b4/\n\n\n\nAgenda: https://www.w3.org/2011/04/webrtc/wiki/March_15_2
 022#WebRTC_WG_Virtual_Interim
STATUS:CONFIRMED
CREATED:20220104T072340Z
LAST-MODIFIED:20220316T074420Z
SEQUENCE:1
ORGANIZER;CN=W3C Calendar;PARTSTAT=ACCEPTED;ROLE=NON-PARTICIPANT:mailto:nor
 eply@w3.org
ATTENDEE;CUTYPE=GROUP;ROLE=OPT-PARTICIPANT;RSVP=FALSE;CN=Web Real-Time Comm
 unications Working Group:mailto:public-webrtc@w3.org
END:VEVENT
END:VCALENDAR
