BEGIN:VCALENDAR
VERSION:2.0
PRODID:-//Sabre//Sabre VObject 4.5.8//EN
CALSCALE:GREGORIAN
LAST-MODIFIED:20260209T120332Z
BEGIN:VTIMEZONE
TZID:Etc/UTC
BEGIN:STANDARD
DTSTART:20250216T103000
TZOFFSETFROM:+0000
TZOFFSETTO:+0000
TZNAME:UTC
END:STANDARD
END:VTIMEZONE
BEGIN:VEVENT
UID:f792ca15-2bb3-4f72-8211-32b3bee91e88
DTSTAMP:20260209T120332Z
SUMMARY:SHACL Rules Task Force
DTSTART;TZID=Etc/UTC:20260211T103000
DTEND;TZID=Etc/UTC:20260211T113000
DESCRIPTION:https://www.w3.org/events/meetings/f792ca15-2bb3-4f72-8211-32b3
 bee91e88/20260211T103000/\n\n\n\nAgenda\n\n1. Scribe?\n2. Process -- requi
 rements for merge\n3. PRs in progress [see here](https://github.com/orgs/w
 3c/projects/224/views/6)\n   - Abstract - [PR #729](https://github.com/w3c
 /data-shapes/pull/729)\n   - Intro rewrite - [PR #722](https://github.com/
 w3c/data-shapes/pull/722)\n   - Definitions for dependency and stratificat
 ion [PR #768](https://github.com/w3c/data-shapes/pull/768)\n4. Review open
  issues\n5. Response to chairs re: publication\n6. AOB
STATUS:CONFIRMED
CREATED:20260202T144903Z
LAST-MODIFIED:20260209T120332Z
SEQUENCE:6
ORGANIZER;CN=W3C Calendar;PARTSTAT=ACCEPTED;ROLE=NON-PARTICIPANT:mailto:nor
 eply@w3.org
ATTENDEE;CUTYPE=GROUP;ROLE=OPT-PARTICIPANT;RSVP=FALSE;CN=Data Shapes Workin
 g Group:mailto:public-shacl@w3.org
ATTENDEE;CUTYPE=GROUP;ROLE=OPT-PARTICIPANT;RSVP=FALSE;CN=SHACL Inference Ru
 les:mailto:noreply@w3.org
RECURRENCE-ID;TZID=Etc/UTC:20260211T103000
END:VEVENT
END:VCALENDAR
