BEGIN:VCALENDAR
VERSION:2.0
PRODID:-//Sabre//Sabre VObject 4.5.8//EN
CALSCALE:GREGORIAN
LAST-MODIFIED:20231128T171134Z
BEGIN:VTIMEZONE
TZID:America/New_York
X-MICROSOFT-CDO-TZID:10
BEGIN:DAYLIGHT
DTSTART:20230312T070000
TZOFFSETFROM:-0500
TZOFFSETTO:-0400
TZNAME:EDT
END:DAYLIGHT
BEGIN:DAYLIGHT
DTSTART:20240310T070000
TZOFFSETFROM:-0500
TZOFFSETTO:-0400
TZNAME:EDT
END:DAYLIGHT
BEGIN:STANDARD
DTSTART:20231105T060000
TZOFFSETFROM:-0400
TZOFFSETTO:-0500
TZNAME:EST
END:STANDARD
END:VTIMEZONE
BEGIN:VEVENT
UID:f6342df0-f7b5-4fc9-babd-61e55dc5fc2f
DTSTAMP:20231128T171134Z
SUMMARY:VCWG Special Topic Call
DTSTART;TZID=America/New_York:20231128T110000
DTEND;TZID=America/New_York:20231128T120000
DESCRIPTION:https://www.w3.org/events/meetings/f6342df0-f7b5-4fc9-babd-61e5
 5dc5fc2f/20231128T110000/\n\nRegularly scheduled\, but not always held\, t
 hese meetings times are used to discuss any topics determined to be of spe
 cial interest to the working group.\n\nAgenda\n\nVCDM Issue Processing\n\n
 https://github.com/w3c/vc-data-model/issues?q=is%3Aopen+is%3Aissue+label%3
 Abefore-CR+sort%3Aupdated-asc+-label%3A%22pr+exists%22+-label%3A%22ready+f
 or+PR%22+
STATUS:CONFIRMED
CREATED:20231127T180406Z
LAST-MODIFIED:20231128T171134Z
SEQUENCE:4
ORGANIZER;CN=W3C Calendar;PARTSTAT=ACCEPTED;ROLE=NON-PARTICIPANT:mailto:nor
 eply@w3.org
ATTENDEE;CUTYPE=GROUP;ROLE=OPT-PARTICIPANT;RSVP=FALSE;CN=Verifiable Credent
 ials Working Group:mailto:public-vc-wg@w3.org
RECURRENCE-ID;TZID=America/New_York:20231128T110000
END:VEVENT
END:VCALENDAR
