BEGIN:VCALENDAR
VERSION:2.0
PRODID:-//Sabre//Sabre VObject 4.5.8//EN
CALSCALE:GREGORIAN
LAST-MODIFIED:20231031T161910Z
BEGIN:VTIMEZONE
TZID:America/New_York
X-MICROSOFT-CDO-TZID:10
BEGIN:STANDARD
DTSTART:20221106T060000
TZOFFSETFROM:-0400
TZOFFSETTO:-0500
TZNAME:EST
END:STANDARD
BEGIN:STANDARD
DTSTART:20231105T060000
TZOFFSETFROM:-0400
TZOFFSETTO:-0500
TZNAME:EST
END:STANDARD
BEGIN:DAYLIGHT
DTSTART:20230312T070000
TZOFFSETFROM:-0500
TZOFFSETTO:-0400
TZNAME:EDT
END:DAYLIGHT
END:VTIMEZONE
BEGIN:VEVENT
UID:f6342df0-f7b5-4fc9-babd-61e55dc5fc2f
DTSTAMP:20231031T161910Z
SUMMARY:VCWG Special Topic Call
DTSTART;TZID=America/New_York:20231031T110000
DTEND;TZID=America/New_York:20231031T120000
DESCRIPTION:https://www.w3.org/events/meetings/f6342df0-f7b5-4fc9-babd-61e5
 5dc5fc2f/20231031T110000/\n\nRegularly scheduled\, but not always held\, t
 hese meetings times are used to discuss any topics determined to be of spe
 cial interest to the working group.\n\nAgenda\n\n### SPECIAL NOTE\, if any
 :\n\n\n### Scribe list: \nKevinD\, ChrisA\, PhilL\, MikeJones\, MikeP\, Gr
 egB\, GabeC\, DavidW\, NickS\, PaulD\, Sebastian\, JAndrieu\, DavidC\, And
 resU\, BenY\, DaveL\, Orie\, ManuS\, Andres\, DmitriZ\n\n### Meeting Chair
 :\nBrent Zundel\n\n### Topics (time)\n1-Agenda Review\, Introductions  (5 
 min)\n2-Issue Discussion [2] (50 min)\n\n#### Links\n[1] https://github.co
 m/w3c/vc-data-model/pulls\n[2] https://github.com/w3c/vc-data-model/issues
 ?q=is%3Aopen+is%3Aissue+label%3Abefore-CR+sort%3Aupdated-asc+-label%3A%22p
 r+exists%22+-label%3A%22ready+for+PR%22+\n\n### Issues marked pending clos
 e:\nAs of the time this email was sent\, the following issues and PRs were
  marked 'pending close':\n\nIssue 1206: https://github.com/w3c/vc-data-mod
 el/issues/1206\nIssue 1276: https://github.com/w3c/vc-data-model/issues/12
 76\nIssue 1298: https://github.com/w3c/vc-data-model/issues/1298\nIssue 13
 25: https://github.com/w3c/vc-data-model/issues/1325\n\nFor an up to date 
 list of the current set of 'pending close' issues\, please see: \nhttps://
 github.com/w3c/vc-data-model/issues?q=is%3Aissue+is%3Aopen+sort%3Aupdated-
 asc+label%3A%22pending+close%22"
STATUS:CONFIRMED
CREATED:20231031T000014Z
LAST-MODIFIED:20231031T161910Z
SEQUENCE:4
ORGANIZER;CN=W3C Calendar;PARTSTAT=ACCEPTED;ROLE=NON-PARTICIPANT:mailto:nor
 eply@w3.org
ATTENDEE;CUTYPE=GROUP;ROLE=OPT-PARTICIPANT;RSVP=FALSE;CN=Verifiable Credent
 ials Working Group:mailto:public-vc-wg@w3.org
RECURRENCE-ID;TZID=America/New_York:20231031T110000
END:VEVENT
END:VCALENDAR
