BEGIN:VCALENDAR
VERSION:2.0
PRODID:-//Sabre//Sabre VObject 4.5.8//EN
CALSCALE:GREGORIAN
LAST-MODIFIED:20240619T063355Z
BEGIN:VTIMEZONE
TZID:Etc/UTC
BEGIN:STANDARD
DTSTART:20230624T150000
TZOFFSETFROM:+0000
TZOFFSETTO:+0000
TZNAME:UTC
END:STANDARD
END:VTIMEZONE
BEGIN:VEVENT
UID:f4b0701f-a950-4910-90b6-fe96e6e124b5
DTSTAMP:20240619T063355Z
SUMMARY:WebRTC WG June 2024 call
DTSTART;TZID=Etc/UTC:20240618T150000
DTEND;TZID=Etc/UTC:20240618T170000
DESCRIPTION:https://www.w3.org/events/meetings/f4b0701f-a950-4910-90b6-fe96
 e6e124b5/\n\n\n\nAgenda: https://www.w3.org/2011/04/webrtc/wiki/June_18_20
 24
STATUS:CONFIRMED
CREATED:20240221T072553Z
LAST-MODIFIED:20240619T063355Z
SEQUENCE:1
ORGANIZER;CN=W3C Calendar;PARTSTAT=ACCEPTED;ROLE=NON-PARTICIPANT:mailto:nor
 eply@w3.org
ATTENDEE;CUTYPE=GROUP;ROLE=OPT-PARTICIPANT;RSVP=FALSE;CN=Web Real-Time Comm
 unications Working Group:mailto:public-webrtc@w3.org
END:VEVENT
END:VCALENDAR
