BEGIN:VCALENDAR
VERSION:2.0
PRODID:-//Sabre//Sabre VObject 4.5.8//EN
CALSCALE:GREGORIAN
LAST-MODIFIED:20260218T182649Z
BEGIN:VTIMEZONE
TZID:Asia/Tokyo
X-MICROSOFT-CDO-TZID:20
BEGIN:STANDARD
DTSTART:20241118T080000
TZOFFSETFROM:+0900
TZOFFSETTO:+0900
TZNAME:JST
END:STANDARD
END:VTIMEZONE
BEGIN:VEVENT
UID:f47d8f08-b217-49be-8d42-65bccc3ff3ef
DTSTAMP:20260218T182649Z
SUMMARY:Navigating the Future
DTSTART;TZID=Asia/Tokyo:20251113T170000
DTEND;TZID=Asia/Tokyo:20251113T180000
DESCRIPTION:https://www.w3.org/events/meetings/f47d8f08-b217-49be-8d42-65bc
 cc3ff3ef/\n\nThe web is expanding constantly. Expansion of new technologie
 s (AI\, Digital Wallets) is happening faster than ever\, shifting wildly s
 ociety and the economy. W3C needs a consistent\, strategic way to navigate
  those evolutions. The technology strategy initiative task force goal is t
 o guidance to help W3C know when to address changes and innovation\, when 
 to ignore changes and innovation\, and when there might be opportunity for
  W3C to instigate change.\n\nW3C  has been using minimally structured incu
 bation pipeline that focuses on early exploration\, open collaboration\, a
 nd review over the years:\n* Community Groups: WICG\, Credentials\, Machin
 e Learning\, …\n* Workshops: Age-Based Restrictions on Content Access (2
 025\, jointly with IAB)\, Smart Voice Agents (2026) \n* Interest Groups: M
 edia and Entertainment\, Web Payment Security\, Smart Cities\, …\n* W3C 
 Team strategy pipeline: [w3c/strategy](https://github.com/w3c/strategy/iss
 ues) issues\n\nThe Task Force would like input from the community. What ne
 w technology are we missing and\, most importantly\, why? How do we evalua
 te new technologies? What guiding principle are we missing? How do we prio
 ritize?\n\n**Goal(s):**\nGather input from the community our how we decide
  to address technology evolution\n\nAgenda\n\n- Introduction to the task f
 orce and current approaches to navigate new technologies ([slides](https:/
 /www.w3.org/2025/Talks/TPAC/technology-strategy/))\n- Discussion\n\n**Mate
 rials:**\n- [Session proposal on GitHub](https://github.com/w3c/tpac2025-b
 reakouts/issues/92)
STATUS:CONFIRMED
CREATED:20251111T213655Z
LAST-MODIFIED:20260218T182649Z
SEQUENCE:1
ORGANIZER;CN=W3C Calendar;PARTSTAT=ACCEPTED;ROLE=NON-PARTICIPANT:mailto:nor
 eply@w3.org
LOCATION:Floor 4 - 405
CATEGORIES:TPAC 2025,Breakout Sessions
END:VEVENT
END:VCALENDAR
