BEGIN:VCALENDAR
VERSION:2.0
PRODID:-//Sabre//Sabre VObject 4.5.8//EN
CALSCALE:GREGORIAN
LAST-MODIFIED:20220405T105625Z
BEGIN:VTIMEZONE
TZID:Europe/Brussels
BEGIN:STANDARD
DTSTART:20211031T010000
TZOFFSETFROM:+0200
TZOFFSETTO:+0100
TZNAME:CET
END:STANDARD
BEGIN:STANDARD
DTSTART:20221030T010000
TZOFFSETFROM:+0200
TZOFFSETTO:+0100
TZNAME:CET
END:STANDARD
BEGIN:DAYLIGHT
DTSTART:20220327T010000
TZOFFSETFROM:+0100
TZOFFSETTO:+0200
TZNAME:CEST
END:DAYLIGHT
END:VTIMEZONE
BEGIN:VEVENT
UID:f3fce326-592f-4dc3-9f38-2d9dff5c33a3
DTSTAMP:20220405T105625Z
SUMMARY:[Cancelled] Open Athletics Virtual Meeting - April
DTSTART;TZID=Europe/Brussels:20220406T100000
DTEND;TZID=Europe/Brussels:20220406T110000
DESCRIPTION:https://www.w3.org/events/meetings/f3fce326-592f-4dc3-9f38-2d9d
 ff5c33a3/\n\nThis meeting was postponed to May due to the lack of topics f
 or discussion. Save the date for the next meeting in 4 weeks. Also\, feel 
 free to propose agenda topics.
STATUS:CANCELLED
CREATED:20220309T094933Z
LAST-MODIFIED:20220405T105625Z
SEQUENCE:2
ORGANIZER;CN=W3C Calendar;PARTSTAT=ACCEPTED;ROLE=NON-PARTICIPANT:mailto:nor
 eply@w3.org
ATTENDEE;CUTYPE=GROUP;ROLE=OPT-PARTICIPANT;RSVP=FALSE;CN=OpenTrack Communit
 y Group:mailto:public-opentrack@w3.org
LOCATION:https://meet.jit.si/openathletics
END:VEVENT
END:VCALENDAR
