BEGIN:VCALENDAR
VERSION:2.0
PRODID:-//Sabre//Sabre VObject 4.5.8//EN
CALSCALE:GREGORIAN
LAST-MODIFIED:20260219T070423Z
BEGIN:VTIMEZONE
TZID:Asia/Tokyo
X-MICROSOFT-CDO-TZID:20
BEGIN:STANDARD
DTSTART:20241117T010000
TZOFFSETFROM:+0900
TZOFFSETTO:+0900
TZNAME:JST
END:STANDARD
END:VTIMEZONE
BEGIN:VEVENT
UID:f3f84f84-e1a0-49a6-97d8-6db2736ccd74
DTSTAMP:20260219T070423Z
SUMMARY:Enabling Effective AC Participation
DTSTART;TZID=Asia/Tokyo:20251112T100000
DTEND;TZID=Asia/Tokyo:20251112T110000
DESCRIPTION:https://www.w3.org/events/meetings/f3f84f84-e1a0-49a6-97d8-6db2
 736ccd74/\n\nBrainstorm ways to improve the effectiveness of the AC\, as a
  community and in its role advising and overseeing W3C activities.\n\nThis
  session will target AC Reps in particular.\n\n**Goal(s):**\nCome up with 
 concrete implementable ideas to improve the experience and effectiveness o
 f the AC.\n\nAgenda\n\n* Collect ideas for problems and solutions.\n* Disc
 uss which ones are most likely to help.\n* Come up with an implementation 
 plan that we can execute.\n\n**Materials:**\n- [Session proposal on GitHub
 ](https://github.com/w3c/tpac2025-breakouts/issues/80)
STATUS:CONFIRMED
CREATED:20251028T131748Z
LAST-MODIFIED:20260219T070423Z
SEQUENCE:3
ORGANIZER;CN=W3C Calendar;PARTSTAT=ACCEPTED;ROLE=NON-PARTICIPANT:mailto:nor
 eply@w3.org
LOCATION:Floor 5 - 505
CATEGORIES:TPAC 2025,Breakout Sessions
END:VEVENT
END:VCALENDAR
