BEGIN:VCALENDAR
VERSION:2.0
PRODID:-//Sabre//Sabre VObject 4.5.8//EN
CALSCALE:GREGORIAN
LAST-MODIFIED:20240926T220413Z
BEGIN:VTIMEZONE
TZID:America/Los_Angeles
X-MICROSOFT-CDO-TZID:13
BEGIN:STANDARD
DTSTART:20231105T090000
TZOFFSETFROM:-0700
TZOFFSETTO:-0800
TZNAME:PST
END:STANDARD
BEGIN:STANDARD
DTSTART:20241103T090000
TZOFFSETFROM:-0700
TZOFFSETTO:-0800
TZNAME:PST
END:STANDARD
BEGIN:DAYLIGHT
DTSTART:20240310T100000
TZOFFSETFROM:-0800
TZOFFSETTO:-0700
TZNAME:PDT
END:DAYLIGHT
END:VTIMEZONE
BEGIN:VEVENT
UID:f2bf3d58-2389-4e40-9e2c-34ff8fc3b749
DTSTAMP:20240926T220413Z
SUMMARY:Browser Testing and Tools Working Group
DTSTART;TZID=America/Los_Angeles:20240926T090000
DTEND;TZID=America/Los_Angeles:20240926T180000
DESCRIPTION:https://www.w3.org/events/meetings/f2bf3d58-2389-4e40-9e2c-34ff
 8fc3b749/\n\n\n\nAgenda: https://www.w3.org/wiki/WebDriver/2024-09-TPAC
STATUS:CONFIRMED
CREATED:20240614T163437Z
LAST-MODIFIED:20240926T220413Z
SEQUENCE:6
ORGANIZER;CN=W3C Calendar;PARTSTAT=ACCEPTED;ROLE=NON-PARTICIPANT:mailto:nor
 eply@w3.org
ATTENDEE;CUTYPE=GROUP;ROLE=OPT-PARTICIPANT;RSVP=FALSE;CN=Browser Testing an
 d Tools Working Group:mailto:public-browser-tools-testing@w3.org
LOCATION:-1 Lower Level - Catalina 3
CATEGORIES:TPAC 2024,Group Meetings
END:VEVENT
END:VCALENDAR
