BEGIN:VCALENDAR
VERSION:2.0
PRODID:-//Sabre//Sabre VObject 4.5.8//EN
CALSCALE:GREGORIAN
LAST-MODIFIED:20220914T125304Z
BEGIN:VTIMEZONE
TZID:America/Vancouver
BEGIN:STANDARD
DTSTART:20211107T090000
TZOFFSETFROM:-0700
TZOFFSETTO:-0800
TZNAME:PST
END:STANDARD
BEGIN:STANDARD
DTSTART:20221106T090000
TZOFFSETFROM:-0700
TZOFFSETTO:-0800
TZNAME:PST
END:STANDARD
BEGIN:DAYLIGHT
DTSTART:20220313T100000
TZOFFSETFROM:-0800
TZOFFSETTO:-0700
TZNAME:PDT
END:DAYLIGHT
END:VTIMEZONE
BEGIN:VEVENT
UID:f243730c-747a-4966-9b43-b18a6e53c44f
DTSTAMP:20220914T125304Z
SUMMARY:Web-based Digital Twins for Smart Cities
DTSTART;TZID=America/Vancouver:20220914T163000
DTEND;TZID=America/Vancouver:20220914T173000
DESCRIPTION:https://www.w3.org/events/meetings/f243730c-747a-4966-9b43-b18a
 6e53c44f/\n\nDiscussion on Digital-twin services for Smart Cities specifil
 ally about (1) what is already done by whom (SDOs\, vendors\, governments\
 , etc.) in which area\, (2) what is still missing for expected Web-based S
 mart Cities\, and (3) who and how to lead the discussion to resolve the ga
 ps.\n\nAgenda\n\n**Facilitators & speakers**: Kazuyuki Ashimura\n\n**Sessi
 on type**: talk + open discussion\n\n**Summary**: Discussion on Digital-tw
 in services for Smart Cities specifilally about (1) what is already done b
 y whom (SDOs\, vendors\, governments\, etc.) in which area\, (2) what is s
 till missing for expected Web-based Smart Cities\, and (3) who and how to 
 lead the discussion to resolve the gaps.\n\n**Goals**:\n- Identify the mos
 t important categories of problems to implement actual Smart Cities based 
 on the exisitng and near future Web standards\n\nJoining Instructions: htt
 ps://us02web.zoom.us/j/7729314923?pwd=Q0hIbWVQUFRqU1V6cWhYV1BXUHI1QT09\n\n
 Chat\n\nhttps://irc.w3.org/?channels=%23smartcities
STATUS:CONFIRMED
CREATED:20220909T111709Z
LAST-MODIFIED:20220914T125304Z
SEQUENCE:1
ORGANIZER;CN=W3C Calendar;PARTSTAT=ACCEPTED;ROLE=NON-PARTICIPANT:mailto:nor
 eply@w3.org
ATTENDEE;CN=Martin Alvarez-Espinar:mailto:martin.alvarez.espinar1@huawei.co
 m
ATTENDEE;CN=christin cai:mailto:christincai@tencent.com
ATTENDEE;CN=David Ezell:mailto:dezell@conexxus.org
ATTENDEE;CN=Marie Jordan:mailto:majordan@visa.com
ATTENDEE;CN=Ege Korkan:mailto:ege.korkan@siemens.com
ATTENDEE;CN=Don Le:mailto:donle@article19.org
ATTENDEE;CN=Michael McCool:mailto:michael.d.mccool@gmail.com
ATTENDEE;CN=Bradley Needham:mailto:bradley.needham@sony.com
ATTENDEE;CN=Hiroshi Ota:mailto:hioota@lycorp.co.jp
ATTENDEE;CN=Kunihiko Toumura:mailto:kunihiko.toumura.yv@hitachi.com
ATTENDEE;CN=Harry Wang:mailto:harryhwang@tencent.com
ATTENDEE;CN=Ayşegül Yönet:mailto:aysegulyonet@gmail.com
LOCATION:Junior CD — North Tower 3rd floor
CATEGORIES:TPAC 2022,Breakout Sessions
END:VEVENT
END:VCALENDAR
