BEGIN:VCALENDAR
VERSION:2.0
PRODID:-//Sabre//Sabre VObject 4.5.8//EN
CALSCALE:GREGORIAN
LAST-MODIFIED:20251016T203722Z
BEGIN:VTIMEZONE
TZID:Asia/Tokyo
X-MICROSOFT-CDO-TZID:20
BEGIN:STANDARD
DTSTART:20241116T004500
TZOFFSETFROM:+0900
TZOFFSETTO:+0900
TZNAME:JST
END:STANDARD
END:VTIMEZONE
BEGIN:VEVENT
UID:f2344829-8d2f-4152-9498-c31d21d66fee
DTSTAMP:20251016T203722Z
SUMMARY:Second Screen Working Group
DTSTART;TZID=Asia/Tokyo:20251111T094500
DTEND;TZID=Asia/Tokyo:20251111T110000
DESCRIPTION:https://www.w3.org/events/meetings/f2344829-8d2f-4152-9498-c31d
 21d66fee/\n\n
STATUS:CANCELLED
CREATED:20250716T142452Z
LAST-MODIFIED:20251016T203722Z
SEQUENCE:4
ORGANIZER;CN=W3C Calendar;PARTSTAT=ACCEPTED;ROLE=NON-PARTICIPANT:mailto:nor
 eply@w3.org
ATTENDEE;CUTYPE=GROUP;ROLE=OPT-PARTICIPANT;RSVP=FALSE;CN=Second Screen Work
 ing Group:mailto:public-secondscreen@w3.org
LOCATION:R12
CATEGORIES:TPAC 2025,Group Meetings
END:VEVENT
END:VCALENDAR
