BEGIN:VCALENDAR
VERSION:2.0
PRODID:-//Sabre//Sabre VObject 4.5.8//EN
CALSCALE:GREGORIAN
LAST-MODIFIED:20250311T123915Z
BEGIN:VTIMEZONE
TZID:Europe/Paris
X-MICROSOFT-CDO-TZID:3
BEGIN:DAYLIGHT
DTSTART:20240331T010000
TZOFFSETFROM:+0100
TZOFFSETTO:+0200
TZNAME:CEST
END:DAYLIGHT
BEGIN:DAYLIGHT
DTSTART:20250330T010000
TZOFFSETFROM:+0100
TZOFFSETTO:+0200
TZNAME:CEST
END:DAYLIGHT
BEGIN:STANDARD
DTSTART:20241027T010000
TZOFFSETFROM:+0200
TZOFFSETTO:+0100
TZNAME:CET
END:STANDARD
END:VTIMEZONE
BEGIN:VEVENT
UID:f20ab174-7025-4439-b518-301b4d8ec358
DTSTAMP:20250311T123915Z
SUMMARY:Discussion of a new CG focused on Loading and Control JS API for We
 b Games
DTSTART;TZID=Europe/Paris:20250325T110000
DTEND;TZID=Europe/Paris:20250325T120000
DESCRIPTION:https://www.w3.org/events/meetings/f20ab174-7025-4439-b518-301b
 4d8ec358/\n\nAfter previous discussions in our community group\, we have d
 rafted a charter for a potential new community group to focus on the JavaS
 cript API proposal for standardising how web game developers integrate wit
 h web game portals and other hosting services. Our proposed name is the 
 “Loading and Control JavaScript API”.\n\nWhy a new group?\n\n* The cha
 rter of the existing Web Games Community Group does not currently include 
 the purview of writing specifications for new APIs or standards. It would
 ’ve been possible to alter the existing charter but after discussions be
 tween the co-chairs it was decided it would be better to create a dedicate
 d group to focus on this task in particular. Hence we have created a draft
  charter for the new group to achieve that particular goal.\n\nWhat is thi
 s proposed API exactly?\n\n* The proposal aims to define a Micro-API outli
 ning a boundary between a web game and the page on which it is embedded.\n
 \nFor more details such as “why we should make a new API”\, we recomme
 nd you [read the draft charter](https://docs.google.com/document/d/1RL4hTF
 JcuSGjeWNxzz3g2P7K8GyIx2YXX2XOZyuxSfs/edit?tab=t.0). As that gives more de
 tail on the proposal\, goal and scope. This will also be excellent prepara
 tion before the discussion meeting.\n\nAgenda: https://docs.google.com/doc
 ument/d/1CQtWyYPOjLy7np7SW-exbW20SXv61YaStBBVi042oHc/edit?tab=t.0
STATUS:CONFIRMED
CREATED:20250311T095750Z
LAST-MODIFIED:20250311T123915Z
SEQUENCE:3
ORGANIZER;CN=W3C Calendar;PARTSTAT=ACCEPTED;ROLE=NON-PARTICIPANT:mailto:nor
 eply@w3.org
ATTENDEE;CUTYPE=GROUP;ROLE=OPT-PARTICIPANT;RSVP=FALSE;CN=Games Community Gr
 oup:mailto:public-games@w3.org
END:VEVENT
END:VCALENDAR
