BEGIN:VCALENDAR
VERSION:2.0
PRODID:-//Sabre//Sabre VObject 4.5.8//EN
CALSCALE:GREGORIAN
LAST-MODIFIED:20211122T171000Z
BEGIN:VTIMEZONE
TZID:America/Toronto
BEGIN:DAYLIGHT
DTSTART:20210314T070000
TZOFFSETFROM:-0500
TZOFFSETTO:-0400
TZNAME:EDT
END:DAYLIGHT
BEGIN:DAYLIGHT
DTSTART:20220313T070000
TZOFFSETFROM:-0500
TZOFFSETTO:-0400
TZNAME:EDT
END:DAYLIGHT
BEGIN:STANDARD
DTSTART:20211107T060000
TZOFFSETFROM:-0400
TZOFFSETTO:-0500
TZNAME:EST
END:STANDARD
END:VTIMEZONE
BEGIN:VEVENT
UID:f1a0c2fd-055c-4c48-96d1-a7d9b463c4d9
DTSTAMP:20211122T171000Z
SUMMARY:Virtual Locators TF
DTSTART;TZID=America/Toronto:20211124T200000
DTEND;TZID=America/Toronto:20211124T210000
DESCRIPTION:https://www.w3.org/events/meetings/f1a0c2fd-055c-4c48-96d1-a7d9
 b463c4d9/20211124T200000/\n\nCancelling for Thanksgiving\, see you all nex
 t time!\n\nTaskforce meeting for Virtual Locators. We are developing recom
 mendations and best practices for the EPUB locations problem.
STATUS:CANCELLED
CREATED:20211122T170959Z
LAST-MODIFIED:20211122T171000Z
SEQUENCE:1
ORGANIZER;CN=W3C Calendar;PARTSTAT=ACCEPTED;ROLE=NON-PARTICIPANT:mailto:nor
 eply@w3.org
ATTENDEE;CUTYPE=GROUP;ROLE=OPT-PARTICIPANT;RSVP=FALSE;CN=EPUB 3 Working Gro
 up:mailto:public-epub-wg@w3.org
LOCATION:https://mit.zoom.us/j/92468476393?pwd=Yk5ydXZqSTlla01PTkdlZVpuZ1lR
 dz09
RECURRENCE-ID;TZID=America/Toronto:20211124T200000
END:VEVENT
END:VCALENDAR
