BEGIN:VCALENDAR
VERSION:2.0
PRODID:-//Sabre//Sabre VObject 4.5.8//EN
CALSCALE:GREGORIAN
LAST-MODIFIED:20210805T180311Z
BEGIN:VTIMEZONE
TZID:America/Toronto
BEGIN:STANDARD
DTSTART:20201101T060000
TZOFFSETFROM:-0400
TZOFFSETTO:-0500
TZNAME:EST
END:STANDARD
BEGIN:STANDARD
DTSTART:20211107T060000
TZOFFSETFROM:-0400
TZOFFSETTO:-0500
TZNAME:EST
END:STANDARD
BEGIN:DAYLIGHT
DTSTART:20210314T070000
TZOFFSETFROM:-0500
TZOFFSETTO:-0400
TZNAME:EDT
END:DAYLIGHT
END:VTIMEZONE
BEGIN:VEVENT
UID:f1a0c2fd-055c-4c48-96d1-a7d9b463c4d9
DTSTAMP:20210805T180311Z
SUMMARY:Virtual Locators TF
DTSTART;TZID=America/Toronto:20210929T200000
DTEND;TZID=America/Toronto:20210929T210000
DESCRIPTION:https://www.w3.org/events/meetings/f1a0c2fd-055c-4c48-96d1-a7d9
 b463c4d9/20210929T200000/\n\nTaskforce meeting for Virtual Locators. We ar
 e developing recommendations and best practices for the EPUB locations pro
 blem.
STATUS:CONFIRMED
CREATED:20210805T180309Z
LAST-MODIFIED:20210805T180311Z
SEQUENCE:0
ORGANIZER;CN=W3C Calendar;PARTSTAT=ACCEPTED;ROLE=NON-PARTICIPANT:mailto:nor
 eply@w3.org
ATTENDEE;CUTYPE=GROUP;ROLE=OPT-PARTICIPANT;RSVP=FALSE;CN=EPUB 3 Working Gro
 up:mailto:public-epub-wg@w3.org
LOCATION:https://mit.zoom.us/j/92468476393?pwd=Yk5ydXZqSTlla01PTkdlZVpuZ1lR
 dz09
RECURRENCE-ID;TZID=America/Toronto:20210929T200000
END:VEVENT
END:VCALENDAR
