BEGIN:VCALENDAR
VERSION:2.0
PRODID:-//Sabre//Sabre VObject 4.5.8//EN
CALSCALE:GREGORIAN
LAST-MODIFIED:20251208T060835Z
BEGIN:VTIMEZONE
TZID:Etc/UTC
BEGIN:STANDARD
DTSTART:20241217T150000
TZOFFSETFROM:+0000
TZOFFSETTO:+0000
TZNAME:UTC
END:STANDARD
END:VTIMEZONE
BEGIN:VEVENT
UID:f17d5590-dd5b-4af2-b583-1b2a012d13aa
DTSTAMP:20251208T060835Z
SUMMARY:WebView CG Meeting - Recap 2025
DTSTART;TZID=Etc/UTC:20251212T150000
DTEND;TZID=Etc/UTC:20251212T160000
DESCRIPTION:https://www.w3.org/events/meetings/f17d5590-dd5b-4af2-b583-1b2a
 012d13aa/\n\nLet's recap TPAC\, 2025 and have a quick outlook on what we a
 re going continue next year.\n\nAgenda: https://bit.ly/webview-cg-2025-dec
 \n\nAgenda\n\n* Short recap TPAC\n* Short recap 2025\n* What's next for Ba
 seline for WebView\n    * web-features tooling\n    * Developer perception
  interviews
STATUS:CONFIRMED
CREATED:20251208T060833Z
LAST-MODIFIED:20251208T060835Z
SEQUENCE:0
ORGANIZER;CN=W3C Calendar;PARTSTAT=ACCEPTED;ROLE=NON-PARTICIPANT:mailto:nor
 eply@w3.org
ATTENDEE;CUTYPE=GROUP;ROLE=OPT-PARTICIPANT;RSVP=FALSE;CN=WebView Community 
 Group:mailto:public-webview@w3.org
END:VEVENT
END:VCALENDAR
