BEGIN:VCALENDAR
VERSION:2.0
PRODID:-//Sabre//Sabre VObject 4.5.8//EN
CALSCALE:GREGORIAN
LAST-MODIFIED:20211104T224905Z
BEGIN:VTIMEZONE
TZID:Etc/UTC
BEGIN:STANDARD
DTSTART:20201019T150000
TZOFFSETFROM:+0000
TZOFFSETTO:+0000
TZNAME:UTC
END:STANDARD
END:VTIMEZONE
BEGIN:VEVENT
UID:f13adee3-d80c-4348-bc2a-64e006b0db4a
DTSTAMP:20211104T224905Z
SUMMARY:WebExtensions CG
DTSTART;TZID=Etc/UTC:20211014T150000
DTEND;TZID=Etc/UTC:20211014T160000
DESCRIPTION:https://www.w3.org/events/meetings/f13adee3-d80c-4348-bc2a-64e0
 06b0db4a/20211014T150000/\n\nThe WebExtensions Community group meets virtu
 ally every other week for one hour to discuss issues of interest to the gr
 oup. These meetings are supplementary to the ongoing conversations in the 
 issue tracker.\n\nAgenda: https://docs.google.com/document/d/1QkwhEMtMS67J
 BUkl_WVPZ4lRSKoWcQNlLJSf_GwSXg8\n\nAgenda\n\nGithub issues: https://github
 .com/w3c/webextensions/issues\nAgenda: https://docs.google.com/document/d/
 1QkwhEMtMS67JBUkl_WVPZ4lRSKoWcQNlLJSf_GwSXg8\n\nPlease add yourself at the
  bottom of the Queue section if you have a discussion point.
STATUS:CONFIRMED
CREATED:20210902T191455Z
LAST-MODIFIED:20211104T224905Z
SEQUENCE:3
ORGANIZER;CN=W3C Calendar;PARTSTAT=ACCEPTED;ROLE=NON-PARTICIPANT:mailto:nor
 eply@w3.org
ATTENDEE;CUTYPE=GROUP;ROLE=OPT-PARTICIPANT;RSVP=FALSE;CN=WebExtensions Comm
 unity Group:mailto:public-webextensions@w3.org
RECURRENCE-ID;TZID=Etc/UTC:20211014T150000
END:VEVENT
END:VCALENDAR
