BEGIN:VCALENDAR
VERSION:2.0
PRODID:-//Sabre//Sabre VObject 4.5.8//EN
CALSCALE:GREGORIAN
LAST-MODIFIED:20260206T170622Z
BEGIN:VTIMEZONE
TZID:America/Los_Angeles
X-MICROSOFT-CDO-TZID:13
BEGIN:DAYLIGHT
DTSTART:20250309T100000
TZOFFSETFROM:-0800
TZOFFSETTO:-0700
TZNAME:PDT
END:DAYLIGHT
BEGIN:DAYLIGHT
DTSTART:20260308T100000
TZOFFSETFROM:-0800
TZOFFSETTO:-0700
TZNAME:PDT
END:DAYLIGHT
BEGIN:STANDARD
DTSTART:20251102T090000
TZOFFSETFROM:-0700
TZOFFSETTO:-0800
TZNAME:PST
END:STANDARD
END:VTIMEZONE
BEGIN:VEVENT
UID:f0e673ab-e0f9-4140-9f8b-1d8dba9b1dd6
DTSTAMP:20260206T170622Z
SUMMARY:CCG — Verifiable Issuers and Verifiers
DTSTART;TZID=America/Los_Angeles:20260210T080000
DTEND;TZID=America/Los_Angeles:20260210T090000
DESCRIPTION:https://www.w3.org/events/meetings/f0e673ab-e0f9-4140-9f8b-1d8d
 ba9b1dd6/20260210T080000/\n\nWe have moved the "CCG — Incubation" call t
 o Tuesdays and back one hour. We have also renamed the recurring call to b
 etter reflect our current focus which is on the "Verifiable Issuers and Ve
 rifiers" specification: https://github.com/w3c-ccg/verifiable-issuers-veri
 fiers/\n\nAgenda\n\nDiscussing pending PRs (and issues\, if time):\nhttps:
 //github.com/w3c-ccg/verifiable-issuers-verifiers/pulls\n\nJoining Instruc
 tions: https://meet.google.com/osb-nmyo-muh\n\nJoining Instructions\n\nGoo
 gle Meet joining info\nVideo call link: https://meet.google.com/osb-nmyo-m
 uh\nOr dial: ‪(US) +1 585-491-8440‬ PIN: ‪930 103 046‬#\nMore phon
 e numbers: https://tel.meet/osb-nmyo-muh?pin=1153834300837
STATUS:CONFIRMED
CREATED:20260206T170617Z
LAST-MODIFIED:20260206T170622Z
SEQUENCE:6
ORGANIZER;CN=W3C Calendar;PARTSTAT=ACCEPTED;ROLE=NON-PARTICIPANT:mailto:nor
 eply@w3.org
ATTENDEE;CUTYPE=GROUP;ROLE=OPT-PARTICIPANT;RSVP=FALSE;CN=Credentials Commun
 ity Group:mailto:public-credentials@w3.org
RECURRENCE-ID;TZID=America/Los_Angeles:20260210T080000
END:VEVENT
END:VCALENDAR
