BEGIN:VCALENDAR
VERSION:2.0
PRODID:-//Sabre//Sabre VObject 4.5.8//EN
CALSCALE:GREGORIAN
LAST-MODIFIED:20251104T161407Z
BEGIN:VTIMEZONE
TZID:Asia/Tokyo
X-MICROSOFT-CDO-TZID:20
BEGIN:STANDARD
DTSTART:20241116T023000
TZOFFSETFROM:+0900
TZOFFSETTO:+0900
TZNAME:JST
END:STANDARD
END:VTIMEZONE
BEGIN:VEVENT
UID:f0b973af-8de9-4c12-be03-2e89fac9b6c4
DTSTAMP:20251104T161407Z
SUMMARY:Publishing Maintenance WG
DTSTART;TZID=Asia/Tokyo:20251111T113000
DTEND;TZID=Asia/Tokyo:20251111T180000
DESCRIPTION:https://www.w3.org/events/meetings/f0b973af-8de9-4c12-be03-2e89
 fac9b6c4/\n\n\n\nAgenda: https://github.com/w3c/epub-specs/discussions/281
 5#discussioncomment-14751130\n\nAgenda\n\n| Time (JST)  | Topic           
                       | CET         | ET          |\n| ----------- | -----
 -------------------------------- | ----------- | ----------- |\n| 9:45-11:
 00  | Publishing Business Group Meeting     | 01:45-03:00 | 19:45-21:00 |\
 n| 11:00-11:30 | Break                                 | 03:00-03:30 | 21:
 00-21:30 |\n| 11:30-12:15 | Summary of Day 1 | 03:30-04:15 | 21:30-22:15 |
 \n| 12:15-13:00 | Japanese Publishing Guidelines Update | 04:15-05:00 | 22
 :15-23:00 |\n| 13:00-14:00 | Lunch                                 | 05:00
 -06:00 | 23:00-24:00 |\n| 14:00-15:00 | Updating Publication Manifest     
     | 06:00-07:00 | 24:00-01:00 |\n| 15:00-16:00 | HTML in EPUB           
                | 07:00-08:00 | 01:00-02:00 |\n| 16:00-16:30 | Break       
                           | 08:00-08:30 | 02:00-02:30 |\n| 16:30-17:15 |  
 Issue Clean-up                      | 08:30-09:15 | 02:30-03:15 |\n| 17:15
 -18:00 | Buffer/Wrap up                        | 09:15-10:00 | 03:15-04:00
  |
STATUS:CONFIRMED
CREATED:20250905T164659Z
LAST-MODIFIED:20251104T161407Z
SEQUENCE:5
ORGANIZER;CN=W3C Calendar;PARTSTAT=ACCEPTED;ROLE=NON-PARTICIPANT:mailto:nor
 eply@w3.org
ATTENDEE;CUTYPE=GROUP;ROLE=OPT-PARTICIPANT;RSVP=FALSE;CN=Publishing Mainten
 ance Working Group:mailto:public-pm-wg@w3.org
LOCATION:Floor 3 - 302
CATEGORIES:TPAC 2025,Group Meetings
END:VEVENT
END:VCALENDAR
