BEGIN:VCALENDAR
VERSION:2.0
PRODID:-//Sabre//Sabre VObject 4.5.8//EN
CALSCALE:GREGORIAN
LAST-MODIFIED:20220916T152835Z
BEGIN:VTIMEZONE
TZID:America/Vancouver
BEGIN:STANDARD
DTSTART:20211107T090000
TZOFFSETFROM:-0700
TZOFFSETTO:-0800
TZNAME:PST
END:STANDARD
BEGIN:STANDARD
DTSTART:20221106T090000
TZOFFSETFROM:-0700
TZOFFSETTO:-0800
TZNAME:PST
END:STANDARD
BEGIN:DAYLIGHT
DTSTART:20220313T100000
TZOFFSETFROM:-0800
TZOFFSETTO:-0700
TZNAME:PDT
END:DAYLIGHT
END:VTIMEZONE
BEGIN:VEVENT
UID:f05fa652-a27c-4776-ac6f-41742e0ab758
DTSTAMP:20220916T152835Z
SUMMARY:WebView Community Group
DTSTART;TZID=America/Vancouver:20220916T083000
DTEND;TZID=America/Vancouver:20220916T103000
DESCRIPTION:https://www.w3.org/events/meetings/f05fa652-a27c-4776-ac6f-4174
 2e0ab758/\n\n\n\nAgenda: https://github.com/WebView-CG/usage-and-challenge
 s/issues/35\n\nAgenda\n\n8:30-8:40 Introduction to the WebView CG (15 min)
 \n8:40-9:20 Introduction on CG report "WebView: Usage Scenarios and Challe
 nges" + Q&A \n9:20-9:30 Break\n9:30-10:00 Discussion of open GitHub issues
  (15-30 min)\n10:00-10:30 Discussion of next steps for the CG (30-45 min)\
 n- Collect more use cases?\n- Incubate technical proposals?
STATUS:CONFIRMED
CREATED:20220610T061523Z
LAST-MODIFIED:20220916T152835Z
SEQUENCE:5
ORGANIZER;CN=W3C Calendar;PARTSTAT=ACCEPTED;ROLE=NON-PARTICIPANT:mailto:nor
 eply@w3.org
ATTENDEE;CUTYPE=GROUP;ROLE=OPT-PARTICIPANT;RSVP=FALSE;CN=WebView Community 
 Group:mailto:public-webview@w3.org
LOCATION:Finback - 3rd floor Concourse
CATEGORIES:TPAC 2022,Group Meetings
END:VEVENT
END:VCALENDAR
