BEGIN:VCALENDAR
VERSION:2.0
PRODID:-//Sabre//Sabre VObject 4.5.8//EN
CALSCALE:GREGORIAN
LAST-MODIFIED:20260406T140615Z
BEGIN:VTIMEZONE
TZID:Europe/Berlin
X-MICROSOFT-CDO-TZID:4
BEGIN:DAYLIGHT
DTSTART:20250330T010000
TZOFFSETFROM:+0100
TZOFFSETTO:+0200
TZNAME:CEST
END:DAYLIGHT
BEGIN:DAYLIGHT
DTSTART:20260329T010000
TZOFFSETFROM:+0100
TZOFFSETTO:+0200
TZNAME:CEST
END:DAYLIGHT
BEGIN:DAYLIGHT
DTSTART:20270328T010000
TZOFFSETFROM:+0100
TZOFFSETTO:+0200
TZNAME:CEST
END:DAYLIGHT
BEGIN:STANDARD
DTSTART:20251026T010000
TZOFFSETFROM:+0200
TZOFFSETTO:+0100
TZNAME:CET
END:STANDARD
BEGIN:STANDARD
DTSTART:20261025T010000
TZOFFSETFROM:+0200
TZOFFSETTO:+0100
TZNAME:CET
END:STANDARD
END:VTIMEZONE
BEGIN:VTIMEZONE
TZID:Etc/UTC
BEGIN:STANDARD
DTSTART:20240608T160000
TZOFFSETFROM:+0000
TZOFFSETTO:+0000
TZNAME:UTC
END:STANDARD
END:VTIMEZONE
BEGIN:VEVENT
UID:f0250fe0-65a0-48a1-b752-4a656c3ec04e
DTSTAMP:20260309T141458Z
SUMMARY:Docs CG Bi-Weekly Call
DTSTART;TZID=Europe/Berlin:20260310T170000
DTEND;TZID=Europe/Berlin:20260310T180000
DESCRIPTION:https://www.w3.org/events/meetings/f0250fe0-65a0-48a1-b752-4a65
 6c3ec04e/\n\nBi-weekly call for the Docs Community Group\, the agenda is u
 pdated through submitting issues on the [Docs CG GitHub](https://github.co
 m/w3c-cg/webdocs)\n\nJoining Instructions: https://meet.google.com/ozp-ucq
 s-rbj\n\nJoining Instructions\n\nTo join the video meeting\, click this li
 nk: https://meet.google.com/ozp-ucqs-rbj\nOtherwise\, to join by phone\, d
 ial +44 20 3956 3635 and enter this PIN: 475 455 308#\nTo view more phone 
 numbers\, click this link: https://tel.meet/ozp-ucqs-rbj?hs=5
STATUS:CONFIRMED
CREATED:20260309T141457Z
LAST-MODIFIED:20260309T141458Z
SEQUENCE:1
ORGANIZER;CN=W3C Calendar;PARTSTAT=ACCEPTED;ROLE=NON-PARTICIPANT:mailto:nor
 eply@w3.org
ATTENDEE;CUTYPE=GROUP;ROLE=OPT-PARTICIPANT;RSVP=FALSE;CN=Documentation Comm
 unity Group:mailto:public-docs-cg@w3.org
RELATED-TO:93f599c6-ac5e-4b31-9f75-80ac0e5fb76a
RRULE:FREQ=WEEKLY;UNTIL=20270502T150000Z;INTERVAL=2;BYDAY=TU;WKST=MO
END:VEVENT
BEGIN:VEVENT
UID:f0250fe0-65a0-48a1-b752-4a656c3ec04e
DTSTAMP:20260323T115118Z
SUMMARY:Docs CG Bi-Weekly Call
DTSTART;TZID=Europe/Berlin:20260324T170000
DTEND;TZID=Europe/Berlin:20260324T180000
DESCRIPTION:https://www.w3.org/events/meetings/f0250fe0-65a0-48a1-b752-4a65
 6c3ec04e/20260324T170000/\n\nBi-weekly call for the Docs Community Group\,
  the agenda is updated through submitting issues on the [Docs CG GitHub](h
 ttps://github.com/w3c-cg/webdocs)\n\nJoining Instructions: https://meet.go
 ogle.com/ozp-ucqs-rbj\n\nJoining Instructions\n\nTo join the video meeting
 \, click this link: https://meet.google.com/ozp-ucqs-rbj\nOtherwise\, to j
 oin by phone\, dial +44 20 3956 3635 and enter this PIN: 475 455 308#\nTo 
 view more phone numbers\, click this link: https://tel.meet/ozp-ucqs-rbj?h
 s=5
STATUS:CANCELLED
CREATED:20260323T115117Z
LAST-MODIFIED:20260323T115118Z
SEQUENCE:2
ORGANIZER;CN=W3C Calendar;PARTSTAT=ACCEPTED;ROLE=NON-PARTICIPANT:mailto:nor
 eply@w3.org
ATTENDEE;CUTYPE=GROUP;ROLE=OPT-PARTICIPANT;RSVP=FALSE;CN=Documentation Comm
 unity Group:mailto:public-docs-cg@w3.org
RECURRENCE-ID;TZID=Europe/Berlin:20260324T170000
END:VEVENT
BEGIN:VEVENT
UID:f0250fe0-65a0-48a1-b752-4a656c3ec04e
DTSTAMP:20260406T140615Z
SUMMARY:Docs CG Bi-Weekly Call
DTSTART;TZID=Europe/Berlin:20260407T170000
DTEND;TZID=Europe/Berlin:20260407T180000
DESCRIPTION:https://www.w3.org/events/meetings/f0250fe0-65a0-48a1-b752-4a65
 6c3ec04e/20260407T170000/\n\nBi-weekly call for the Docs Community Group\,
  the agenda is updated through submitting issues on the [Docs CG GitHub](h
 ttps://github.com/w3c-cg/webdocs)\n\nJoining Instructions: https://meet.go
 ogle.com/ozp-ucqs-rbj\n\nJoining Instructions\n\nTo join the video meeting
 \, click this link: https://meet.google.com/ozp-ucqs-rbj\nOtherwise\, to j
 oin by phone\, dial +44 20 3956 3635 and enter this PIN: 475 455 308#\nTo 
 view more phone numbers\, click this link: https://tel.meet/ozp-ucqs-rbj?h
 s=5
STATUS:CANCELLED
CREATED:20260406T140614Z
LAST-MODIFIED:20260406T140615Z
SEQUENCE:2
ORGANIZER;CN=W3C Calendar;PARTSTAT=ACCEPTED;ROLE=NON-PARTICIPANT:mailto:nor
 eply@w3.org
ATTENDEE;CUTYPE=GROUP;ROLE=OPT-PARTICIPANT;RSVP=FALSE;CN=Documentation Comm
 unity Group:mailto:public-docs-cg@w3.org
RECURRENCE-ID;TZID=Europe/Berlin:20260407T170000
END:VEVENT
BEGIN:VEVENT
UID:93f599c6-ac5e-4b31-9f75-80ac0e5fb76a
DTSTAMP:20260309T141458Z
SUMMARY:Docs CG Bi-Weekly Call
DTSTART;TZID=Etc/UTC:20250617T150000
DTEND;TZID=Etc/UTC:20250617T160000
DESCRIPTION:https://www.w3.org/events/meetings/93f599c6-ac5e-4b31-9f75-80ac
 0e5fb76a/\n\nBi-weekly call for the Docs Community Group\, the agenda is u
 pdated through submitting issues on the [Docs CG GitHub](https://github.co
 m/w3c-cg/webdocs)\n\nJoining Instructions: https://meet.google.com/ozp-ucq
 s-rbj\n\nJoining Instructions\n\nTo join the video meeting\, click this li
 nk: https://meet.google.com/ozp-ucqs-rbj\nOtherwise\, to join by phone\, d
 ial +44 20 3956 3635 and enter this PIN: 475 455 308#\nTo view more phone 
 numbers\, click this link: https://tel.meet/ozp-ucqs-rbj?hs=5
STATUS:CONFIRMED
CREATED:20250603T150615Z
LAST-MODIFIED:20260309T141458Z
SEQUENCE:2
ORGANIZER;CN=W3C Calendar;PARTSTAT=ACCEPTED;ROLE=NON-PARTICIPANT:mailto:nor
 eply@w3.org
ATTENDEE;CUTYPE=GROUP;ROLE=OPT-PARTICIPANT;RSVP=FALSE;CN=Documentation Comm
 unity Group:mailto:public-docs-cg@w3.org
RELATED-TO:58345652-9f1b-405c-ba0e-d57fcaec2535
RELATED-TO:f0250fe0-65a0-48a1-b752-4a656c3ec04e
RRULE:FREQ=WEEKLY;UNTIL=20260224T150000Z;INTERVAL=2;BYDAY=TU;WKST=MO
END:VEVENT
BEGIN:VEVENT
UID:93f599c6-ac5e-4b31-9f75-80ac0e5fb76a
DTSTAMP:20250701T142920Z
SUMMARY:Docs CG Bi-Weekly Call
DTSTART;TZID=Etc/UTC:20250701T150000
DTEND;TZID=Etc/UTC:20250701T160000
DESCRIPTION:https://www.w3.org/events/meetings/93f599c6-ac5e-4b31-9f75-80ac
 0e5fb76a/20250701T150000/\n\nBi-weekly call for the Docs Community Group\,
  the agenda is updated through submitting issues on the [Docs CG GitHub](h
 ttps://github.com/w3c-cg/webdocs)\n\nJoining Instructions: https://meet.go
 ogle.com/ozp-ucqs-rbj\n\nJoining Instructions\n\nTo join the video meeting
 \, click this link: https://meet.google.com/ozp-ucqs-rbj\nOtherwise\, to j
 oin by phone\, dial +44 20 3956 3635 and enter this PIN: 475 455 308#\nTo 
 view more phone numbers\, click this link: https://tel.meet/ozp-ucqs-rbj?h
 s=5
STATUS:CANCELLED
CREATED:20250701T142919Z
LAST-MODIFIED:20250701T142920Z
SEQUENCE:1
ORGANIZER;CN=W3C Calendar;PARTSTAT=ACCEPTED;ROLE=NON-PARTICIPANT:mailto:nor
 eply@w3.org
ATTENDEE;CUTYPE=GROUP;ROLE=OPT-PARTICIPANT;RSVP=FALSE;CN=Documentation Comm
 unity Group:mailto:public-docs-cg@w3.org
RECURRENCE-ID;TZID=Etc/UTC:20250701T150000
END:VEVENT
BEGIN:VEVENT
UID:93f599c6-ac5e-4b31-9f75-80ac0e5fb76a
DTSTAMP:20250923T143540Z
SUMMARY:Docs CG Bi-Weekly Call
DTSTART;TZID=Etc/UTC:20250923T150000
DTEND;TZID=Etc/UTC:20250923T160000
DESCRIPTION:https://www.w3.org/events/meetings/93f599c6-ac5e-4b31-9f75-80ac
 0e5fb76a/20250923T150000/\n\nBi-weekly call for the Docs Community Group\,
  the agenda is updated through submitting issues on the [Docs CG GitHub](h
 ttps://github.com/w3c-cg/webdocs)\n\nJoining Instructions: https://meet.go
 ogle.com/ozp-ucqs-rbj\n\nJoining Instructions\n\nTo join the video meeting
 \, click this link: https://meet.google.com/ozp-ucqs-rbj\nOtherwise\, to j
 oin by phone\, dial +44 20 3956 3635 and enter this PIN: 475 455 308#\nTo 
 view more phone numbers\, click this link: https://tel.meet/ozp-ucqs-rbj?h
 s=5
STATUS:CANCELLED
CREATED:20250923T143539Z
LAST-MODIFIED:20250923T143540Z
SEQUENCE:1
ORGANIZER;CN=W3C Calendar;PARTSTAT=ACCEPTED;ROLE=NON-PARTICIPANT:mailto:nor
 eply@w3.org
ATTENDEE;CUTYPE=GROUP;ROLE=OPT-PARTICIPANT;RSVP=FALSE;CN=Documentation Comm
 unity Group:mailto:public-docs-cg@w3.org
RECURRENCE-ID;TZID=Etc/UTC:20250923T150000
END:VEVENT
BEGIN:VEVENT
UID:93f599c6-ac5e-4b31-9f75-80ac0e5fb76a
DTSTAMP:20251118T143126Z
SUMMARY:Docs CG Bi-Weekly Call
DTSTART;TZID=Etc/UTC:20251118T150000
DTEND;TZID=Etc/UTC:20251118T160000
DESCRIPTION:https://www.w3.org/events/meetings/93f599c6-ac5e-4b31-9f75-80ac
 0e5fb76a/20251118T150000/\n\nBi-weekly call for the Docs Community Group\,
  the agenda is updated through submitting issues on the [Docs CG GitHub](h
 ttps://github.com/w3c-cg/webdocs)\n\nJoining Instructions: https://meet.go
 ogle.com/ozp-ucqs-rbj\n\nJoining Instructions\n\nTo join the video meeting
 \, click this link: https://meet.google.com/ozp-ucqs-rbj\nOtherwise\, to j
 oin by phone\, dial +44 20 3956 3635 and enter this PIN: 475 455 308#\nTo 
 view more phone numbers\, click this link: https://tel.meet/ozp-ucqs-rbj?h
 s=5
STATUS:CANCELLED
CREATED:20251118T143125Z
LAST-MODIFIED:20251118T143126Z
SEQUENCE:2
ORGANIZER;CN=W3C Calendar;PARTSTAT=ACCEPTED;ROLE=NON-PARTICIPANT:mailto:nor
 eply@w3.org
ATTENDEE;CUTYPE=GROUP;ROLE=OPT-PARTICIPANT;RSVP=FALSE;CN=Documentation Comm
 unity Group:mailto:public-docs-cg@w3.org
RECURRENCE-ID;TZID=Etc/UTC:20251118T150000
END:VEVENT
BEGIN:VEVENT
UID:93f599c6-ac5e-4b31-9f75-80ac0e5fb76a
DTSTAMP:20251215T200920Z
SUMMARY:Docs CG Bi-Weekly Call
DTSTART;TZID=Etc/UTC:20251216T150000
DTEND;TZID=Etc/UTC:20251216T160000
DESCRIPTION:https://www.w3.org/events/meetings/93f599c6-ac5e-4b31-9f75-80ac
 0e5fb76a/20251216T150000/\n\nBi-weekly call for the Docs Community Group\,
  the agenda is updated through submitting issues on the [Docs CG GitHub](h
 ttps://github.com/w3c-cg/webdocs)\n\nJoining Instructions: https://meet.go
 ogle.com/ozp-ucqs-rbj\n\nJoining Instructions\n\nTo join the video meeting
 \, click this link: https://meet.google.com/ozp-ucqs-rbj\nOtherwise\, to j
 oin by phone\, dial +44 20 3956 3635 and enter this PIN: 475 455 308#\nTo 
 view more phone numbers\, click this link: https://tel.meet/ozp-ucqs-rbj?h
 s=5
STATUS:CANCELLED
CREATED:20251215T200920Z
LAST-MODIFIED:20251215T200920Z
SEQUENCE:2
ORGANIZER;CN=W3C Calendar;PARTSTAT=ACCEPTED;ROLE=NON-PARTICIPANT:mailto:nor
 eply@w3.org
ATTENDEE;CUTYPE=GROUP;ROLE=OPT-PARTICIPANT;RSVP=FALSE;CN=Documentation Comm
 unity Group:mailto:public-docs-cg@w3.org
RECURRENCE-ID;TZID=Etc/UTC:20251216T150000
END:VEVENT
BEGIN:VEVENT
UID:93f599c6-ac5e-4b31-9f75-80ac0e5fb76a
DTSTAMP:20251217T174443Z
SUMMARY:Docs CG Bi-Weekly Call
DTSTART;TZID=Etc/UTC:20251230T150000
DTEND;TZID=Etc/UTC:20251230T160000
DESCRIPTION:https://www.w3.org/events/meetings/93f599c6-ac5e-4b31-9f75-80ac
 0e5fb76a/20251230T150000/\n\nBi-weekly call for the Docs Community Group\,
  the agenda is updated through submitting issues on the [Docs CG GitHub](h
 ttps://github.com/w3c-cg/webdocs)\n\nJoining Instructions: https://meet.go
 ogle.com/ozp-ucqs-rbj\n\nJoining Instructions\n\nTo join the video meeting
 \, click this link: https://meet.google.com/ozp-ucqs-rbj\nOtherwise\, to j
 oin by phone\, dial +44 20 3956 3635 and enter this PIN: 475 455 308#\nTo 
 view more phone numbers\, click this link: https://tel.meet/ozp-ucqs-rbj?h
 s=5
STATUS:CANCELLED
CREATED:20251217T174443Z
LAST-MODIFIED:20251217T174443Z
SEQUENCE:2
ORGANIZER;CN=W3C Calendar;PARTSTAT=ACCEPTED;ROLE=NON-PARTICIPANT:mailto:nor
 eply@w3.org
ATTENDEE;CUTYPE=GROUP;ROLE=OPT-PARTICIPANT;RSVP=FALSE;CN=Documentation Comm
 unity Group:mailto:public-docs-cg@w3.org
RECURRENCE-ID;TZID=Etc/UTC:20251230T150000
END:VEVENT
BEGIN:VEVENT
UID:93f599c6-ac5e-4b31-9f75-80ac0e5fb76a
DTSTAMP:20260210T142822Z
SUMMARY:Docs CG Bi-Weekly Call
DTSTART;TZID=Etc/UTC:20260210T150000
DTEND;TZID=Etc/UTC:20260210T160000
DESCRIPTION:https://www.w3.org/events/meetings/93f599c6-ac5e-4b31-9f75-80ac
 0e5fb76a/20260210T150000/\n\nBi-weekly call for the Docs Community Group\,
  the agenda is updated through submitting issues on the [Docs CG GitHub](h
 ttps://github.com/w3c-cg/webdocs)\n\nJoining Instructions: https://meet.go
 ogle.com/ozp-ucqs-rbj\n\nJoining Instructions\n\nTo join the video meeting
 \, click this link: https://meet.google.com/ozp-ucqs-rbj\nOtherwise\, to j
 oin by phone\, dial +44 20 3956 3635 and enter this PIN: 475 455 308#\nTo 
 view more phone numbers\, click this link: https://tel.meet/ozp-ucqs-rbj?h
 s=5
STATUS:CANCELLED
CREATED:20260210T142822Z
LAST-MODIFIED:20260210T142822Z
SEQUENCE:2
ORGANIZER;CN=W3C Calendar;PARTSTAT=ACCEPTED;ROLE=NON-PARTICIPANT:mailto:nor
 eply@w3.org
ATTENDEE;CUTYPE=GROUP;ROLE=OPT-PARTICIPANT;RSVP=FALSE;CN=Documentation Comm
 unity Group:mailto:public-docs-cg@w3.org
RECURRENCE-ID;TZID=Etc/UTC:20260210T150000
END:VEVENT
BEGIN:VEVENT
UID:93f599c6-ac5e-4b31-9f75-80ac0e5fb76a
DTSTAMP:20260224T150416Z
SUMMARY:Docs CG Bi-Weekly Call
DTSTART;TZID=Etc/UTC:20260224T150000
DTEND;TZID=Etc/UTC:20260224T160000
DESCRIPTION:https://www.w3.org/events/meetings/93f599c6-ac5e-4b31-9f75-80ac
 0e5fb76a/20260224T150000/\n\nBi-weekly call for the Docs Community Group\,
  the agenda is updated through submitting issues on the [Docs CG GitHub](h
 ttps://github.com/w3c-cg/webdocs)\n\nAgenda: https://cryptpad.w3ctag.org/c
 ode/#/2/code/edit/QxLIbtQVnaTotVShwvw-X+tl/\n\nAgenda\n\n1. (Florian/Will)
  Security documentation\n    - Findings from surveying web developers on w
 eb security features\n    - Overview on finished sections: Attacks and Aut
 hentication\n\n2. (Florian/Will) Privacy documentation\n    - Feedback on 
 content outline https://docs.google.com/document/d/1PqupzU-IbqZqOBoNa32Knc
 rbnApxhMZY6WHYFRl2MQM/edit?tab=t.0#heading=h.cdq8kssa3b0a\n\n3. (Will) Cod
 ec documentation\n    - https://github.com/orgs/mdn/discussions/866\n\n4. 
 CG internals\n    - Time of this meeting at 5pm CET Tuesdays?\n    - Resul
 ts from Lola's survey: https://docs.google.com/forms/d/e/1FAIpQLSek_7IQua7
 NAEPp4BgIwuy-GAwdPiZTaxwAEsbuVDv3r4mAiA/viewform?usp=header\n\n    - We sh
 ould adovocate the slack channel for new members\n    - How about sending 
 a welcome email? https://github.com/w3c/onboarding\n\nJoining Instructions
 : https://meet.google.com/ozp-ucqs-rbj\n\nJoining Instructions\n\nTo join 
 the video meeting\, click this link: https://meet.google.com/ozp-ucqs-rbj\
 nOtherwise\, to join by phone\, dial +44 20 3956 3635 and enter this PIN: 
 475 455 308#\nTo view more phone numbers\, click this link: https://tel.me
 et/ozp-ucqs-rbj?hs=5
STATUS:CONFIRMED
CREATED:20260224T144546Z
LAST-MODIFIED:20260224T150416Z
SEQUENCE:2
ORGANIZER;CN=W3C Calendar;PARTSTAT=ACCEPTED;ROLE=NON-PARTICIPANT:mailto:nor
 eply@w3.org
ATTENDEE;CUTYPE=GROUP;ROLE=OPT-PARTICIPANT;RSVP=FALSE;CN=Documentation Comm
 unity Group:mailto:public-docs-cg@w3.org
RECURRENCE-ID;TZID=Etc/UTC:20260224T150000
END:VEVENT
BEGIN:VEVENT
UID:58345652-9f1b-405c-ba0e-d57fcaec2535
DTSTAMP:20250603T150616Z
SUMMARY:Docs CG Bi-Weekly Call
DTSTART;TZID=Etc/UTC:20250603T160000
DTEND;TZID=Etc/UTC:20250603T170000
DESCRIPTION:https://www.w3.org/events/meetings/58345652-9f1b-405c-ba0e-d57f
 caec2535/\n\nBi-weekly call for the Docs Community Group\, the agenda is u
 pdated through submitting issues on the [Docs CG GitHub](https://github.co
 m/w3c-cg/webdocs)\n\nJoining Instructions: https://meet.google.com/ghq-pkb
 z-jca\n\nJoining Instructions\n\nTo join the video meeting\, click this li
 nk: https://meet.google.com/ghq-pkbz-jca\nOtherwise\, to join by phone\, d
 ial +44 20 3957 2321 and enter this PIN: 237 575 343#\nTo view more phone 
 numbers\, click this link: https://tel.meet/ghq-pkbz-jca?hs=5
STATUS:CONFIRMED
CREATED:20250527T110917Z
LAST-MODIFIED:20250603T150616Z
SEQUENCE:1
ORGANIZER;CN=W3C Calendar;PARTSTAT=ACCEPTED;ROLE=NON-PARTICIPANT:mailto:nor
 eply@w3.org
ATTENDEE;CUTYPE=GROUP;ROLE=OPT-PARTICIPANT;RSVP=FALSE;CN=Documentation Comm
 unity Group:mailto:public-docs-cg@w3.org
RRULE:FREQ=WEEKLY;UNTIL=20250603T160000Z;INTERVAL=2;BYDAY=TU;WKST=MO
RELATED-TO:93f599c6-ac5e-4b31-9f75-80ac0e5fb76a
END:VEVENT
BEGIN:VEVENT
UID:58345652-9f1b-405c-ba0e-d57fcaec2535
DTSTAMP:20250527T175753Z
SUMMARY:Docs CG Bi-Weekly Call
DTSTART;TZID=Etc/UTC:20250603T160000
DTEND;TZID=Etc/UTC:20250603T170000
DESCRIPTION:https://www.w3.org/events/meetings/58345652-9f1b-405c-ba0e-d57f
 caec2535/20250603T160000/\n\nBi-weekly call for the Docs Community Group\,
  the agenda is updated through submitting issues on the [Docs CG GitHub](h
 ttps://github.com/w3c-cg/webdocs)\n\nAgenda: https://github.com/w3c-cg/web
 docs/blob/main/meetings/2025-06-03.md\n\nAgenda\n\n1. Welcoming more new f
 olks\n2. [Explore How Spec Explainers Are Used](https://github.com/w3c-cg/
 webdocs/issues/7)\n3. [Outreach](https://github.com/w3c-cg/webdocs/issues/
 9)\n4. [Web Doc Contribution Workshops](https://github.com/w3c-cg/webdocs/
 issues/8)\n\nJoining Instructions: https://meet.google.com/ghq-pkbz-jca\n\
 nJoining Instructions\n\nTo join the video meeting\, click this link: http
 s://meet.google.com/ghq-pkbz-jca\nOtherwise\, to join by phone\, dial +44 
 20 3957 2321 and enter this PIN: 237 575 343#\nTo view more phone numbers\
 , click this link: https://tel.meet/ghq-pkbz-jca?hs=5
STATUS:CONFIRMED
CREATED:20250527T150604Z
LAST-MODIFIED:20250527T175753Z
SEQUENCE:0
ORGANIZER;CN=W3C Calendar;PARTSTAT=ACCEPTED;ROLE=NON-PARTICIPANT:mailto:nor
 eply@w3.org
ATTENDEE;CUTYPE=GROUP;ROLE=OPT-PARTICIPANT;RSVP=FALSE;CN=Documentation Comm
 unity Group:mailto:public-docs-cg@w3.org
ATTENDEE;CN=Manu Sporny:mailto:msporny@digitalbazaar.com
RECURRENCE-ID;TZID=Etc/UTC:20250603T160000
END:VEVENT
END:VCALENDAR
