BEGIN:VCALENDAR
VERSION:2.0
PRODID:-//Sabre//Sabre VObject 4.5.8//EN
CALSCALE:GREGORIAN
LAST-MODIFIED:20240919T044557Z
BEGIN:VTIMEZONE
TZID:America/Los_Angeles
X-MICROSOFT-CDO-TZID:13
BEGIN:STANDARD
DTSTART:20231105T090000
TZOFFSETFROM:-0700
TZOFFSETTO:-0800
TZNAME:PST
END:STANDARD
BEGIN:STANDARD
DTSTART:20241103T090000
TZOFFSETFROM:-0700
TZOFFSETTO:-0800
TZNAME:PST
END:STANDARD
BEGIN:DAYLIGHT
DTSTART:20240310T100000
TZOFFSETFROM:-0800
TZOFFSETTO:-0700
TZNAME:PDT
END:DAYLIGHT
END:VTIMEZONE
BEGIN:VEVENT
UID:ef543b12-6e19-436a-90eb-06bcad98e310
DTSTAMP:20240919T044557Z
SUMMARY:Web Fonts Working Group
DTSTART;TZID=America/Los_Angeles:20240924T090000
DTEND;TZID=America/Los_Angeles:20240924T180000
DESCRIPTION:https://www.w3.org/events/meetings/ef543b12-6e19-436a-90eb-06bc
 ad98e310/\n\nHello WG\,\n\nPlease see the updated tentative agenda below. 
 We will discuss and finalize it at the meeting's opening.\nRemote particip
 ants - please note that this particular WebFonts WG meeting held during TP
 AC will be using a different Zoom Meeting ID (not one we typically use for
  our regularly scheduled WG calls).\n\nAgenda\n\nThis updated version is b
 ased on the [initial draft](https://lists.w3.org/Archives/Public/public-we
 bfonts-wg/2024Aug/0009.html) \n0. Extras / Introductions.\n1. IFT Specific
 ation overview.\n2. Detailed spec review\, in particular:\n- specification
  structure\;\n- completeness / missing info\;\n- clarity / ambiguity / inc
 onsistencies\;\n- missing normative requirements.\n<Lunch break>\n3. Encod
 er discussions: how to develop a high quality encoder implementation.\n4. 
 Review / discuss remaining [open issues](https://github.com/w3c/IFT/issues
 )\n5. Conformance Test Suite planning:\n- what parts of the spec need to b
 e tested (and how)\;\n- what parts (if any) would not be tested (and why).
 \n6. AOB.
STATUS:CONFIRMED
CREATED:20240614T163426Z
LAST-MODIFIED:20240919T044557Z
SEQUENCE:5
ORGANIZER;CN=W3C Calendar;PARTSTAT=ACCEPTED;ROLE=NON-PARTICIPANT:mailto:nor
 eply@w3.org
ATTENDEE;CUTYPE=GROUP;ROLE=OPT-PARTICIPANT;RSVP=FALSE;CN=Web Fonts Working 
 Group:mailto:public-webfonts-wg@w3.org
LOCATION:4 Concourse Level - Coronado
CATEGORIES:TPAC 2024,Group Meetings
END:VEVENT
END:VCALENDAR
