BEGIN:VCALENDAR
VERSION:2.0
PRODID:-//Sabre//Sabre VObject 4.5.8//EN
CALSCALE:GREGORIAN
LAST-MODIFIED:20220914T201752Z
BEGIN:VTIMEZONE
TZID:America/Vancouver
BEGIN:STANDARD
DTSTART:20211107T090000
TZOFFSETFROM:-0700
TZOFFSETTO:-0800
TZNAME:PST
END:STANDARD
BEGIN:STANDARD
DTSTART:20221106T090000
TZOFFSETFROM:-0700
TZOFFSETTO:-0800
TZNAME:PST
END:STANDARD
BEGIN:DAYLIGHT
DTSTART:20220313T100000
TZOFFSETFROM:-0800
TZOFFSETTO:-0700
TZNAME:PDT
END:DAYLIGHT
END:VTIMEZONE
BEGIN:VEVENT
UID:ee306db5-9954-4674-a61d-ff68498b4608
DTSTAMP:20220914T201752Z
SUMMARY:Element Capture
DTSTART;TZID=America/Vancouver:20220914T150000
DTEND;TZID=America/Vancouver:20220914T160000
DESCRIPTION:https://www.w3.org/events/meetings/ee306db5-9954-4674-a61d-ff68
 498b4608/\n\nAPI for capturing an Element as a video stream. Think [HTMLCa
 nvasElement.captureStream](https://developer.mozilla.org/en-US/docs/Web/AP
 I/HTMLCanvasElement/captureStream) for an arbitrary type of Element.\n\nAg
 enda\n\n**Facilitators & speakers**: Elad Alon\, Mark Foltz\n\n**Session t
 ype**: Short presentation followed by open discussion\n\n**Summary**: API 
 for capturing an Element as a video stream. Think [HTMLCanvasElement.captu
 reStream](https://developer.mozilla.org/en-US/docs/Web/API/HTMLCanvasEleme
 nt/captureStream) for an arbitrary type of Element.\n\n**Goals**:\n- Expla
 in use cases and relationship to other capture mechanisms.\n- Identify int
 erested parties and their requirements.\n- Discuss the inherent security c
 hallenges and possible solutions.\n\nJoining Instructions: https://us02web
 .zoom.us/j/3919679751?pwd=SGY5WFpSSFBRN0lyVFo0MGhFT1R3QT09\n\nChat\n\nhttp
 s://irc.w3.org/?channels=%23element-capture
STATUS:CONFIRMED
CREATED:20220913T013240Z
LAST-MODIFIED:20220914T201752Z
SEQUENCE:1
ORGANIZER;CN=W3C Calendar;PARTSTAT=ACCEPTED;ROLE=NON-PARTICIPANT:mailto:nor
 eply@w3.org
ATTENDEE;CN=christin cai:mailto:christincai@tencent.com
ATTENDEE;CN=Ada Rose Cannon:mailto:ada@ada.is
ATTENDEE;CN=Eric Carlson:mailto:eric.carlson@apple.com
ATTENDEE;CN=Karl Dubost:mailto:karl@la-grange.net
ATTENDEE;CN=Hakan Isbiliroglu:mailto:hisbilir@google.com
ATTENDEE;CN=Randell Jesup:mailto:rjesup@mozilla.com
ATTENDEE;CN=Ayşegül Yönet:mailto:aysegulyonet@gmail.com
LOCATION:Finback — 3rd floor Concourse
CATEGORIES:TPAC 2022,Breakout Sessions
END:VEVENT
END:VCALENDAR
