BEGIN:VCALENDAR
VERSION:2.0
PRODID:-//Sabre//Sabre VObject 4.5.8//EN
CALSCALE:GREGORIAN
LAST-MODIFIED:20260120T013404Z
BEGIN:VTIMEZONE
TZID:America/New_York
X-MICROSOFT-CDO-TZID:10
BEGIN:DAYLIGHT
DTSTART:20240310T070000
TZOFFSETFROM:-0500
TZOFFSETTO:-0400
TZNAME:EDT
END:DAYLIGHT
BEGIN:DAYLIGHT
DTSTART:20250309T070000
TZOFFSETFROM:-0500
TZOFFSETTO:-0400
TZNAME:EDT
END:DAYLIGHT
BEGIN:DAYLIGHT
DTSTART:20260308T070000
TZOFFSETFROM:-0500
TZOFFSETTO:-0400
TZNAME:EDT
END:DAYLIGHT
BEGIN:STANDARD
DTSTART:20241103T060000
TZOFFSETFROM:-0400
TZOFFSETTO:-0500
TZNAME:EST
END:STANDARD
BEGIN:STANDARD
DTSTART:20251102T060000
TZOFFSETFROM:-0400
TZOFFSETTO:-0500
TZNAME:EST
END:STANDARD
BEGIN:STANDARD
DTSTART:20261101T060000
TZOFFSETFROM:-0400
TZOFFSETTO:-0500
TZNAME:EST
END:STANDARD
END:VTIMEZONE
BEGIN:VEVENT
UID:ed630a3d-7581-4053-9978-75949ad42f2a
DTSTAMP:20241212T142902Z
SUMMARY:Geosocial Task Force Call
DTSTART;TZID=America/New_York:20241212T130000
DTEND;TZID=America/New_York:20241212T140000
DESCRIPTION:https://www.w3.org/events/meetings/ed630a3d-7581-4053-9978-7594
 9ad42f2a/\n\nPlease join us for this month's Geosocial Task Force Call.\n\
 nTF repo: https://github.com/swicg/geosocial\n\nJoining Instructions: http
 s://meet.jit.si/social-web-cg-geosocial-tf
STATUS:CONFIRMED
CREATED:20241212T142901Z
LAST-MODIFIED:20241212T142902Z
SEQUENCE:0
ORGANIZER;CN=W3C Calendar;PARTSTAT=ACCEPTED;ROLE=NON-PARTICIPANT:mailto:nor
 eply@w3.org
ATTENDEE;CUTYPE=GROUP;ROLE=OPT-PARTICIPANT;RSVP=FALSE;CN=Social Web Incubat
 or Community Group:mailto:public-swicg@w3.org
RRULE:FREQ=MONTHLY;UNTIL=20270101T180000Z;INTERVAL=1;BYDAY=TH;BYSETPOS=2;WK
 ST=MO
END:VEVENT
BEGIN:VEVENT
UID:ed630a3d-7581-4053-9978-75949ad42f2a
DTSTAMP:20250612T172958Z
SUMMARY:Geosocial Task Force Call
DTSTART;TZID=America/New_York:20250710T130000
DTEND;TZID=America/New_York:20250710T140000
DESCRIPTION:https://www.w3.org/events/meetings/ed630a3d-7581-4053-9978-7594
 9ad42f2a/20250710T130000/\n\nPlease join us for this month's Geosocial Tas
 k Force Call.\n\nTF repo: https://github.com/swicg/geosocial\n\nJoining In
 structions: https://meet.jit.si/social-web-cg-geosocial-tf
STATUS:CONFIRMED
CREATED:20250612T172958Z
LAST-MODIFIED:20250612T172958Z
SEQUENCE:0
ORGANIZER;CN=W3C Calendar;PARTSTAT=ACCEPTED;ROLE=NON-PARTICIPANT:mailto:nor
 eply@w3.org
ATTENDEE;CUTYPE=GROUP;ROLE=OPT-PARTICIPANT;RSVP=FALSE;CN=Social Web Incubat
 or Community Group:mailto:public-swicg@w3.org
ATTENDEE;CN=Konstantin Kostov:mailto:konstantin@headbright.be
RECURRENCE-ID;TZID=America/New_York:20250710T130000
END:VEVENT
BEGIN:VEVENT
UID:ed630a3d-7581-4053-9978-75949ad42f2a
DTSTAMP:20250718T085215Z
SUMMARY:Geosocial Task Force Call
DTSTART;TZID=America/New_York:20250814T130000
DTEND;TZID=America/New_York:20250814T140000
DESCRIPTION:https://www.w3.org/events/meetings/ed630a3d-7581-4053-9978-7594
 9ad42f2a/20250814T130000/\n\nPlease join us for this month's Geosocial Tas
 k Force Call.\n\nTF repo: https://github.com/swicg/geosocial\n\nJoining In
 structions: https://meet.jit.si/social-web-cg-geosocial-tf
STATUS:CONFIRMED
CREATED:20250718T085215Z
LAST-MODIFIED:20250718T085215Z
SEQUENCE:0
ORGANIZER;CN=W3C Calendar;PARTSTAT=ACCEPTED;ROLE=NON-PARTICIPANT:mailto:nor
 eply@w3.org
ATTENDEE;CUTYPE=GROUP;ROLE=OPT-PARTICIPANT;RSVP=FALSE;CN=Social Web Incubat
 or Community Group:mailto:public-swicg@w3.org
ATTENDEE;CN=Schuyler Erle:mailto:schuyler.erle@gmail.com
ATTENDEE;CN=ivan minutillo:mailto:minutilloivan@pm.me
RECURRENCE-ID;TZID=America/New_York:20250814T130000
END:VEVENT
BEGIN:VEVENT
UID:ed630a3d-7581-4053-9978-75949ad42f2a
DTSTAMP:20260120T013404Z
SUMMARY:Geosocial Task Force Call
DTSTART;TZID=America/New_York:20260212T130000
DTEND;TZID=America/New_York:20260212T140000
DESCRIPTION:https://www.w3.org/events/meetings/ed630a3d-7581-4053-9978-7594
 9ad42f2a/20260212T130000/\n\nPlease join us for this month's Geosocial Tas
 k Force Call.\n\nTF repo: https://github.com/swicg/geosocial\n\nJoining In
 structions: https://meet.jit.si/social-web-cg-geosocial-tf
STATUS:CONFIRMED
CREATED:20260120T013404Z
LAST-MODIFIED:20260120T013404Z
SEQUENCE:0
ORGANIZER;CN=W3C Calendar;PARTSTAT=ACCEPTED;ROLE=NON-PARTICIPANT:mailto:nor
 eply@w3.org
ATTENDEE;CUTYPE=GROUP;ROLE=OPT-PARTICIPANT;RSVP=FALSE;CN=Social Web Incubat
 or Community Group:mailto:public-swicg@w3.org
ATTENDEE;CN=Martijn van Exel:mailto:m@rtijn.org
RECURRENCE-ID;TZID=America/New_York:20260212T130000
END:VEVENT
END:VCALENDAR
