BEGIN:VCALENDAR
VERSION:2.0
PRODID:-//Sabre//Sabre VObject 4.5.8//EN
CALSCALE:GREGORIAN
LAST-MODIFIED:20241021T171753Z
BEGIN:VTIMEZONE
TZID:Etc/UTC
BEGIN:STANDARD
DTSTART:20231031T150000
TZOFFSETFROM:+0000
TZOFFSETTO:+0000
TZNAME:UTC
END:STANDARD
END:VTIMEZONE
BEGIN:VEVENT
UID:ed2d345a-6967-473b-a0de-6db350b741a9
DTSTAMP:20241021T171753Z
SUMMARY:WebView CG Meeting
DTSTART;TZID=Etc/UTC:20241025T150000
DTEND;TZID=Etc/UTC:20241025T160000
DESCRIPTION:https://www.w3.org/events/meetings/ed2d345a-6967-473b-a0de-6db3
 50b741a9/\n\nRecurring CG meeting on a monthly basis. Let's catch up on TP
 AC\, caniwebview and our task force for behavioral docs\n\nAgenda: https:/
 /bit.ly/wv-cg-25-oct-2024\n\nAgenda\n\n* TPAC 2024 recap and action items\
 n* New stuff for caniwebview\n* Review [impact](https://docs.google.com/do
 cument/d/16oqOKJ3iuuyF-yt4TgUQAH49daRFBiK0zg636jdV1Ow/edit?tab=t.0#heading
 =h.reyjidskwuws) of WebViews on baseline\n* Task Force\n* Anything else
STATUS:CONFIRMED
CREATED:20241016T070702Z
LAST-MODIFIED:20241021T171753Z
SEQUENCE:0
ORGANIZER;CN=W3C Calendar;PARTSTAT=ACCEPTED;ROLE=NON-PARTICIPANT:mailto:nor
 eply@w3.org
ATTENDEE;CUTYPE=GROUP;ROLE=OPT-PARTICIPANT;RSVP=FALSE;CN=WebView Community 
 Group:mailto:public-webview@w3.org
END:VEVENT
END:VCALENDAR
