BEGIN:VCALENDAR
VERSION:2.0
PRODID:-//Sabre//Sabre VObject 4.5.8//EN
CALSCALE:GREGORIAN
LAST-MODIFIED:20240130T181712Z
BEGIN:VTIMEZONE
TZID:America/New_York
X-MICROSOFT-CDO-TZID:10
BEGIN:DAYLIGHT
DTSTART:20230312T070000
TZOFFSETFROM:-0500
TZOFFSETTO:-0400
TZNAME:EDT
END:DAYLIGHT
BEGIN:DAYLIGHT
DTSTART:20240310T070000
TZOFFSETFROM:-0500
TZOFFSETTO:-0400
TZNAME:EDT
END:DAYLIGHT
BEGIN:STANDARD
DTSTART:20231105T060000
TZOFFSETFROM:-0400
TZOFFSETTO:-0500
TZNAME:EST
END:STANDARD
END:VTIMEZONE
BEGIN:VEVENT
UID:ecffaf8b-8aa7-4acc-b238-6088a86cf12f
DTSTAMP:20240130T181712Z
SUMMARY:ARIA Working Group weekly meeting
DTSTART;TZID=America/New_York:20240201T130000
DTEND;TZID=America/New_York:20240201T140000
DESCRIPTION:https://www.w3.org/events/meetings/ecffaf8b-8aa7-4acc-b238-6088
 a86cf12f/20240201T130000/\n\n\n\nAgenda\n\n* [New Issue Triage](http://tin
 yurl.com/5a62p92s)\n* [New PR Triage](http://tinyurl.com/32nws8e5)\n* [WPT
  Open PRs](https://github.com/search?q=repo%3Aweb-platform-tests%2Fwpt+is%
 3Aopen+label%3Awai-aria%2Caccname&type=pullrequests)\n* [Deep Dive plannin
 g](https://bit.ly/aria-meaty-topic-candidates)\n\n* [Consider allowing CSS
  `inline` display to modify the whitespace character joins in accessible n
 ame computation ](https://github.com/w3c/accname/issues/225)\n* [AccName R
 ole Traversal Proposal](https://github.com/w3c/aria/issues/1821) and  [ARI
 A Spec could be more flexible when elements with "nameFrom:author" are lef
 t unlabeled by the author](https://github.com/w3c/accname/issues/138)
STATUS:CONFIRMED
CREATED:20240130T181709Z
LAST-MODIFIED:20240130T181712Z
SEQUENCE:2
ORGANIZER;CN=W3C Calendar;PARTSTAT=ACCEPTED;ROLE=NON-PARTICIPANT:mailto:nor
 eply@w3.org
ATTENDEE;CUTYPE=GROUP;ROLE=OPT-PARTICIPANT;RSVP=FALSE;CN=Accessible Rich In
 ternet Applications Working Group:mailto:public-aria@w3.org
RECURRENCE-ID;TZID=America/New_York:20240201T130000
END:VEVENT
END:VCALENDAR
