BEGIN:VCALENDAR
VERSION:2.0
PRODID:-//Sabre//Sabre VObject 4.5.8//EN
CALSCALE:GREGORIAN
LAST-MODIFIED:20231205T183643Z
BEGIN:VTIMEZONE
TZID:America/New_York
X-MICROSOFT-CDO-TZID:10
BEGIN:DAYLIGHT
DTSTART:20230312T070000
TZOFFSETFROM:-0500
TZOFFSETTO:-0400
TZNAME:EDT
END:DAYLIGHT
BEGIN:DAYLIGHT
DTSTART:20240310T070000
TZOFFSETFROM:-0500
TZOFFSETTO:-0400
TZNAME:EDT
END:DAYLIGHT
BEGIN:STANDARD
DTSTART:20231105T060000
TZOFFSETFROM:-0400
TZOFFSETTO:-0500
TZNAME:EST
END:STANDARD
END:VTIMEZONE
BEGIN:VEVENT
UID:ecffaf8b-8aa7-4acc-b238-6088a86cf12f
DTSTAMP:20231205T183643Z
SUMMARY:ARIA Working Group weekly meeting
DTSTART;TZID=America/New_York:20231207T130000
DTEND;TZID=America/New_York:20231207T140000
DESCRIPTION:https://www.w3.org/events/meetings/ecffaf8b-8aa7-4acc-b238-6088
 a86cf12f/20231207T130000/\n\n\n\nAgenda\n\n* [New Issue Triage](https://bi
 t.ly/47UTwJm)\n* [New PR Triage](https://bit.ly/3RsFsRD)\n* [WPT Open PRs]
 (https://github.com/search?q=repo%3Aweb-platform-tests%2Fwpt+is%3Aopen+lab
 el%3Awai-aria%2Caccname&type=pullrequests)\n* [describe grouping (and nami
 ng of the group) for exclusive accordions <details name>](https://github.c
 om/w3c/html-aam/issues/509)\n* [Consider a mechanism to associate controls
  without an explicit grouping](https://github.com/w3c/aria/issues/1721)\n*
  [handling multi-selection / selection confirmation of action for menus](h
 ttps://github.com/w3c/aria/issues/2067)\n* [aria-controls spec update](htt
 ps://github.com/w3c/aria/pull/1996)
STATUS:CONFIRMED
CREATED:20231205T183640Z
LAST-MODIFIED:20231205T183643Z
SEQUENCE:2
ORGANIZER;CN=W3C Calendar;PARTSTAT=ACCEPTED;ROLE=NON-PARTICIPANT:mailto:nor
 eply@w3.org
ATTENDEE;CUTYPE=GROUP;ROLE=OPT-PARTICIPANT;RSVP=FALSE;CN=Accessible Rich In
 ternet Applications Working Group:mailto:public-aria@w3.org
RECURRENCE-ID;TZID=America/New_York:20231207T130000
END:VEVENT
END:VCALENDAR
