BEGIN:VCALENDAR
VERSION:2.0
PRODID:-//Sabre//Sabre VObject 4.5.8//EN
CALSCALE:GREGORIAN
LAST-MODIFIED:20231107T182212Z
BEGIN:VTIMEZONE
TZID:America/New_York
X-MICROSOFT-CDO-TZID:10
BEGIN:DAYLIGHT
DTSTART:20230312T070000
TZOFFSETFROM:-0500
TZOFFSETTO:-0400
TZNAME:EDT
END:DAYLIGHT
BEGIN:DAYLIGHT
DTSTART:20240310T070000
TZOFFSETFROM:-0500
TZOFFSETTO:-0400
TZNAME:EDT
END:DAYLIGHT
BEGIN:STANDARD
DTSTART:20231105T060000
TZOFFSETFROM:-0400
TZOFFSETTO:-0500
TZNAME:EST
END:STANDARD
END:VTIMEZONE
BEGIN:VEVENT
UID:ecffaf8b-8aa7-4acc-b238-6088a86cf12f
DTSTAMP:20231107T182212Z
SUMMARY:ARIA Working Group weekly meeting
DTSTART;TZID=America/New_York:20231109T130000
DTEND;TZID=America/New_York:20231109T140000
DESCRIPTION:https://www.w3.org/events/meetings/ecffaf8b-8aa7-4acc-b238-6088
 a86cf12f/20231109T130000/\n\n* Holiday Schedule: No meeting Nov 23\, Dec 2
 1\, Dec 28\n\nAgenda\n\n* [New Issue Triage](https://bit.ly/45Y6btu)\n* [N
 ew PR Triage](https://bit.ly/49nWLu9)\n* [WPT Open PRs](https://bit.ly/ARI
 A-WPT)\n* [Deep Dive planning](https://bit.ly/aria-meaty-topic-candidates)
 \n  - [Title should not contribute to accName for generic elements](https:
 //github.com/w3c/html-aam/issues/506)\n* [Ambiguity in AccName LabelledBy 
 section: "[if] current node is not already 'part of' [sic]…traversal"](h
 ttps://github.com/w3c/accname/issues/209)\n* [aria-hidden=false](https://g
 ithub.com/w3c/aria/issues/1256#issuecomment-1799271506)\n* [[Question] wai
 -aria/role/listbox-roles.html wpt test](https://github.com/w3c/aria/issues
 /2012)\n* [aria-controls spec update](https://github.com/w3c/aria/pull/199
 6)\n* [Windows/Mac differences in presentation of some HTML-AAM implicit r
 oles](https://github.com/w3c/html-aam/issues/467)\n* [Consider a mechanism
  to associate controls without an explicit grouping](https://github.com/w3
 c/aria/issues/1721)\n* [Consider creation of a fieldsize/maxlength propert
 y](https://github.com/w3c/aria/issues/1119)\n* [ARIAMixin has many integer
  attributes with string types and uses DOMString? incorrectly](https://git
 hub.com/w3c/aria/issues/1110)\n* [Hierarchy of treeitems per aria level on
 ly?](https://github.com/w3c/aria/issues/2065)\n* [describe grouping (and n
 aming of the group) for exclusive accordions <details name>](https://githu
 b.com/w3c/html-aam/issues/509)
STATUS:CONFIRMED
CREATED:20231107T182209Z
LAST-MODIFIED:20231107T182212Z
SEQUENCE:2
ORGANIZER;CN=W3C Calendar;PARTSTAT=ACCEPTED;ROLE=NON-PARTICIPANT:mailto:nor
 eply@w3.org
ATTENDEE;CUTYPE=GROUP;ROLE=OPT-PARTICIPANT;RSVP=FALSE;CN=Accessible Rich In
 ternet Applications Working Group:mailto:public-aria@w3.org
RECURRENCE-ID;TZID=America/New_York:20231109T130000
END:VEVENT
END:VCALENDAR
