BEGIN:VCALENDAR
VERSION:2.0
PRODID:-//Sabre//Sabre VObject 4.5.8//EN
CALSCALE:GREGORIAN
LAST-MODIFIED:20231026T180152Z
BEGIN:VTIMEZONE
TZID:America/New_York
X-MICROSOFT-CDO-TZID:10
BEGIN:STANDARD
DTSTART:20221106T060000
TZOFFSETFROM:-0400
TZOFFSETTO:-0500
TZNAME:EST
END:STANDARD
BEGIN:STANDARD
DTSTART:20231105T060000
TZOFFSETFROM:-0400
TZOFFSETTO:-0500
TZNAME:EST
END:STANDARD
BEGIN:DAYLIGHT
DTSTART:20230312T070000
TZOFFSETFROM:-0500
TZOFFSETTO:-0400
TZNAME:EDT
END:DAYLIGHT
END:VTIMEZONE
BEGIN:VEVENT
UID:ecffaf8b-8aa7-4acc-b238-6088a86cf12f
DTSTAMP:20231026T180152Z
SUMMARY:ARIA Working Group weekly meeting
DTSTART;TZID=America/New_York:20231026T130000
DTEND;TZID=America/New_York:20231026T140000
DESCRIPTION:https://www.w3.org/events/meetings/ecffaf8b-8aa7-4acc-b238-6088
 a86cf12f/20231026T130000/\n\n\n\nAgenda\n\n* [New Issue Triage](https://ti
 nyurl.com/wanbd6t5)\n* [New PR Triage](https://tinyurl.com/2p92nm86)\n* [W
 PT Open PRs](https://github.com/search?q=repo%3Aweb-platform-tests%2Fwpt+i
 s%3Aopen+label%3Awai-aria%2Caccname&type=pullrequests)\n* [Deep Dive plann
 ing](https://bit.ly/aria-meaty-topic-candidates)\n\n* [Requesting changes 
 to new implementation-blocked merging process](https://github.com/w3c/aria
 /issues/2055)\n* [Update from PR #1018 for nameFrom: heading](https://gith
 ub.com/w3c/aria/pull/1860)\n* [associationlist and related roles have tedi
 ously long names](https://github.com/w3c/aria/issues/1662)\n* [describe gr
 ouping (and naming of the group) for exclusive accordions <details name>](
 https://github.com/w3c/html-aam/issues/509)\n* ["Radio" role exemption fro
 m required context](https://github.com/w3c/aria/issues/2058)\n* [Title sho
 uld not contribute to accName for generic elements](https://github.com/w3c
 /html-aam/issues/506)\n* [ARIAMixin has many integer attributes with strin
 g types and uses DOMString? incorrectly](https://github.com/w3c/aria/issue
 s/1110)\n* [Hierarchy of treeitems per aria level only?](https://github.co
 m/w3c/aria/issues/2065)\n* [Ambiguous cascade of role invalidation rules (
 including dependency label computation) complicates implementations](https
 ://github.com/w3c/aria/issues/2064)\n* [Ambiguous but normative requiremen
 t about hidden nodes is hidden by default in AccName](https://github.com/w
 3c/accname/issues/211)\n* [Ambiguity in AccName LabelledBy section: "[if] 
 current node is not already 'part of' [sic]…traversal"](https://github.c
 om/w3c/accname/issues/209)
STATUS:CONFIRMED
CREATED:20231024T172019Z
LAST-MODIFIED:20231026T180152Z
SEQUENCE:2
ORGANIZER;CN=W3C Calendar;PARTSTAT=ACCEPTED;ROLE=NON-PARTICIPANT:mailto:nor
 eply@w3.org
ATTENDEE;CUTYPE=GROUP;ROLE=OPT-PARTICIPANT;RSVP=FALSE;CN=Accessible Rich In
 ternet Applications Working Group:mailto:public-aria@w3.org
RECURRENCE-ID;TZID=America/New_York:20231026T130000
END:VEVENT
END:VCALENDAR
