BEGIN:VCALENDAR
VERSION:2.0
PRODID:-//Sabre//Sabre VObject 4.5.8//EN
CALSCALE:GREGORIAN
LAST-MODIFIED:20230418T172417Z
BEGIN:VTIMEZONE
TZID:America/New_York
X-MICROSOFT-CDO-TZID:10
BEGIN:STANDARD
DTSTART:20221106T060000
TZOFFSETFROM:-0400
TZOFFSETTO:-0500
TZNAME:EST
END:STANDARD
BEGIN:STANDARD
DTSTART:20231105T060000
TZOFFSETFROM:-0400
TZOFFSETTO:-0500
TZNAME:EST
END:STANDARD
BEGIN:DAYLIGHT
DTSTART:20230312T070000
TZOFFSETFROM:-0500
TZOFFSETTO:-0400
TZNAME:EDT
END:DAYLIGHT
END:VTIMEZONE
BEGIN:VEVENT
UID:ecffaf8b-8aa7-4acc-b238-6088a86cf12f
DTSTAMP:20230418T172417Z
SUMMARY:ARIA Working Group weekly meeting
DTSTART;TZID=America/New_York:20230420T130000
DTEND;TZID=America/New_York:20230420T140000
DESCRIPTION:https://www.w3.org/events/meetings/ecffaf8b-8aa7-4acc-b238-6088
 a86cf12f/20230420T130000/\n\n\n\nAgenda\n\n* [New Issue Triage](https://bi
 t.ly/3GQaMnK)\n* [New PR Triage](https://bit.ly/3A6l2Vh)\n* [May F2F](http
 s://github.com/w3c/aria/wiki/Spring-2023-F2F)\n\n* [Consider adding a 'hea
 der' and 'footer' role](https://github.com/w3c/aria/issues/1915)\n* [Windo
 ws/Mac differences in presentation of some HTML-AAM implicit roles](https:
 //github.com/w3c/html-aam/issues/467)\n\n* [1.3 blocking issues](https://g
 ithub.com/w3c/aria/issues?q=is%3Aopen+is%3Aissue+milestone%3A%22ARIA+1.3%2
 2+sort%3Acreated-asc+label%3A1.3-Blocking+)
STATUS:CONFIRMED
CREATED:20230418T172152Z
LAST-MODIFIED:20230418T172417Z
SEQUENCE:2
ORGANIZER;CN=W3C Calendar;PARTSTAT=ACCEPTED;ROLE=NON-PARTICIPANT:mailto:nor
 eply@w3.org
ATTENDEE;CUTYPE=GROUP;ROLE=OPT-PARTICIPANT;RSVP=FALSE;CN=Accessible Rich In
 ternet Applications Working Group:mailto:public-aria@w3.org
RECURRENCE-ID;TZID=America/New_York:20230420T130000
END:VEVENT
END:VCALENDAR
